BEGIN:VCALENDAR
PRODID:-//commercialrealestate.com.au//NONSGML ical.net 4.0//EN
VERSION:2.0
BEGIN:VEVENT
DESCRIPTION:Turn key add on or starter\nElders Wagga are pleased to bring 
 to the market 'Burnside'\, as 2388Ha (588*Ac) property located some 45kms
  south of Wagga Wagga at Mangoplah.\n\nSet across fertile creek flats ris
 ing to gently undulating country\, this highly productive holding present
 s an outstanding opportunity for grazing or mixed farming. The property b
 oasts excellent pastures supported by a strong history of inputs\, with a
 pproximately 92% considered arableideal for efficient operations and futu
 re development.\n\nWater security is a standout feature\, with the farm e
 ffectively drought-proofed via an equipped bore\, multiple dams\, and a s
 easonal creek running through the landscape. Extensive tree lines and nat
 ive timber are thoughtfully retained\, offering natural shade and shelter
  for livestock while enhancing the property's character.\n\nInfrastructur
 e is well established\, including containment lots fitted with troughs\, 
 modern steel sheep yards\, functional cattle yards\, a hay shed\, and sil
 oseverything needed for a streamlined agricultural enterprise.\n\nPositio
 ned on an elevated site\, the comfortable 1950s three-bedroom cottage enj
 oys sweeping views over the property\, providing a peaceful rural lifesty
 le or a practical base for on-farm management.\n\nCombining productivity\
 , water reliability\, and solid infrastructure\, this is a versatile and 
 appealing rural asset ready to perform from day one.\n\n'Burnside' will g
 o to auction on Thursday 4th June 2026 at the Lawson Riverside Suites in 
 Wagga Wagga at 11am.\n\nTo obtain a copy of the Investment Memorandum\, o
 r to arrange an inspection\, please contact selling agents Angus Macleod 
 or Lauren Roche.
DTEND:20260604T120000
DTSTAMP:20260424T105701Z
DTSTART:20260604T110000
LOCATION:Lawson Riverside Suites
SEQUENCE:0
SUMMARY:Auction: 261 Paper Forest Road\, Mangoplah NSW
UID:CRE-2020788926-Auction
X-ALT-DESC;FMTTYPE=text/html:<!DOCTYPE HTML PUBLIC "-//W3C//DTD HTML 3.2//EN"><html><head><
 title></title></head><body><P DIR=LTR>Turn key add on or starter <br/> El
 ders Wagga are pleased to bring to the market 'Burnside'\, as 2388Ha (588
 *Ac) property located some 45kms south of Wagga Wagga at Mangoplah. <br/>
   <br/> Set across fertile creek flats rising to gently undulating countr
 y\, this highly productive holding presents an outstanding opportunity fo
 r grazing or mixed farming. The property boasts excellent pastures suppor
 ted by a strong history of inputs\, with approximately 92% considered ara
 bleideal for efficient operations and future development. <br/>  <br/> Wa
 ter security is a standout feature\, with the farm effectively drought-pr
 oofed via an equipped bore\, multiple dams\, and a seasonal creek running
  through the landscape. Extensive tree lines and native timber are though
 tfully retained\, offering natural shade and shelter for livestock while 
 enhancing the property's character. <br/>  <br/> Infrastructure is well e
 stablished\, including containment lots fitted with troughs\, modern stee
 l sheep yards\, functional cattle yards\, a hay shed\, and siloseverythin
 g needed for a streamlined agricultural enterprise. <br/>  <br/> Position
 ed on an elevated site\, the comfortable 1950s three-bedroom cottage enjo
 ys sweeping views over the property\, providing a peaceful rural lifestyl
 e or a practical base for on-farm management. <br/>  <br/> Combining prod
 uctivity\, water reliability\, and solid infrastructure\, this is a versa
 tile and appealing rural asset ready to perform from day one. <br/>  <br/
 > 'Burnside' will go to auction on Thursday 4th June 2026 at the Lawson R
 iverside Suites in Wagga Wagga at 11am. <br/>  <br/> To obtain a copy of 
 the Investment Memorandum\, or to arrange an inspection\, please contact 
 selling agents Angus Macleod or Lauren Roche.</P></body></html>
END:VEVENT
END:VCALENDAR
