BEGIN:VCALENDAR
PRODID:-//commercialrealestate.com.au//NONSGML ical.net 4.0//EN
VERSION:2.0
BEGIN:VEVENT
DESCRIPTION:Hinterland Escape with Dual Living\nSet within the rolling gre
 en hills of the Byron Hinterland\, this beautifully renovated and immacul
 ately maintained 30-acre lifestyle property offers a rare blend of privac
 y\, productivity and peaceful country living.\n\nPositioned in the quiet 
 surrounds of Corndale\, just 5 minutes from the charming village of Clune
 s and only 25 minutes to the beaches of Byron Bay\, this is a true slice 
 of Australian paradise.\n\nThe property features two fully self-contained
  residences\, making it ideal for extended family\, guest accommodation o
 r passive income.\n\nThe main east-facing residence is a quality-built\, 
 rendered brick home that has been thoughtfully renovated to create a ligh
 t-filled and contemporary living space. Offering three generous bedrooms\
 , multiple living zones and high ceilings\, the home flows seamlessly to 
 a wide\, covered veranda capturing elevated views across the creek and su
 rrounding valley. A modern kitchen and bathroom\, separate laundry\, ampl
 e storage\, air conditioning\, solar hot water and a slow combustion fire
 place ensure comfort and functionality year-round.\n\nPrivately set and e
 qually impressive\, the separate north-facing studio residence has also b
 een beautifully renovated. It features a large bedroom\, spacious living 
 area with vaulted ceilings\, a new kitchen with an oversized pantry\, and
  a well-appointed bathroom and laundry. With its own power\, gas\, entran
 ce and fenced garden\, it offers complete independence-perfect for rental
  income\, guests or staff accommodation.\n\nThe land itself is fully fenc
 ed and well suited to horses\, cattle or a combination of both. Infrastru
 cture is a standout\, including multiple sheds and stables\, cattle yards
 \, and excellent water security with rainwater tanks\, pumps and trough s
 ystems in place.\n\nA picturesque creek boundary enhances the natural bea
 uty of the property\, while established gardens\, citrus trees and over 6
 \,000 planted native trees create a thriving habitat for local wildlife\,
  including koalas\, echidnas and native birdlife.\n\nDespite its peaceful
 \, private setting\, the property remains conveniently located-just 15 mi
 nutes to Bangalow and Lismore\, and within easy reach of Ballina and the 
 airport.\n\nA rare opportunity to secure a versatile\, income-producing h
 interland property with all the elements of modern country living in one 
 of the Northern Rivers' most sought-after regions.
DTEND:20260526T190000
DTSTAMP:20260424T102502Z
DTSTART:20260526T180000
LOCATION:Casino RSM Club
SEQUENCE:0
SUMMARY:Auction: 445 Cosy Camp Road\, Corndale NSW
UID:CRE-2020788880-Auction
X-ALT-DESC;FMTTYPE=text/html:<!DOCTYPE HTML PUBLIC "-//W3C//DTD HTML 3.2//EN"><html><head><
 title></title></head><body><P DIR=LTR>Hinterland Escape with Dual Living 
 <br/> Set within the rolling green hills of the Byron Hinterland\, this b
 eautifully renovated and immaculately maintained 30-acre lifestyle proper
 ty offers a rare blend of privacy\, productivity and peaceful country liv
 ing.\n <br/> \n <br/> Positioned in the quiet surrounds of Corndale\, jus
 t 5 minutes from the charming village of Clunes and only 25 minutes to th
 e beaches of Byron Bay\, this is a true slice of Australian paradise.\n <
 br/> \n <br/> The property features two fully self-contained residences\,
  making it ideal for extended family\, guest accommodation or passive inc
 ome.\n <br/> \n <br/> The main east-facing residence is a quality-built\,
  rendered brick home that has been thoughtfully renovated to create a lig
 ht-filled and contemporary living space. Offering three generous bedrooms
 \, multiple living zones and high ceilings\, the home flows seamlessly to
  a wide\, covered veranda capturing elevated views across the creek and s
 urrounding valley. A modern kitchen and bathroom\, separate laundry\, amp
 le storage\, air conditioning\, solar hot water and a slow combustion fir
 eplace ensure comfort and functionality year-round.\n <br/> \n <br/> Priv
 ately set and equally impressive\, the separate north-facing studio resid
 ence has also been beautifully renovated. It features a large bedroom\, s
 pacious living area with vaulted ceilings\, a new kitchen with an oversiz
 ed pantry\, and a well-appointed bathroom and laundry. With its own power
 \, gas\, entrance and fenced garden\, it offers complete independence-per
 fect for rental income\, guests or staff accommodation.\n <br/> \n <br/> 
 The land itself is fully fenced and well suited to horses\, cattle or a c
 ombination of both. Infrastructure is a standout\, including multiple she
 ds and stables\, cattle yards\, and excellent water security with rainwat
 er tanks\, pumps and trough systems in place.\n <br/> \n <br/> A pictures
 que creek boundary enhances the natural beauty of the property\, while es
 tablished gardens\, citrus trees and over 6\,000 planted native trees cre
 ate a thriving habitat for local wildlife\, including koalas\, echidnas a
 nd native birdlife.\n <br/> \n <br/> Despite its peaceful\, private setti
 ng\, the property remains conveniently located-just 15 minutes to Bangalo
 w and Lismore\, and within easy reach of Ballina and the airport.\n <br/>
  \n <br/> A rare opportunity to secure a versatile\, income-producing hin
 terland property with all the elements of modern country living in one of
  the Northern Rivers' most sought-after regions.</P></body></html>
END:VEVENT
END:VCALENDAR
