BEGIN:VCALENDAR
PRODID:-//commercialrealestate.com.au//NONSGML ical.net 4.0//EN
VERSION:2.0
BEGIN:VEVENT
DESCRIPTION:Boutique Accommodation Estate in Mudgee  Luxury Living Meets S
 trong Returns\nLocated just 7km north of Mudgee in the well-regarded wine
 ry & cellar door precinct\, this property of 9.4 Hectares (23 acres) feat
 ures a private residence and extensive accommodation and living space tha
 t delivers and an exceptional fusion of lifestyle\, luxury\, and income p
 otential. Designed by acclaimed local architect Barbara Hickson and built
  in 2004 by Ian Birchall\, the property has operated as a very successful
  Airbnb while also functioning as a refined private residence-perfectly s
 uited to those seeking versatility\, privacy\, and premium rural living.\
 n\nMain Residence:\n\n- Elegant lounge room with vaulted ceilings\, slow 
 combustion fireplace\, and ceiling fans.\n- Reverse cycle air conditionin
 g throughout.\n- Polished mixed hardwood flooring.\n- Formal dining room 
 with vaulted ceilings.\n- Contemporary kitchen with stone benchtops\, gla
 ss splashback\, stainless steel appliances\, and walk-in pantry.\n- Large
  laundry with additional walk-in storage.\n- Separate formal study.\n- Th
 ree well-appointed bedrooms\, including master with walk-in robe and ensu
 ite.\n- Private\, covered outdoor entertaining deck.\n- Carport accommoda
 tion.\n\nAccommodation Wing:\n\n- Four luxury guest suites\, each with pr
 ivate ensuite (one featuring a spa bath).\n- All rooms have the benefit o
 f balcony access offering exceptional valley views.\n- Individual reverse
  cycle air conditioning and continuous flow gas hot water systems to each
  suite.\n- Bright light filled spacious guest lounge with timber flooring
 \, kitchenette\, reverse cycle air conditioning\, and a large balcony.\n\
 nDownstairs Retreat:\n\n- Large self contained suite presents as an open 
 plan (unfurnished at the time of listing) with a new ensuite and walk-in 
 robe.\n- Kitchenette installed and serviced with power and water.\n- Idea
 l for extended long term occupation by extended family\, accommodation ma
 nager\, or separate private suite for additional rented accommodation.\n\
 nProperty Details:\n\n- Approx 9.46 Hectares (23 acres) of natural bush l
 oaded with wildlife. Clear vantage points with amazing views ideal for th
 e placement of additional cabin accommodation or the construction of a sh
 ed (STCA).\n- Previously the entire premises has been operated as short t
 erm rented accommodation and over time\, partially lived in by the owners
  and partially rented  very flexible and the choices are all yours.\n- La
 rge inground saltwater pool with heated spa.\n- Mains power connected and
  2 x 5kW solar systems (40 panels) feeding back to the grid. Telstra mobi
 le telephone service is available.\n- Extensive covered parking for up to
  8 vehicles.\n- Very reliable water supply with a large 100\,000 lt appro
 x. concrete tank for domestic water and a 2nd 30\,000 lt approx tank stor
 ing bore water from a shared bore water scheme.\n- Lock-up storage room a
 nd wine cellar.\n- An extensive list of inclusions forms part of the Cont
 ract for Sale.\n\nAn exceptional property offering providing flexibility 
 and outstanding yield potential.  Located well within the dress circle of
  one of NSW most award winning tourist towns offering wineries\, cellar d
 oors\, restaurants\, café's\, National Parks and many other local attract
 ions. Looking for a sound investment opportunity call Stewart on 0400 890
  432 or Mackenzie on 0499 550 220 to arrange an inspection opportunity.
DTEND:20260522T120000
DTSTAMP:20260424T092506Z
DTSTART:20260522T110000
LOCATION:McGrath Central Tablelands
SEQUENCE:0
SUMMARY:Auction: 44 Tierney Lane\, Mudgee NSW
UID:CRE-2020788428-Auction
X-ALT-DESC;FMTTYPE=text/html:<!DOCTYPE HTML PUBLIC "-//W3C//DTD HTML 3.2//EN"><html><head><
 title></title></head><body><P DIR=LTR>Boutique Accommodation Estate in Mu
 dgee  Luxury Living Meets Strong Returns <br/> Located just 7km north of 
 Mudgee in the well-regarded winery & cellar door precinct\, this property
  of 9.4 Hectares (23 acres) features a private residence and extensive ac
 commodation and living space that delivers and an exceptional fusion of l
 ifestyle\, luxury\, and income potential. Designed by acclaimed local arc
 hitect Barbara Hickson and built in 2004 by Ian Birchall\, the property h
 as operated as a very successful Airbnb while also functioning as a refin
 ed private residence-perfectly suited to those seeking versatility\, priv
 acy\, and premium rural living. <br/>  <br/> Main Residence: <br/>  <br/>
  - Elegant lounge room with vaulted ceilings\, slow combustion fireplace\
 , and ceiling fans. <br/> - Reverse cycle air conditioning throughout. <b
 r/> - Polished mixed hardwood flooring. <br/> - Formal dining room with v
 aulted ceilings. <br/> - Contemporary kitchen with stone benchtops\, glas
 s splashback\, stainless steel appliances\, and walk-in pantry. <br/> - L
 arge laundry with additional walk-in storage. <br/> - Separate formal stu
 dy. <br/> - Three well-appointed bedrooms\, including master with walk-in
  robe and ensuite. <br/> - Private\, covered outdoor entertaining deck. <
 br/> - Carport accommodation. <br/>  <br/> Accommodation Wing: <br/>  <br
 /> - Four luxury guest suites\, each with private ensuite (one featuring 
 a spa bath). <br/> - All rooms have the benefit of balcony access offerin
 g exceptional valley views. <br/> - Individual reverse cycle air conditio
 ning and continuous flow gas hot water systems to each suite. <br/> - Bri
 ght light filled spacious guest lounge with timber flooring\, kitchenette
 \, reverse cycle air conditioning\, and a large balcony. <br/>  <br/> Dow
 nstairs Retreat: <br/>  <br/> - Large self contained suite presents as an
  open plan (unfurnished at the time of listing) with a new ensuite and wa
 lk-in robe. <br/> - Kitchenette installed and serviced with power and wat
 er. <br/> - Ideal for extended long term occupation by extended family\, 
 accommodation manager\, or separate private suite for additional rented a
 ccommodation. <br/>  <br/> Property Details: <br/>  <br/> - Approx 9.46 H
 ectares (23 acres) of natural bush loaded with wildlife. Clear vantage po
 ints with amazing views ideal for the placement of additional cabin accom
 modation or the construction of a shed (STCA). <br/> - Previously the ent
 ire premises has been operated as short term rented accommodation and ove
 r time\, partially lived in by the owners and partially rented  very flex
 ible and the choices are all yours. <br/> - Large inground saltwater pool
  with heated spa. <br/> - Mains power connected and 2 x 5kW solar systems
  (40 panels) feeding back to the grid. Telstra mobile telephone service i
 s available. <br/> - Extensive covered parking for up to 8 vehicles. <br/
 > - Very reliable water supply with a large 100\,000 lt approx. concrete 
 tank for domestic water and a 2nd 30\,000 lt approx tank storing bore wat
 er from a shared bore water scheme. <br/> - Lock-up storage room and wine
  cellar. <br/> - An extensive list of inclusions forms part of the Contra
 ct for Sale. <br/>  <br/> An exceptional property offering providing flex
 ibility and outstanding yield potential.  Located well within the dress c
 ircle of one of NSW most award winning tourist towns offering wineries\, 
 cellar doors\, restaurants\, café's\, National Parks and many other local
  attractions. Looking for a sound investment opportunity call Stewart on 
 0400 890 432 or Mackenzie on 0499 550 220 to arrange an inspection opport
 unity.</P></body></html>
END:VEVENT
END:VCALENDAR
