BEGIN:VCALENDAR
PRODID:-//commercialrealestate.com.au//NONSGML ical.net 4.0//EN
VERSION:2.0
BEGIN:VEVENT
DESCRIPTION:Build A Bond With Your Next Buy - 254m² Industrial Unit\n UNIT
  3 @ 143155 BONDS ROAD\, RIVERWOOD\n\nPosition yourself in one of South-W
 est Sydney's most tightly held and consistently high-performing industria
 l precincts.\nUnit 3 @ 143155 Bonds Road\, Riverwood presents a compellin
 g opportunity to secure a versatile\, high-clearance warehouse within a m
 odern\, secure complex  ideal for owner-occupiers looking to establish th
 eir business or investors seeking a quality\, income-producing asset.\n\n
 From the moment you enter the complex\, the functionality is clear.  Wide
  internal driveways allow for easy truck access\, smooth manoeuvrability 
 and efficient loading/unloading\, a feature highly sought after yet rarel
 y available in comparable strata estates.\n\nInternally\, the property of
 fers an excellent combination of warehouse and office space\, designed to
  maximise usability\, efficiency and comfort.\n\n PROPERTY HIGHLIGHTS \n 
  High-clearance warehouse with internal height of up to 7m*\n  Wide drive
 ways for easy truck access and loading\n  Secure\, gated industrial compl
 ex\n  Modern\, light-filled office accommodation.\n  Electric roller door
  access\n  3-phase power available\n  Internal amenities including kitche
 nette\n  Well-presented with a functional layout\n\n LOCATION THAT DRIVES
  BUSINESS\nStrategically positioned for convenience and connectivity\, th
 e property is located just moments from key arterial routes\, ensuring se
 amless access across Sydney:\n  M5 Motorway  approx. 1.8km\n  Canterbury 
 Road  approx. 700m\n  King Georges Road  approx. 1.4km\nThis central loca
 tion supports efficient distribution\, easy staff access\, and strong lon
 g-term occupier demand.\n\n WHY THIS PROPERTY STANDS OUT\n\nIndustrial as
 sets of this calibre in Riverwood are tightly held and rarely brought to 
 market. With strong underlying demand\, limited supply\, and increasing p
 ressure on industrial land\, opportunities like this continue to attract 
 both owner-occupiers and investors looking for long-term growth and secur
 ity.\n\nWhether you're looking to occupy\, invest or reposition\, Unit 3 
 offers flexibility\, functionality and future upside in a proven location
 .\n\n AUCTION DETAILS\nAuction: Wednesday\, 28th May\n Level 3\, 56 Kitch
 ener Parade\, Bankstown\n\n OPEN FOR INSPECTION\n Wednesday & Friday\n 4:
 00pm  4:30pm
DTEND:20260528T190000
DTSTAMP:20260424T092507Z
DTSTART:20260528T180000
LOCATION:CPG In Rooms - Level 3/56 Kitchener Parade\, Bankstown
SEQUENCE:0
SUMMARY:Auction: 3/143-155 Bonds Road\, Riverwood NSW
UID:CRE-2020788401-Auction
X-ALT-DESC;FMTTYPE=text/html:<!DOCTYPE HTML PUBLIC "-//W3C//DTD HTML 3.2//EN"><html><head><
 title></title></head><body><P DIR=LTR>Build A Bond With Your Next Buy - 2
 54m² Industrial Unit <br/>  UNIT 3 @ 143155 BONDS ROAD\, RIVERWOOD <br/> 
  <br/> Position yourself in one of South-West Sydney's most tightly held 
 and consistently high-performing industrial precincts. <br/> Unit 3 @ 143
 155 Bonds Road\, Riverwood presents a compelling opportunity to secure a 
 versatile\, high-clearance warehouse within a modern\, secure complex  id
 eal for owner-occupiers looking to establish their business or investors 
 seeking a quality\, income-producing asset. <br/>  <br/> From the moment 
 you enter the complex\, the functionality is clear.  Wide internal drivew
 ays allow for easy truck access\, smooth manoeuvrability and efficient lo
 ading/unloading\, a feature highly sought after yet rarely available in c
 omparable strata estates. <br/>  <br/> Internally\, the property offers a
 n excellent combination of warehouse and office space\, designed to maxim
 ise usability\, efficiency and comfort. <br/>  <br/>  PROPERTY HIGHLIGHTS
   <br/>   High-clearance warehouse with internal height of up to 7m* <br/
 >   Wide driveways for easy truck access and loading <br/>   Secure\, gat
 ed industrial complex <br/>   Modern\, light-filled office accommodation.
  <br/>   Electric roller door access <br/>   3-phase power available <br/
 >   Internal amenities including kitchenette <br/>   Well-presented with 
 a functional layout <br/>  <br/>  LOCATION THAT DRIVES BUSINESS <br/> Str
 ategically positioned for convenience and connectivity\, the property is 
 located just moments from key arterial routes\, ensuring seamless access 
 across Sydney: <br/>   M5 Motorway  approx. 1.8km <br/>   Canterbury Road
   approx. 700m <br/>   King Georges Road  approx. 1.4km <br/> This centra
 l location supports efficient distribution\, easy staff access\, and stro
 ng long-term occupier demand. <br/>  <br/>  WHY THIS PROPERTY STANDS OUT 
 <br/>  <br/> Industrial assets of this calibre in Riverwood are tightly h
 eld and rarely brought to market. With strong underlying demand\, limited
  supply\, and increasing pressure on industrial land\, opportunities like
  this continue to attract both owner-occupiers and investors looking for 
 long-term growth and security. <br/>  <br/> Whether you're looking to occ
 upy\, invest or reposition\, Unit 3 offers flexibility\, functionality an
 d future upside in a proven location. <br/>  <br/>  AUCTION DETAILS <br/>
  Auction: Wednesday\, 28th May <br/>  Level 3\, 56 Kitchener Parade\, Ban
 kstown <br/>  <br/>  OPEN FOR INSPECTION <br/>  Wednesday & Friday <br/> 
  4:00pm  4:30pm</P></body></html>
END:VEVENT
END:VCALENDAR
