BEGIN:VCALENDAR
PRODID:-//commercialrealestate.com.au//NONSGML ical.net 4.0//EN
VERSION:2.0
BEGIN:VEVENT
DESCRIPTION:DOUGHERTY HOUSE  ICONIC CBD INVESTMENT OPPORTUNITY\nDougherty 
 House stands as a prominent and historic commercial asset in the very hea
 rt of Grafton's CBD\, offering a rare opportunity to secure a character f
 illed building with strong tenancy diversity and enduring appeal.\n\nAnch
 ored by two prime street level retail spaces in a high exposure main stre
 et position\, the property is further enhanced by an imposing period entr
 ance and staircase that provides access to additional tenancies across bo
 th the ground and first floor.\n\nThe building is home to a vibrant mix o
 f longstanding occupants\, including retail operators\, a dance academy\,
  professional photographer\, and a local landcare group. Most of the tena
 nts have been in place for five years or more\, reflecting the building's
  premier location\, functionality\, appeal and strong tenant retention.\n
 \nRich in history\, Dougherty House was originally constructed in 1884 by
  noted builder Mr. W. Kinnear for the AMP Society\, with significant reno
 vations undertaken in 1935 by noted builder Mr. J. Schwitzer. These works
  introduced distinctive Art Deco elements\, including decorative lighting
  and mouldings\, along with elegant French doors opening onto small balco
 nies\, features that continue to define the building's unique character t
 oday.\n\nBlending historical significance with a solid and diverse income
  stream\, Dougherty House represents a standout commercial investment in 
 one of the region's most tightly held CBD locations.\n\nFor more informat
 ion please contact Peter Grainger 0417 217 046.\n\nDISCLAIMER All of the 
 information contained in this document is from sources the Agent and Vend
 or believe to be reliable\; however\, we cannot guarantee its accuracy\, 
 and prospective purchasers should rely on their own enquiries.
DTEND:20260523T110000
DTSTAMP:20260424T075504Z
DTSTART:20260523T100000
LOCATION:15 Prince Street\, Grafton NSW 2460
SEQUENCE:0
SUMMARY:Auction: 46-48 Prince Street\, Grafton NSW
UID:CRE-2020787624-Auction
X-ALT-DESC;FMTTYPE=text/html:<!DOCTYPE HTML PUBLIC "-//W3C//DTD HTML 3.2//EN"><html><head><
 title></title></head><body><P DIR=LTR>DOUGHERTY HOUSE  ICONIC CBD INVESTM
 ENT OPPORTUNITY <br/> Dougherty House stands as a prominent and historic 
 commercial asset in the very heart of Grafton's CBD\, offering a rare opp
 ortunity to secure a character filled building with strong tenancy divers
 ity and enduring appeal. <br/>  <br/> Anchored by two prime street level 
 retail spaces in a high exposure main street position\, the property is f
 urther enhanced by an imposing period entrance and staircase that provide
 s access to additional tenancies across both the ground and first floor. 
 <br/>  <br/> The building is home to a vibrant mix of longstanding occupa
 nts\, including retail operators\, a dance academy\, professional photogr
 apher\, and a local landcare group. Most of the tenants have been in plac
 e for five years or more\, reflecting the building's premier location\, f
 unctionality\, appeal and strong tenant retention. <br/>  <br/> Rich in h
 istory\, Dougherty House was originally constructed in 1884 by noted buil
 der Mr. W. Kinnear for the AMP Society\, with significant renovations und
 ertaken in 1935 by noted builder Mr. J. Schwitzer. These works introduced
  distinctive Art Deco elements\, including decorative lighting and mouldi
 ngs\, along with elegant French doors opening onto small balconies\, feat
 ures that continue to define the building's unique character today. <br/>
   <br/> Blending historical significance with a solid and diverse income 
 stream\, Dougherty House represents a standout commercial investment in o
 ne of the region's most tightly held CBD locations. <br/>  <br/> For more
  information please contact Peter Grainger 0417 217 046. <br/>  <br/> DIS
 CLAIMER All of the information contained in this document is from sources
  the Agent and Vendor believe to be reliable\; however\, we cannot guaran
 tee its accuracy\, and prospective purchasers should rely on their own en
 quiries.</P></body></html>
END:VEVENT
END:VCALENDAR
