BEGIN:VCALENDAR
PRODID:-//commercialrealestate.com.au//NONSGML ical.net 4.0//EN
VERSION:2.0
BEGIN:VEVENT
DESCRIPTION:VENDOR SAYS SELL - CALL NOW FOR DETAILS\nParkside Commercial R
 eal Estate & JLL are pleased to offer 1/41-43 Anzac Street\, Greenacre fo
 r Auction.\n\nLocated in Greenacreâs tightly held industrial precinct\, t
 his property provides quick access to Sydney's major arterial roads\, bei
 ng minutes from the Hume Highway and Rookwood Road via Brunker Road and o
 nly 6.1KM to the M5 Motorway and 7.7KM to the M4 Motorway.\n\nBuilt in 20
 22 and designed by renowned architects Bongiorno Hawkins & Associates\, t
 his boutique business park of 5 modern warehouses ticks all the boxes an 
 end user will need. Features of the property include\; -\n\nâ¢ 530mÂ² Hig
 h Clearance Warehouse (11m Clearance)\nâ¢ 217mÂ² Two Level Office & Showr
 oom\nâ¢ Large Automatic Roller Shutter Door\nâ¢ Well Appointed Bathrooms 
 & Kitchenette Facilities \nâ¢ Fully Air-Conditioned\nâ¢ 6 Dedicated Parki
 ng Spaces (2 Lock Up Garage)\n\nThe Auction will be held on-site and is s
 cheduled for Friday 22nd May 2026 at 11:00am.
DTEND:20260522T120000
DTSTAMP:20260424T064852Z
DTSTART:20260522T110000
LOCATION:1/41-43 Anzac Street\, Greenacre NSW
SEQUENCE:0
SUMMARY:Auction: 1/41-43 Anzac Street\, Greenacre NSW
UID:CRE-2020787536-Auction
X-ALT-DESC;FMTTYPE=text/html:<!DOCTYPE HTML PUBLIC "-//W3C//DTD HTML 3.2//EN"><html><head><
 title></title></head><body><P DIR=LTR>VENDOR SAYS SELL - CALL NOW FOR DET
 AILS <br/> Parkside Commercial Real Estate & JLL are pleased to offer 1/4
 1-43 Anzac Street\, Greenacre for Auction. <br/>  <br/> Located in Greena
 creâs tightly held industrial precinct\, this property provides quick acc
 ess to Sydney's major arterial roads\, being minutes from the Hume Highwa
 y and Rookwood Road via Brunker Road and only 6.1KM to the M5 Motorway an
 d 7.7KM to the M4 Motorway. <br/>  <br/> Built in 2022 and designed by re
 nowned architects Bongiorno Hawkins & Associates\, this boutique business
  park of 5 modern warehouses ticks all the boxes an end user will need. F
 eatures of the property include\; - <br/>  <br/> â¢ 530mÂ² High Clearance
  Warehouse (11m Clearance) <br/> â¢ 217mÂ² Two Level Office & Showroom <b
 r/> â¢ Large Automatic Roller Shutter Door <br/> â¢ Well Appointed Bathro
 oms & Kitchenette Facilities  <br/> â¢ Fully Air-Conditioned <br/> â¢ 6 D
 edicated Parking Spaces (2 Lock Up Garage) <br/>  <br/> The Auction will 
 be held on-site and is scheduled for Friday 22nd May 2026 at 11:00am.</P>
 </body></html>
END:VEVENT
END:VCALENDAR
