BEGIN:VCALENDAR
PRODID:-//commercialrealestate.com.au//NONSGML ical.net 4.0//EN
VERSION:2.0
BEGIN:VEVENT
DESCRIPTION:Mediterranean Olives\nEchuca Serpentine Road - Serpentine\, 11
 07 ac / 447.97 ha  on 3 Freehold Titles\n\nOffering a High Yielding and P
 rofitable operation or the opportunity to return the property to an inten
 se cropping enterprise.\n\nIdeally located in the Loddon Shire\, North Ce
 ntral Victoria. 209 km from Melbourne\, 50km to Bendigo\, 53km to Boort\,
  78km to Kerang and 86km Echuca\n\nThe Property consists of good deep loa
 m Serpentine Soils with approximately 70\,000 Olive trees under drip irri
 gation (land area approx. 630ac) balance being arable cropping (approx. 4
 03 ac).\n There is a Goulburn Murray Water License (to be sold separate) 
 - 1048 megs of underground Deep Leed water\, and a well maintained irriga
 tion system in place.\nInfrastructure includes Office/Staff amenities and
  sundry shedding as well as 2 bores and pump stations. \n\nAuction Format
 : - The Land will be offered first followed by the Water as a whole or in
  a minimum of 100 meg bundles ( wiater will only be offered if the Land S
 ells prior)\nAuction will be held at the Serpentine Memorial Hall 1pm Thu
 rsday 28th May\n\nInspections Strictly by Appointment with Selling Agent
DTEND:20260528T140000
DTSTAMP:20260424T061949Z
DTSTART:20260528T130000
LOCATION:Serpentine Memorial Hall
SEQUENCE:0
SUMMARY:Auction: . Echuca Serpentine Road\, Serpentine VIC
UID:CRE-2020787253-Auction
X-ALT-DESC;FMTTYPE=text/html:<!DOCTYPE HTML PUBLIC "-//W3C//DTD HTML 3.2//EN"><html><head><
 title></title></head><body><P DIR=LTR>Mediterranean Olives <br/> Echuca S
 erpentine Road - Serpentine\, 1107 ac / 447.97 ha  on 3 Freehold Titles\n
  <br/> \n <br/> Offering a High Yielding and Profitable operation or the 
 opportunity to return the property to an intense cropping enterprise.\n <
 br/> \n <br/> Ideally located in the Loddon Shire\, North Central Victori
 a. 209 km from Melbourne\, 50km to Bendigo\, 53km to Boort\, 78km to Kera
 ng and 86km Echuca\n <br/> \n <br/> The Property consists of good deep lo
 am Serpentine Soils with approximately 70\,000 Olive trees under drip irr
 igation (land area approx. 630ac) balance being arable cropping (approx. 
 403 ac).\n <br/>  There is a Goulburn Murray Water License (to be sold se
 parate) - 1048 megs of underground Deep Leed water\, and a well maintaine
 d irrigation system in place.\n <br/> Infrastructure includes Office/Staf
 f amenities and sundry shedding as well as 2 bores and pump stations. \n 
 <br/> \n <br/> Auction Format: - The Land will be offered first followed 
 by the Water as a whole or in a minimum of 100 meg bundles ( wiater will 
 only be offered if the Land Sells prior)\n <br/> Auction will be held at 
 the Serpentine Memorial Hall 1pm Thursday 28th May\n <br/> \n <br/> Inspe
 ctions Strictly by Appointment with Selling Agent</P></body></html>
END:VEVENT
END:VCALENDAR
