BEGIN:VCALENDAR
PRODID:-//commercialrealestate.com.au//NONSGML ical.net 4.0//EN
VERSION:2.0
BEGIN:VEVENT
DESCRIPTION:Brand New Impeccably Renovated Inner Sydney Office Freehold\nC
 BRE are pleased to present 129 Devonshire Street\, Surry Hills\, a boutiq
 ue office freehold positioned at the gateway to the Sydney CBD\, to the m
 arket via Public Auction on Tuesday the 26th of May.\n\nThe property is a
 lso being offered for lease. \n\nKey highlights\;\n\n+ Immaculately refur
 bished 255sqm* office across 3 levels\, restored to the highest standard 
 while retaining the traditional character of the original terrace\n+ Besp
 oke design that aligns with prestige occupiers and tenants\n+ Rare secure
  garage providing on-site parking and storage with dedicated bike racks -
  a highly sought after and rare feature in Surry Hills\n+ Dual Street fro
 ntage to Devonshire & Butt Street\n+ Ideal company headquarters opportuni
 ty\n+ Dedicated server room with CAT 6 cabling and supplementary air\n+ D
 ucted air-conditioning throughout\n+ Full male and female amenities plus 
 End of Trip facilities with lockers and staff breakout area\n+ Exclusive 
 breakouts areas and balconies off each side of the top floor\n+ Versatile
  MU1 Mixed Use zoning providing residential repositioning potential (STCA
 )\n+ Surry Hills: one of inner Sydney's most tightly held and sought afte
 r commercial precincts\n+ Vacant possession available immediately\n+ Unbe
 atable transport connectivity  1 minute* walk to Central Station (Sydney'
 s major rail interchange providing access to all major train lines\, buse
 s and metro services) and 1 minute* walk to the Surry Hills Light Rail st
 op\n+  City of Sydney LGA: Australia's leading commercial hub\, generatin
 g $154.73 billion* in annual economic output\n\nFor more information or t
 o request access to the due diligence room\, please contact the exclusive
 ly appointed sales/leasing team.\n\n*Approximate\n Subject to Council App
 roval (STCA)
DTEND:20260526T113000
DTSTAMP:20260424T053615Z
DTSTART:20260526T103000
LOCATION:AuctionWorks – 50 Margaret Street\, Sydney
SEQUENCE:0
SUMMARY:Auction: 129 Devonshire Street\, Surry Hills NSW
UID:CRE-2020787022-Auction
X-ALT-DESC;FMTTYPE=text/html:<!DOCTYPE HTML PUBLIC "-//W3C//DTD HTML 3.2//EN"><html><head><
 title></title></head><body><P DIR=LTR>Brand New Impeccably Renovated Inne
 r Sydney Office Freehold <br/> CBRE are pleased to present 129 Devonshire
  Street\, Surry Hills\, a boutique office freehold positioned at the gate
 way to the Sydney CBD\, to the market via Public Auction on Tuesday the 2
 6th of May. <br/>  <br/> The property is also being offered for lease.  <
 br/>  <br/> Key highlights\; <br/>  <br/> + Immaculately refurbished 255s
 qm* office across 3 levels\, restored to the highest standard while retai
 ning the traditional character of the original terrace <br/> + Bespoke de
 sign that aligns with prestige occupiers and tenants <br/> + Rare secure 
 garage providing on-site parking and storage with dedicated bike racks - 
 a highly sought after and rare feature in Surry Hills <br/> + Dual Street
  frontage to Devonshire & Butt Street <br/> + Ideal company headquarters 
 opportunity <br/> + Dedicated server room with CAT 6 cabling and suppleme
 ntary air <br/> + Ducted air-conditioning throughout <br/> + Full male an
 d female amenities plus End of Trip facilities with lockers and staff bre
 akout area <br/> + Exclusive breakouts areas and balconies off each side 
 of the top floor <br/> + Versatile MU1 Mixed Use zoning providing residen
 tial repositioning potential (STCA) <br/> + Surry Hills: one of inner Syd
 ney's most tightly held and sought after commercial precincts <br/> + Vac
 ant possession available immediately <br/> + Unbeatable transport connect
 ivity  1 minute* walk to Central Station (Sydney's major rail interchange
  providing access to all major train lines\, buses and metro services) an
 d 1 minute* walk to the Surry Hills Light Rail stop <br/> +  City of Sydn
 ey LGA: Australia's leading commercial hub\, generating $154.73 billion* 
 in annual economic output <br/>  <br/> For more information or to request
  access to the due diligence room\, please contact the exclusively appoin
 ted sales/leasing team. <br/>  <br/> *Approximate <br/>  Subject to Counc
 il Approval (STCA)</P></body></html>
END:VEVENT
END:VCALENDAR
