BEGIN:VCALENDAR
PRODID:-//commercialrealestate.com.au//NONSGML ical.net 4.0//EN
VERSION:2.0
BEGIN:VEVENT
DESCRIPTION:Established & secure investment\nUnit 2 (101) /9 Gloucester Av
 enue\, Berwick is being sold vis a public auction on Tuesday 2nd June @ 1
 pm on site. \n\nFacey property are delighted to present this opportunity 
 to secure a high-quality investment in a prominent and vibrant location s
 urrounded by popular cafes\, and a mixture of retail and service-based op
 erations.\n\nThe property is leased to First National Real Estate\, a hig
 hly respected and well-established brand with a rich history and a strong
  reputation within the South-East region.\n\nThe investment is underpinne
 d by an exceptionally secure lease profile of 5 years plus two further 5-
 year options\, delivering long-term income certainty. First National's st
 rong brand presence in the local market and ongoing commitment to the are
 a further strengthen and enhance the reliability of this asset.\n\nBeauti
 fully presented throughout\, this two-level property with lift access is 
 near new and benefits from ten (10) basement car parks on title\, adding 
 further value and tenant appeal. Positioned within a proven commercial pr
 ecinct\, this is a high-quality\, low-maintenance investment ideally suit
 ed to investors seeking stability and long-term performance.\n\nProperty 
 Highlights\n- Securely leased to First National Real Estate\, a reputable
  and long-established local operator\n- Current rental of $100\,000 per a
 nnum\n- 3% annual rental reviews\n- Lease term of 5 years + 5 years + 5 y
 ears\n- Lease commenced September 2025\n- 353m² office with lift access\n
 - Excellent presentation throughout in near-new condition\n- Ten (10) bas
 ement car parks on title\n\nEnquire at www.faceyproperty.com.au to make y
 our next move.
DTEND:20260602T140000
DTSTAMP:20260424T053615Z
DTSTART:20260602T130000
LOCATION:Unit 2 (101)/9 Gloucester Avenue\, Berwick VIC
SEQUENCE:0
SUMMARY:Auction: Unit 2 (101)/9 Gloucester Avenue\, Berwick VIC
UID:CRE-2020786959-Auction
X-ALT-DESC;FMTTYPE=text/html:<!DOCTYPE HTML PUBLIC "-//W3C//DTD HTML 3.2//EN"><html><head><
 title></title></head><body><P DIR=LTR>Established & secure investment <br
 /> Unit 2 (101) /9 Gloucester Avenue\, Berwick is being sold vis a public
  auction on Tuesday 2nd June @ 1pm on site.  <br/>  <br/> Facey property 
 are delighted to present this opportunity to secure a high-quality invest
 ment in a prominent and vibrant location surrounded by popular cafes\, an
 d a mixture of retail and service-based operations. <br/>  <br/> The prop
 erty is leased to First National Real Estate\, a highly respected and wel
 l-established brand with a rich history and a strong reputation within th
 e South-East region. <br/>  <br/> The investment is underpinned by an exc
 eptionally secure lease profile of 5 years plus two further 5-year option
 s\, delivering long-term income certainty. First National's strong brand 
 presence in the local market and ongoing commitment to the area further s
 trengthen and enhance the reliability of this asset. <br/>  <br/> Beautif
 ully presented throughout\, this two-level property with lift access is n
 ear new and benefits from ten (10) basement car parks on title\, adding f
 urther value and tenant appeal. Positioned within a proven commercial pre
 cinct\, this is a high-quality\, low-maintenance investment ideally suite
 d to investors seeking stability and long-term performance. <br/>  <br/> 
 Property Highlights <br/> - Securely leased to First National Real Estate
 \, a reputable and long-established local operator <br/> - Current rental
  of $100\,000 per annum <br/> - 3% annual rental reviews <br/> - Lease te
 rm of 5 years + 5 years + 5 years <br/> - Lease commenced September 2025 
 <br/> - 353m² office with lift access <br/> - Excellent presentation thro
 ughout in near-new condition <br/> - Ten (10) basement car parks on title
  <br/>  <br/> Enquire at www.faceyproperty.com.au to make your next move.
 </P></body></html>
END:VEVENT
END:VCALENDAR
