BEGIN:VCALENDAR
PRODID:-//commercialrealestate.com.au//NONSGML ical.net 4.0//EN
VERSION:2.0
BEGIN:VEVENT
DESCRIPTION:Exceptional Development Opportunity - Mixed Use Potential\nDec
 eased Estate - Must be Sold at Auction! \n\nA rare opportunity to acquire
  a substantial 1\,230.7sqm holding across 4 titles in a highly sought-aft
 er Mascot location for sale for the first time in 50 years! Offering sign
 ificant development potential\, the site enjoys unmatched convenience to 
 local shops\, cafes\, and excellent connectivity to Mascot Train Station\
 , Sydney Airport\, and the CBD\, making it ideal for both residential and
  mixed-use opportunities.  \n\n• Residential and Mixed Use Opportunities 
 \n• Site Area of 1230.7sqm (approx.) total over 4 titles\n• Prominent 26m
  Botany Road Frontage with dual street access via Tunbridge Street \n• Of
 fering four tenancies with holding income \n• Zoned E1 Local Centre and R
 3 Medium Density Residential\n• Height 12 - 14m\n• FSR 0.85 - 2 : 1 \n• 2
 00m to Mascot Shopping Strip and 4 minute drive to Mascot Train Station\n
 • High exposure position benefiting from high foot and vehicular traffic
DTEND:20260616T113000
DTSTAMP:20260424T042414Z
DTSTART:20260616T103000
LOCATION:Auction Works - Mezzanine Level/50 Margaret St\, Sydney
SEQUENCE:0
SUMMARY:Auction: 1069-1075 Botany Road\, Mascot NSW
UID:CRE-2020786738-Auction
X-ALT-DESC;FMTTYPE=text/html:<!DOCTYPE HTML PUBLIC "-//W3C//DTD HTML 3.2//EN"><html><head><
 title></title></head><body><P DIR=LTR>Exceptional Development Opportunity
  - Mixed Use Potential <br/> Deceased Estate - Must be Sold at Auction! \
 n <br/> \n <br/> A rare opportunity to acquire a substantial 1\,230.7sqm 
 holding across 4 titles in a highly sought-after Mascot location for sale
  for the first time in 50 years! Offering significant development potenti
 al\, the site enjoys unmatched convenience to local shops\, cafes\, and e
 xcellent connectivity to Mascot Train Station\, Sydney Airport\, and the 
 CBD\, making it ideal for both residential and mixed-use opportunities.  
 \n <br/> \n <br/> • Residential and Mixed Use Opportunities \n <br/> • Si
 te Area of 1230.7sqm (approx.) total over 4 titles\n <br/> • Prominent 26
 m Botany Road Frontage with dual street access via Tunbridge Street \n <b
 r/> • Offering four tenancies with holding income \n <br/> • Zoned E1 Loc
 al Centre and R3 Medium Density Residential\n <br/> • Height 12 - 14m\n <
 br/> • FSR 0.85 - 2 : 1 \n <br/> • 200m to Mascot Shopping Strip and 4 mi
 nute drive to Mascot Train Station\n <br/> • High exposure position benef
 iting from high foot and vehicular traffic</P></body></html>
END:VEVENT
END:VCALENDAR
