BEGIN:VCALENDAR
PRODID:-//commercialrealestate.com.au//NONSGML ical.net 4.0//EN
VERSION:2.0
BEGIN:VEVENT
DESCRIPTION:POSITION PERFECT  EXCEPTIONAL SITE OFFERING\nGross Waddell ICR
  is pleased to offer for sale 655 Springvale Road\, Vermont South\, as pa
 rt of the Fire Rescue Victoria Portfolio. Positioned near the corner of S
 pringvale Road and Highbury Road\, the development potential for this sit
 e is immense. With well credentialed schools\, major shopping centres\, p
 arklands\, and sporting fields all within proximity\, this location is pe
 rfectly positioned for a well-balanced lifestyle.\n\nKey Features:\n\n Ge
 nerous landholding of 3\,495 sqm*\n\n Favourably zoned NRZ  Neighbourhood
  Residential Zone\, providing scope for a myriad of development outcomes\
 n\n The prominent Glen Shopping Centre and its surrounding infrastructure
  only 1.5 km* from site\n\n East Burwood Reserve with an athletics track\
 , basketball stadium\, and sporting fields in close proximity\n\n Burwood
  One Shopping Centre with a 24-hour Kmart only 1.75 km* away\n\n Tally Ho
  Business Park\, World Vision HQ and other offices all within a two-minut
 e drive of the site\n\n Well credentialed schools in Glen Waverley High S
 chool\, Highvale Primary School & Highvale Secondary all within 3km of th
 e subject site\n\n Great parks including Billabong Park\, Highview Park a
 nd Larpent Reserve all within walking distances\n\n Vermont South boasts 
 a median house price of $1\,400\,000 and neighbours Glen Waverley with a 
 median house price over $1\,700\,000 (source REIV)\n\nThe property will b
 e sold via on-site Public Auction to be held on Friday 29th May 2026 at 1
 2:00pm. For further information\, or to arrange an inspection\, please co
 ntact the team at Gross Waddell ICR directly. \n\nNick Meadows 0430 530 0
 88\nDanny Clark 0448 066 889\nGlenn Ye 0400 880 388\n\n*approximate\nSTCA
  - Subject to Council Approval
DTEND:20260529T130000
DTSTAMP:20260424T022316Z
DTSTART:20260529T120000
LOCATION:655 Springvale Road\, Vermont South VIC
SEQUENCE:0
SUMMARY:Auction: 655 Springvale Road\, Vermont South VIC
UID:CRE-2020786410-Auction
X-ALT-DESC;FMTTYPE=text/html:<!DOCTYPE HTML PUBLIC "-//W3C//DTD HTML 3.2//EN"><html><head><
 title></title></head><body><P DIR=LTR>POSITION PERFECT  EXCEPTIONAL SITE 
 OFFERING <br/> Gross Waddell ICR is pleased to offer for sale 655 Springv
 ale Road\, Vermont South\, as part of the Fire Rescue Victoria Portfolio.
  Positioned near the corner of Springvale Road and Highbury Road\, the de
 velopment potential for this site is immense. With well credentialed scho
 ols\, major shopping centres\, parklands\, and sporting fields all within
  proximity\, this location is perfectly positioned for a well-balanced li
 festyle. <br/>  <br/> Key Features: <br/>  <br/>  Generous landholding of
  3\,495 sqm* <br/>  <br/>  Favourably zoned NRZ  Neighbourhood Residentia
 l Zone\, providing scope for a myriad of development outcomes <br/>  <br/
 >  The prominent Glen Shopping Centre and its surrounding infrastructure 
 only 1.5 km* from site <br/>  <br/>  East Burwood Reserve with an athleti
 cs track\, basketball stadium\, and sporting fields in close proximity <b
 r/>  <br/>  Burwood One Shopping Centre with a 24-hour Kmart only 1.75 km
 * away <br/>  <br/>  Tally Ho Business Park\, World Vision HQ and other o
 ffices all within a two-minute drive of the site <br/>  <br/>  Well crede
 ntialed schools in Glen Waverley High School\, Highvale Primary School & 
 Highvale Secondary all within 3km of the subject site <br/>  <br/>  Great
  parks including Billabong Park\, Highview Park and Larpent Reserve all w
 ithin walking distances <br/>  <br/>  Vermont South boasts a median house
  price of $1\,400\,000 and neighbours Glen Waverley with a median house p
 rice over $1\,700\,000 (source REIV) <br/>  <br/> The property will be so
 ld via on-site Public Auction to be held on Friday 29th May 2026 at 12:00
 pm. For further information\, or to arrange an inspection\, please contac
 t the team at Gross Waddell ICR directly.  <br/>  <br/> Nick Meadows 0430
  530 088 <br/> Danny Clark 0448 066 889 <br/> Glenn Ye 0400 880 388 <br/>
   <br/> *approximate <br/> STCA - Subject to Council Approval</P></body><
 /html>
END:VEVENT
END:VCALENDAR
