BEGIN:VCALENDAR
PRODID:-//commercialrealestate.com.au//NONSGML ical.net 4.0//EN
VERSION:2.0
BEGIN:VEVENT
DESCRIPTION:Rare Landholding in Prime Position\nGross Waddell ICR is pleas
 ed to offer to the market for sale 523 Clayton Road\, Clayton South\, as 
 part of the Fire Rescue Victoria Portfolio .\n\nBenefiting from Clayton's
  strong infrastructure\, this property will only benefit further from the
  planned infrastructure upgrades\, such as the Suburban Rail Loop\, that 
 will further consolidate Clayton as a pivotal suburb in Melbourne.\n\nKey
  highlights include \n\n Generous landholding of 1\,184 sqm*\n\n NRZ - Ne
 ighbourhood Residential Zoning \n\n Internationally renowned Monash Unive
 rsity Clayton Campus only 2km* away \n\n Clayton Primary School only 150m
 *\n\n The upgraded Clayton Train Station (overpass) only 200m*\n\n Vibran
 t Clayton Road shops only 200m (includes Chemist Warehouse & Coles)\n\n T
 he all-encompassing Monash Medical Centre just 2.2km*\n\n M-City Shopping
  Centre - Anchored by Woolworths\, Kmart & Village cinemas - 3km*\n\n Cla
 yton has a strong median house price of $1.3m (according to REIV) \n\nThe
  property will be sold via on-site Public Auction\, to be held on Friday 
 29th May 2026 at 2pm.\n\nFor further information\, or to arrange an inspe
 ction\, please contact the exclusively agents at Gross Waddell ICR.\n\n*a
 pprox.
DTEND:20260529T150000
DTSTAMP:20260424T022316Z
DTSTART:20260529T140000
LOCATION:523 Clayton Road\, Clayton South VIC
SEQUENCE:0
SUMMARY:Auction: 523 Clayton Road\, Clayton South VIC
UID:CRE-2020786359-Auction
X-ALT-DESC;FMTTYPE=text/html:<!DOCTYPE HTML PUBLIC "-//W3C//DTD HTML 3.2//EN"><html><head><
 title></title></head><body><P DIR=LTR>Rare Landholding in Prime Position 
 <br/> Gross Waddell ICR is pleased to offer to the market for sale 523 Cl
 ayton Road\, Clayton South\, as part of the Fire Rescue Victoria Portfoli
 o . <br/>  <br/> Benefiting from Clayton's strong infrastructure\, this p
 roperty will only benefit further from the planned infrastructure upgrade
 s\, such as the Suburban Rail Loop\, that will further consolidate Clayto
 n as a pivotal suburb in Melbourne. <br/>  <br/> Key highlights include  
 <br/>  <br/>  Generous landholding of 1\,184 sqm* <br/>  <br/>  NRZ - Nei
 ghbourhood Residential Zoning  <br/>  <br/>  Internationally renowned Mon
 ash University Clayton Campus only 2km* away  <br/>  <br/>  Clayton Prima
 ry School only 150m* <br/>  <br/>  The upgraded Clayton Train Station (ov
 erpass) only 200m* <br/>  <br/>  Vibrant Clayton Road shops only 200m (in
 cludes Chemist Warehouse & Coles) <br/>  <br/>  The all-encompassing Mona
 sh Medical Centre just 2.2km* <br/>  <br/>  M-City Shopping Centre - Anch
 ored by Woolworths\, Kmart & Village cinemas - 3km* <br/>  <br/>  Clayton
  has a strong median house price of $1.3m (according to REIV)  <br/>  <br
 /> The property will be sold via on-site Public Auction\, to be held on F
 riday 29th May 2026 at 2pm. <br/>  <br/> For further information\, or to 
 arrange an inspection\, please contact the exclusively agents at Gross Wa
 ddell ICR. <br/>  <br/> *approx.</P></body></html>
END:VEVENT
END:VCALENDAR
