BEGIN:VCALENDAR
PRODID:-//commercialrealestate.com.au//NONSGML ical.net 4.0//EN
VERSION:2.0
BEGIN:VEVENT
DESCRIPTION:AFFORDABLE FREEHOLD IN PRIME VILLAGE LOCATION\nFitzroys is ple
 ased to present a strategic city-fringe freehold investment at 342 Queens
  Parade\, Fitzroy North for sale by Public Auction on Thursday 28th May a
 t 1pm. \n\nKey attributes include:\n\n- Recently renewed 3 + 3 year lease
  to Toorallie Australia  \n- Returning $43\,414* per annum plus GST\n- Te
 nant pays all usual outgoings\n- Toorallie is a successful Australian fas
 hion brand operating for 35 years \n- Strategic landholding of 237sqm* wi
 th the benefit of two separate rear access points  \n- Strong potential f
 or future value add or redevelopment (STCA)\n- Perfectly presented\, open
  plan\, light filled building of 120sqm* \n- Onsite parking for multiple 
 vehicles \n- Vibrant inner-north village precinct with a strong tenancy m
 ix of longstanding local and national traders including Bendigo Bank\, Ca
 vallini Bakery\, McCoppins Supermarket\, Woolworths Supermarket\, Birkens
 tock\, Mountfords Shoes\, Bakers Delight and many more \n- Location under
 pinned by a growing affluent catchment and surging residential values wit
 h median house price of $1.69 million which is up 13.8% year-on-year** \n
 - Rare affordable inner city opportunity only 2.7kms* from the CBD\n\nFor
  further information or an inspection\, please contact Fitzroys selling a
 gents Lewis Waddell or Chris Kombi. \n\n*approx.\n*****
DTEND:20260528T140000
DTSTAMP:20260423T110951Z
DTSTART:20260528T130000
LOCATION:342 Queens Parade\, Fitzroy North VIC
SEQUENCE:0
SUMMARY:Auction: 342 Queens Parade\, Fitzroy North VIC
UID:CRE-2020785956-Auction
X-ALT-DESC;FMTTYPE=text/html:<!DOCTYPE HTML PUBLIC "-//W3C//DTD HTML 3.2//EN"><html><head><
 title></title></head><body><P DIR=LTR>AFFORDABLE FREEHOLD IN PRIME VILLAG
 E LOCATION <br/> Fitzroys is pleased to present a strategic city-fringe f
 reehold investment at 342 Queens Parade\, Fitzroy North for sale by Publi
 c Auction on Thursday 28th May at 1pm.  <br/>  <br/> Key attributes inclu
 de: <br/>  <br/> - Recently renewed 3 + 3 year lease to Toorallie Austral
 ia   <br/> - Returning $43\,414* per annum plus GST <br/> - Tenant pays a
 ll usual outgoings <br/> - Toorallie is a successful Australian fashion b
 rand operating for 35 years  <br/> - Strategic landholding of 237sqm* wit
 h the benefit of two separate rear access points   <br/> - Strong potenti
 al for future value add or redevelopment (STCA) <br/> - Perfectly present
 ed\, open plan\, light filled building of 120sqm*  <br/> - Onsite parking
  for multiple vehicles  <br/> - Vibrant inner-north village precinct with
  a strong tenancy mix of longstanding local and national traders includin
 g Bendigo Bank\, Cavallini Bakery\, McCoppins Supermarket\, Woolworths Su
 permarket\, Birkenstock\, Mountfords Shoes\, Bakers Delight and many more
   <br/> - Location underpinned by a growing affluent catchment and surgin
 g residential values with median house price of $1.69 million which is up
  13.8% year-on-year**  <br/> - Rare affordable inner city opportunity onl
 y 2.7kms* from the CBD <br/>  <br/> For further information or an inspect
 ion\, please contact Fitzroys selling agents Lewis Waddell or Chris Kombi
 .  <br/>  <br/> *approx. <br/> *****</P></body></html>
END:VEVENT
END:VCALENDAR
