BEGIN:VCALENDAR
PRODID:-//commercialrealestate.com.au//NONSGML ical.net 4.0//EN
VERSION:2.0
BEGIN:VEVENT
DESCRIPTION:Established Tenant\, Prime Central Position\nPositioned in the
  vibrant heart of Dubbo\, this outstanding commercial investment presents
  a rare opportunity to secure a high-performing asset with proven stabili
 ty. Anchored by long-term\, well-established restaurant tenants\, the pro
 perty delivers a strong annual rental income of $96\,949 (including GST)\
 , with 100% of outgoings fully recovered from the tenant-offering investo
 rs a true set-and-forget investment.\n\nSet on a generous 443 m² parcel\,
  including valuable rear parking\, the property benefits from excellent a
 ccessibility and consistent foot traffic in a thriving commercial precinc
 t. Zoned Commercial Centre E2\, it provides flexibility and enduring appe
 al in a tightly held market.\n\nThis is an ideal acquisition for investor
 s seeking reliable cash flow backed by established businesses in a strate
 gic regional hub.\n\nThis premium asset will be auctioned at the Western 
 Plains Cultural Centre on Thursday\, 28th May at 1:00 pm.\n\nSecure your 
 foothold in one of regional NSW's most dynamic commercial centres-an inve
 stment defined by stability\, location\, and long-term growth potential.\
 n\nOffered in conjunction with Monica Henley (0410 615 505)\, The Agency 
 Central West.
DTEND:20260528T140000
DTSTAMP:20260423T095055Z
DTSTART:20260528T130000
LOCATION:Western Plains Cultural Centre
SEQUENCE:0
SUMMARY:Auction: 208 Brisbane Street\, Dubbo NSW
UID:CRE-2020785474-Auction
X-ALT-DESC;FMTTYPE=text/html:<!DOCTYPE HTML PUBLIC "-//W3C//DTD HTML 3.2//EN"><html><head><
 title></title></head><body><P DIR=LTR>Established Tenant\, Prime Central 
 Position <br/> Positioned in the vibrant heart of Dubbo\, this outstandin
 g commercial investment presents a rare opportunity to secure a high-perf
 orming asset with proven stability. Anchored by long-term\, well-establis
 hed restaurant tenants\, the property delivers a strong annual rental inc
 ome of $96\,949 (including GST)\, with 100% of outgoings fully recovered 
 from the tenant-offering investors a true set-and-forget investment.\n <b
 r/> \n <br/> Set on a generous 443 m² parcel\, including valuable rear pa
 rking\, the property benefits from excellent accessibility and consistent
  foot traffic in a thriving commercial precinct. Zoned Commercial Centre 
 E2\, it provides flexibility and enduring appeal in a tightly held market
 .\n <br/> \n <br/> This is an ideal acquisition for investors seeking rel
 iable cash flow backed by established businesses in a strategic regional 
 hub.\n <br/> \n <br/> This premium asset will be auctioned at the Western
  Plains Cultural Centre on Thursday\, 28th May at 1:00 pm.\n <br/> \n <br
 /> Secure your foothold in one of regional NSW's most dynamic commercial 
 centres-an investment defined by stability\, location\, and long-term gro
 wth potential.\n <br/> \n <br/> Offered in conjunction with Monica Henley
  (0410 615 505)\, The Agency Central West.</P></body></html>
END:VEVENT
END:VCALENDAR
