BEGIN:VCALENDAR
PRODID:-//commercialrealestate.com.au//NONSGML ical.net 4.0//EN
VERSION:2.0
BEGIN:VEVENT
DESCRIPTION:DEVELOPMENT SITE - ROCKHAMPTON CITY\nLloyds Real Estate Austra
 lia & Ray White Real Estate is pleased to present 161 George Street Rockh
 ampton for Auction. \n\nAn exceptional\, high-visibility redevelopment op
 portunity in a strategic CBD location. Centrally positioned for maximum m
 arket impact\, the site is ideal for mixed-use\, hospitality\, conference
 -led projects\, or residential unit development.\n\nThe former Rockhampto
 n Plaza Hotel\, featuring 66 rooms\, a conference centre/restaurant\, poo
 l\, and ample parking currently occupies the site. The hotel ceased opera
 ting in 2014.\n\nProperty Details:\n• Real Property Description: Lot 1 RP
 612483\n• Zoning: Commercial\n• Land Area: 4\,047 m²\n\nRockhampton City 
 Development Potential:\n\n• Stable demand driven by regional population g
 rowth and key public services (CQUniversity\, Base Hospital).\n• Event an
 d tourism uplift linked to the 2032 Olympic Games and year-round festival
 s\, supporting short-stay accommodation and food & beverage demand.\n• St
 rong workforce housing demand from resources\, agriculture\, and infrastr
 ucture sectors.\n• Affordability appeal for downsizers\, FIFO workers\, a
 nd investors\, with solid rental and sales prospects compared to South Ea
 st Queensland.\n\nFor further information\, please contact the listing ag
 ents.
DTEND:20260521T130000
DTSTAMP:20260423T095055Z
DTSTART:20260521T120000
LOCATION:ONLINE
SEQUENCE:0
SUMMARY:Auction: 161 George Street\, Rockhampton City QLD
UID:CRE-2020785426-Auction
X-ALT-DESC;FMTTYPE=text/html:<!DOCTYPE HTML PUBLIC "-//W3C//DTD HTML 3.2//EN"><html><head><
 title></title></head><body><P DIR=LTR>DEVELOPMENT SITE - ROCKHAMPTON CITY
  <br/> Lloyds Real Estate Australia & Ray White Real Estate is pleased to
  present 161 George Street Rockhampton for Auction. \n <br/> \n <br/> An 
 exceptional\, high-visibility redevelopment opportunity in a strategic CB
 D location. Centrally positioned for maximum market impact\, the site is 
 ideal for mixed-use\, hospitality\, conference-led projects\, or resident
 ial unit development.\n <br/> \n <br/> The former Rockhampton Plaza Hotel
 \, featuring 66 rooms\, a conference centre/restaurant\, pool\, and ample
  parking currently occupies the site. The hotel ceased operating in 2014.
 \n <br/> \n <br/> Property Details:\n <br/> • Real Property Description: 
 Lot 1 RP612483\n <br/> • Zoning: Commercial\n <br/> • Land Area: 4\,047 m
 ²\n <br/> \n <br/> Rockhampton City Development Potential:\n <br/> \n <br
 /> • Stable demand driven by regional population growth and key public se
 rvices (CQUniversity\, Base Hospital).\n <br/> • Event and tourism uplift
  linked to the 2032 Olympic Games and year-round festivals\, supporting s
 hort-stay accommodation and food & beverage demand.\n <br/> • Strong work
 force housing demand from resources\, agriculture\, and infrastructure se
 ctors.\n <br/> • Affordability appeal for downsizers\, FIFO workers\, and
  investors\, with solid rental and sales prospects compared to South East
  Queensland.\n <br/> \n <br/> For further information\, please contact th
 e listing agents.</P></body></html>
END:VEVENT
END:VCALENDAR
