BEGIN:VCALENDAR
PRODID:-//commercialrealestate.com.au//NONSGML ical.net 4.0//EN
VERSION:2.0
BEGIN:VEVENT
DESCRIPTION:Entry Level Investment Opportunity  Secure Income to 2027 | Au
 ction 21 May\nPositioned within the tightly held Beenleigh industrial pre
 cinct\, Unit 4/112 Harburg Drive presents a quality investment opportunit
 y with strong fundamentals and secure income.\n\nThis well-presented 158s
 qm commercial unit is currently leased to an established tenant\, returni
 ng $47\,632 net per annum\, providing investors with immediate cash flow 
 and long-term security.\n\nThe lease extends through to 31 October 2027\,
  with an additional 3-year option\, offering stability and future upside.
 \n\nStrategically located in the heart of Beenleigh\, the property benefi
 ts from excellent connectivity to the M1 Pacific Motorway\, providing sea
 mless access between Brisbane and the Gold Coast. This is a highly sought
 -after industrial corridor with continued growth and strong tenant demand
 .\n\nKey Features:\n- 158sqm total building area\n- Net income of $47\,63
 2 per annum\n- Lease secured until 31/10/2027\n- 1 x 3-year option in pla
 ce\n- Located in a high-demand industrial precinct of just 7 units\n- Eas
 y access to major transport links\n\nWhether you're a seasoned investor o
 r looking to enter the commercial market\, this is a low-maintenance\, in
 come-producing asset in a proven location.\n\nThis property will be going
  to Auction on Thursday\, 21st May at 11am at our In-Rooms Auction\, 51 M
 ain Street\, Beenleigh.\n\nReach out to the exclusive agent today for mor
 e information or to organise an inspection.\n\nDisclaimer: McGrath has no
 t independently checked any of the information we merely pass on. We make
  no comment on and give no warranty as to the accuracy of the information
  contained in this document which does not constitute all or any part of 
 any offer or contract by the recipient. Prospective purchasers / lessees 
 must rely on their own enquiries and should satisfy themselves as to the 
 truth or accuracy of all information given by their own inspections\, sea
 rches\, inquiries\, advice or as is otherwise necessary.
DTEND:20260521T120000
DTSTAMP:20260423T074623Z
DTSTART:20260521T110000
LOCATION:McGrath Beenleigh
SEQUENCE:0
SUMMARY:Auction: 4/112 Harburg Drive\, Beenleigh QLD
UID:CRE-2020784742-Auction
X-ALT-DESC;FMTTYPE=text/html:<!DOCTYPE HTML PUBLIC "-//W3C//DTD HTML 3.2//EN"><html><head><
 title></title></head><body><P DIR=LTR>Entry Level Investment Opportunity 
  Secure Income to 2027 | Auction 21 May <br/> Positioned within the tight
 ly held Beenleigh industrial precinct\, Unit 4/112 Harburg Drive presents
  a quality investment opportunity with strong fundamentals and secure inc
 ome. <br/>  <br/> This well-presented 158sqm commercial unit is currently
  leased to an established tenant\, returning $47\,632 net per annum\, pro
 viding investors with immediate cash flow and long-term security. <br/>  
 <br/> The lease extends through to 31 October 2027\, with an additional 3
 -year option\, offering stability and future upside. <br/>  <br/> Strateg
 ically located in the heart of Beenleigh\, the property benefits from exc
 ellent connectivity to the M1 Pacific Motorway\, providing seamless acces
 s between Brisbane and the Gold Coast. This is a highly sought-after indu
 strial corridor with continued growth and strong tenant demand. <br/>  <b
 r/> Key Features: <br/> - 158sqm total building area <br/> - Net income o
 f $47\,632 per annum <br/> - Lease secured until 31/10/2027 <br/> - 1 x 3
 -year option in place <br/> - Located in a high-demand industrial precinc
 t of just 7 units <br/> - Easy access to major transport links <br/>  <br
 /> Whether you're a seasoned investor or looking to enter the commercial 
 market\, this is a low-maintenance\, income-producing asset in a proven l
 ocation. <br/>  <br/> This property will be going to Auction on Thursday\
 , 21st May at 11am at our In-Rooms Auction\, 51 Main Street\, Beenleigh. 
 <br/>  <br/> Reach out to the exclusive agent today for more information 
 or to organise an inspection. <br/>  <br/> Disclaimer: McGrath has not in
 dependently checked any of the information we merely pass on. We make no 
 comment on and give no warranty as to the accuracy of the information con
 tained in this document which does not constitute all or any part of any 
 offer or contract by the recipient. Prospective purchasers / lessees must
  rely on their own enquiries and should satisfy themselves as to the trut
 h or accuracy of all information given by their own inspections\, searche
 s\, inquiries\, advice or as is otherwise necessary.</P></body></html>
END:VEVENT
END:VCALENDAR
