BEGIN:VCALENDAR
PRODID:-//commercialrealestate.com.au//NONSGML ical.net 4.0//EN
VERSION:2.0
BEGIN:VEVENT
DESCRIPTION:PREMIUM OFFICE WAREHOUSE IN TIGHTLY HELD PRECINCT\nFitzroys is
  proudly presenting this premium office/warehouse\, extensively upgraded 
 with recent improvements at Unit 19\, 573 Burwood Highway Knoxfield for s
 ale by Public Auction on Friday 29th May at 12pm. \n\nKey attributes incl
 ude:\n\n- Immaculate office/warehouse of 315sqm* with container height ro
 ller door \n- Flexible opportunity suited to both occupiers** and investo
 rs\n- Fully air-conditioned mezzanine floor with forklift access \n- Ware
 house clearance height of 7m* \n- Automated security system/intercom plus
  new CCTV system with remote access\n- Excellent main road location on Bu
 rwood Highway moments from Eastlink freeway entrance and 23km* from Melbo
 urne CBD\n- Exceptional surrounding amenity on the doorstep of Westfield 
 Knox\, featuring extensive F&B options\, major supermarkets\, banks and r
 etailers \n- Situated in a tightly held industrial precinct with zero vac
 ancy \n\nFor further information or an inspection\, please contact Fitzro
 ys selling agents Lewis Waddell or Brent Glassford \n\n*approx.\n** STCA
DTEND:20260529T130000
DTSTAMP:20260423T074623Z
DTSTART:20260529T120000
LOCATION:Unit 19/573 Burwood Highway\, Knoxfield VIC
SEQUENCE:0
SUMMARY:Auction: Unit 19/573 Burwood Highway\, Knoxfield VIC
UID:CRE-2020784666-Auction
X-ALT-DESC;FMTTYPE=text/html:<!DOCTYPE HTML PUBLIC "-//W3C//DTD HTML 3.2//EN"><html><head><
 title></title></head><body><P DIR=LTR>PREMIUM OFFICE WAREHOUSE IN TIGHTLY
  HELD PRECINCT <br/> Fitzroys is proudly presenting this premium office/w
 arehouse\, extensively upgraded with recent improvements at Unit 19\, 573
  Burwood Highway Knoxfield for sale by Public Auction on Friday 29th May 
 at 12pm.  <br/>  <br/> Key attributes include: <br/>  <br/> - Immaculate 
 office/warehouse of 315sqm* with container height roller door  <br/> - Fl
 exible opportunity suited to both occupiers** and investors <br/> - Fully
  air-conditioned mezzanine floor with forklift access  <br/> - Warehouse 
 clearance height of 7m*  <br/> - Automated security system/intercom plus 
 new CCTV system with remote access <br/> - Excellent main road location o
 n Burwood Highway moments from Eastlink freeway entrance and 23km* from M
 elbourne CBD <br/> - Exceptional surrounding amenity on the doorstep of W
 estfield Knox\, featuring extensive F&B options\, major supermarkets\, ba
 nks and retailers  <br/> - Situated in a tightly held industrial precinct
  with zero vacancy  <br/>  <br/> For further information or an inspection
 \, please contact Fitzroys selling agents Lewis Waddell or Brent Glassfor
 d  <br/>  <br/> *approx. <br/> ** STCA</P></body></html>
END:VEVENT
END:VCALENDAR
