BEGIN:VCALENDAR
PRODID:-//commercialrealestate.com.au//NONSGML ical.net 4.0//EN
VERSION:2.0
BEGIN:VEVENT
DESCRIPTION:Inner CBD Investment\nThis proeprty will be auctioned 13th May
  2026\, at Ray White Queanbeyan\, 19 Monaro Street at 6pm. Registrations 
 from 5.30pm\n\nPresenting to the market is this unique investment opportu
 nity of 184 Crawford Street\, Queanbeyan. Positioned well\, on the corner
  of Morrisset Street and Crawford Street\, you are central to the Queanbe
 yan CBD. This property consists of three (3) tenancies and offers a great
  investment and return with long term tenants. \n\nIncome:\n• Unit 1 - $4
 \,516.82\n• Unit 2 - $2\,903.67\n• Unit 3 - $3\,441.45\nTotal Gross Incom
 e (pm)  $10\,861.94 per month plus GST\nTotal Gross Income (p/a)  $130\,3
 43.28 per annum plus GST\n\nOutgoings:\n• Rates $17\,677.96\n• Insurance 
 $9\,123.80\nTotal exp outgoings $26\,801.76\n\nNote: This excludes Land T
 ax as that varies with each individual. Unimproved Land Value $1\,030\,00
 0. 2025. \n\nContact Brad O'Mara on 0402343771 for more information.
DTEND:20260513T190000
DTSTAMP:20260423T074623Z
DTSTART:20260513T180000
LOCATION:Ray White Auction Room\, 19 Monaro Street Queanbeyan NSW 2620
SEQUENCE:0
SUMMARY:Auction: 184 Crawford Street\, Queanbeyan NSW
UID:CRE-2020784561-Auction
X-ALT-DESC;FMTTYPE=text/html:<!DOCTYPE HTML PUBLIC "-//W3C//DTD HTML 3.2//EN"><html><head><
 title></title></head><body><P DIR=LTR>Inner CBD Investment <br/> This pro
 eprty will be auctioned 13th May 2026\, at Ray White Queanbeyan\, 19 Mona
 ro Street at 6pm. Registrations from 5.30pm\n <br/> \n <br/> Presenting t
 o the market is this unique investment opportunity of 184 Crawford Street
 \, Queanbeyan. Positioned well\, on the corner of Morrisset Street and Cr
 awford Street\, you are central to the Queanbeyan CBD. This property cons
 ists of three (3) tenancies and offers a great investment and return with
  long term tenants. \n <br/> \n <br/> Income:\n <br/> • Unit 1 - $4\,516.
 82\n <br/> • Unit 2 - $2\,903.67\n <br/> • Unit 3 - $3\,441.45\n <br/> To
 tal Gross Income (pm)  $10\,861.94 per month plus GST\n <br/> Total Gross
  Income (p/a)  $130\,343.28 per annum plus GST\n <br/> \n <br/> Outgoings
 :\n <br/> • Rates $17\,677.96\n <br/> • Insurance $9\,123.80\n <br/> Tota
 l exp outgoings $26\,801.76\n <br/> \n <br/> Note: This excludes Land Tax
  as that varies with each individual. Unimproved Land Value $1\,030\,000.
  2025. \n <br/> \n <br/> Contact Brad O'Mara on 0402343771 for more infor
 mation.</P></body></html>
END:VEVENT
END:VCALENDAR
