BEGIN:VCALENDAR
PRODID:-//commercialrealestate.com.au//NONSGML ical.net 4.0//EN
VERSION:2.0
BEGIN:VEVENT
DESCRIPTION:This is the lifestyle everyone talks about… but rarely finds.\
 nSet across an impressive 260 acres on two titles\, this is your opportun
 ity to secure the perfect balance of coastal freedom and country function
 ality - where mornings start on the water and afternoons are spent workin
 g your own land.\n\nWhether you're chasing space\, lifestyle\, or a smart
  entry into the rural market\, this property delivers.\n\nWhat makes it s
 tand out:\n• 260 acres across two titles - flexibility and future potenti
 al\n• 6 paddocks partially cleared - ideal for easy stock management\n• T
 imber cattle yards with loading ramp - practical and ready to use\n• Bore
  + 3 dams - reliable water sources in place\n• Nankin creek access along 
 the left boundary - natural water and lifestyle appeal\n• assorted shed f
 or immediate storage \n• Multiple potential homesites to build your dream
  home\n• The ultimate reef to beef lifestyle - coast and country at your 
 fingertips\n\nThis is more than just land - it's a lifestyle shift. A pla
 ce where weekends mean fishing\, riding\, and wide-open space\, while sti
 ll having the infrastructure to run livestock and make it your own.\n\nWh
 ether you're looking to run a few head\, build your dream\, or landbank f
 or the future - this is serious value in today's market.\n\nGoing to Auct
 ion - your chance to secure reef to beef living\n\nDisclaimer\nThis prope
 rty is being sold by auction or without a price and therefore a price gui
 de can not be provided. The website may have filtered the property into a
  price bracket for website functionality purposes
DTEND:20260514T173000
DTSTAMP:20260423T064542Z
DTSTART:20260514T163000
LOCATION:217 Thompson Point Road\, Nankin QLD
SEQUENCE:0
SUMMARY:Auction: 217 Thompson Point Road\, Nankin QLD
UID:CRE-2020784501-Auction
X-ALT-DESC;FMTTYPE=text/html:<!DOCTYPE HTML PUBLIC "-//W3C//DTD HTML 3.2//EN"><html><head><
 title></title></head><body><P DIR=LTR>This is the lifestyle everyone talk
 s about… but rarely finds. <br/> Set across an impressive 260 acres on tw
 o titles\, this is your opportunity to secure the perfect balance of coas
 tal freedom and country functionality - where mornings start on the water
  and afternoons are spent working your own land.\n <br/> \n <br/> Whether
  you're chasing space\, lifestyle\, or a smart entry into the rural marke
 t\, this property delivers.\n <br/> \n <br/> What makes it stand out:\n <
 br/> • 260 acres across two titles - flexibility and future potential\n <
 br/> • 6 paddocks partially cleared - ideal for easy stock management\n <
 br/> • Timber cattle yards with loading ramp - practical and ready to use
 \n <br/> • Bore + 3 dams - reliable water sources in place\n <br/> • Nank
 in creek access along the left boundary - natural water and lifestyle app
 eal\n <br/> • assorted shed for immediate storage \n <br/> • Multiple pot
 ential homesites to build your dream home\n <br/> • The ultimate reef to 
 beef lifestyle - coast and country at your fingertips\n <br/> \n <br/> Th
 is is more than just land - it's a lifestyle shift. A place where weekend
 s mean fishing\, riding\, and wide-open space\, while still having the in
 frastructure to run livestock and make it your own.\n <br/> \n <br/> Whet
 her you're looking to run a few head\, build your dream\, or landbank for
  the future - this is serious value in today's market.\n <br/> \n <br/> G
 oing to Auction - your chance to secure reef to beef living <br/>  <br/> 
 Disclaimer <br/> This property is being sold by auction or without a pric
 e and therefore a price guide can not be provided. The website may have f
 iltered the property into a price bracket for website functionality purpo
 ses</P></body></html>
END:VEVENT
END:VCALENDAR
