BEGIN:VCALENDAR
PRODID:-//commercialrealestate.com.au//NONSGML ical.net 4.0//EN
VERSION:2.0
BEGIN:VEVENT
DESCRIPTION:Rare Mixed Use Freehold Investment\nCBRE are pleased to presen
 t 1391 Botany Road\, Botany\, a rare mixed-use freehold investment opport
 unity in the tightly held South Sydney market.\n\nThe property has the fo
 llowing key highlights:\n\n+ Fully leased mixed-use freehold comprising o
 f ground floor retail leased to Grilledmen Chicken\, plus two residential
  units upstairs\n+ Recent 5 + 5 year lease providing secure income stream
 \n+ Highly desirable fixed 4% annual rent increases ensuring long term co
 mpounding rental growth\n+ Versatile E1 Local Centre zoning\, 14m height 
 limit & 2:1 FSR\n+ Rare dual street frontage maximising exposure and futu
 re development flexibility\n+ High exposure position along Botany Road\, 
 set amongst a wide range of residential developments\, businesses and emp
 loyment hubs ensuring a lively\, bustling setting\n+ Close proximity to W
 estfield Eastgardens\, one of Sydney's largest shopping centers\, anchore
 d by Myer\, David Jones\, Coles\, Woolworths and over 200 specialty retai
 lers\n+ Benefitting from proximity to lifestyle-focused amenity including
  golf clubs\, beaches\, parks and shopping centers\, in addition to Sydne
 y International Airport\n+ Supermarket Giant Woolworths have expressed th
 eir desire to invest in Botany with a proposed large-scale\, mixed-use 8\
 ,570sqm* development 850 meters* from 1391 Botany Road\n+ Bayside Council
 : GRP of $17.63b and a population set to soar 15% by 2046 to 217\,000¹\n\
 nNet Income: $128\,321 pa* + GST\n\nFor Sale Via Public Auction.\n\nFor m
 ore information or to request access to the due diligence room\, please c
 ontact the exclusively appointed sales team.\n\n\n\n1 profile.id \n*Appro
 ximate.\n Subject to Council Approval (STCA).
DTEND:20260526T113000
DTSTAMP:20260423T042653Z
DTSTART:20260526T103000
LOCATION:AuctionWorks – 50 Margaret Street\, Sydney
SEQUENCE:0
SUMMARY:Auction: 1391 Botany Road\, Botany NSW
UID:CRE-2020783469-Auction
X-ALT-DESC;FMTTYPE=text/html:<!DOCTYPE HTML PUBLIC "-//W3C//DTD HTML 3.2//EN"><html><head><
 title></title></head><body><P DIR=LTR>Rare Mixed Use Freehold Investment 
 <br/> CBRE are pleased to present 1391 Botany Road\, Botany\, a rare mixe
 d-use freehold investment opportunity in the tightly held South Sydney ma
 rket. <br/>  <br/> The property has the following key highlights: <br/>  
 <br/> + Fully leased mixed-use freehold comprising of ground floor retail
  leased to Grilledmen Chicken\, plus two residential units upstairs <br/>
  + Recent 5 + 5 year lease providing secure income stream <br/> + Highly 
 desirable fixed 4% annual rent increases ensuring long term compounding r
 ental growth <br/> + Versatile E1 Local Centre zoning\, 14m height limit 
 & 2:1 FSR <br/> + Rare dual street frontage maximising exposure and futur
 e development flexibility <br/> + High exposure position along Botany Roa
 d\, set amongst a wide range of residential developments\, businesses and
  employment hubs ensuring a lively\, bustling setting <br/> + Close proxi
 mity to Westfield Eastgardens\, one of Sydney's largest shopping centers\
 , anchored by Myer\, David Jones\, Coles\, Woolworths and over 200 specia
 lty retailers <br/> + Benefitting from proximity to lifestyle-focused ame
 nity including golf clubs\, beaches\, parks and shopping centers\, in add
 ition to Sydney International Airport <br/> + Supermarket Giant Woolworth
 s have expressed their desire to invest in Botany with a proposed large-s
 cale\, mixed-use 8\,570sqm* development 850 meters* from 1391 Botany Road
  <br/> + Bayside Council: GRP of $17.63b and a population set to soar 15%
  by 2046 to 217\,000¹ <br/>  <br/> Net Income: $128\,321 pa* + GST <br/> 
  <br/> For Sale Via Public Auction. <br/>  <br/> For more information or 
 to request access to the due diligence room\, please contact the exclusiv
 ely appointed sales team. <br/>  <br/>  <br/>  <br/> 1 profile.id  <br/> 
 *Approximate. <br/>  Subject to Council Approval (STCA).</P></body></html
 >
END:VEVENT
END:VCALENDAR
