BEGIN:VCALENDAR
PRODID:-//commercialrealestate.com.au//NONSGML ical.net 4.0//EN
VERSION:2.0
BEGIN:VEVENT
DESCRIPTION:Main Road\, Office\, Showroom Warehouse of 376sqm on a 762sqm 
 Site\nCollins Bateman is pleased to present for sale via Public Auction t
 his quality commercial property.\n\nSuitable for owner occupiers or inves
 tors this front unit (of 6) features on-site parking\, quality office/sho
 wroom areas and a warehouse of 257sqm. Excellent loading\, signage and se
 curity. Total building area of 376sqm of a site of 762sqm.\n\nCurrently o
 ccupied by well-established SA business with staying on of interest. Vaca
 nt Possession for the owner occupier is possible for mid-July 2026 if pre
 ferred.\n\nProperty is for sale via Public Auction to be held onsite Wedn
 esday 13th of May at 11am *unless sold prior.\n\nInspections are strictly
  to be held very Wednesday at 9:00am-9:45am - Please Register with the Se
 lling Agent.
DTEND:20260513T120000
DTSTAMP:20260423T042654Z
DTSTART:20260513T110000
LOCATION:6/109 Morphett Road\, Camden Park SA
SEQUENCE:0
SUMMARY:Auction: 6/109 Morphett Road\, Camden Park SA
UID:CRE-2020783445-Auction
X-ALT-DESC;FMTTYPE=text/html:<!DOCTYPE HTML PUBLIC "-//W3C//DTD HTML 3.2//EN"><html><head><
 title></title></head><body><P DIR=LTR>Main Road\, Office\, Showroom Wareh
 ouse of 376sqm on a 762sqm Site <br/> Collins Bateman is pleased to prese
 nt for sale via Public Auction this quality commercial property.\n <br/> 
 \n <br/> Suitable for owner occupiers or investors this front unit (of 6)
  features on-site parking\, quality office/showroom areas and a warehouse
  of 257sqm. Excellent loading\, signage and security. Total building area
  of 376sqm of a site of 762sqm.\n <br/> \n <br/> Currently occupied by we
 ll-established SA business with staying on of interest. Vacant Possession
  for the owner occupier is possible for mid-July 2026 if preferred.\n <br
 /> \n <br/> Property is for sale via Public Auction to be held onsite Wed
 nesday 13th of May at 11am *unless sold prior.\n <br/> \n <br/> Inspectio
 ns are strictly to be held very Wednesday at 9:00am-9:45am - Please Regis
 ter with the Selling Agent.</P></body></html>
END:VEVENT
END:VCALENDAR
