BEGIN:VCALENDAR
PRODID:-//commercialrealestate.com.au//NONSGML ical.net 4.0//EN
VERSION:2.0
BEGIN:VEVENT
DESCRIPTION:Fully Fitted Ground Floor Office Suite | Boutique Art Deco Bui
 lding\nA polished\, move-in-ready workspace inside one of Balmain's most 
 distinctive commercial addresses. Suite G2 delivers a completely refurbis
 hed interior with genuine character - louvre windows drawing natural airf
 low through the suite\, and the warmth of the Old Pudding Factory convers
 ion as your backdrop.\n\nThe 82sqm floorplan has been thoughtfully finish
 ed throughout\, with full acoustic treatment making it an ideal environme
 nt for focused work\, consulting\, or client-facing use. Internal kitchen
  and amenities mean the suite is entirely self-contained from day one.\nS
 tep outside to a shared balcony that brings in greenery and light without
  leaving the building. One secure basement car space is included - a genu
 ine asset in this pocket of Balmain.\nKey Features\n	82sqm fully refurbis
 hed ground floor suite\n	Complete acoustic treatment throughout\n	Louvre 
 windows for natural airflow and light\n	Modern internal kitchen and priva
 te amenities\n	Shared balcony access\n	One (1) exclusive use basement car
  space\n	Within the iconic Old Pudding Factory conversion\n	Surrounded by
  Balmain's best cafes\, retail and lifestyle amenity\n	Easy access to Syd
 ney CBD by road and ferry\n\nFor more information\, or to arrange an insp
 ection\, contact the exclusive selling agents from One Commercial.
DTEND:20260602T110000
DTSTAMP:20260423T042653Z
DTSTART:20260602T100000
LOCATION:G2/1-15 Barr Street\, Balmain NSW
SEQUENCE:0
SUMMARY:Auction: G2/1-15 Barr Street\, Balmain NSW
UID:CRE-2020783427-Auction
X-ALT-DESC;FMTTYPE=text/html:<!DOCTYPE HTML PUBLIC "-//W3C//DTD HTML 3.2//EN"><html><head><
 title></title></head><body><P DIR=LTR>Fully Fitted Ground Floor Office Su
 ite | Boutique Art Deco Building <br/> A polished\, move-in-ready workspa
 ce inside one of Balmain's most distinctive commercial addresses. Suite G
 2 delivers a completely refurbished interior with genuine character - lou
 vre windows drawing natural airflow through the suite\, and the warmth of
  the Old Pudding Factory conversion as your backdrop.\n <br/> \n <br/> Th
 e 82sqm floorplan has been thoughtfully finished throughout\, with full a
 coustic treatment making it an ideal environment for focused work\, consu
 lting\, or client-facing use. Internal kitchen and amenities mean the sui
 te is entirely self-contained from day one.\n <br/> Step outside to a sha
 red balcony that brings in greenery and light without leaving the buildin
 g. One secure basement car space is included - a genuine asset in this po
 cket of Balmain.\n <br/> Key Features\n <br/> 	82sqm fully refurbished gr
 ound floor suite\n <br/> 	Complete acoustic treatment throughout\n <br/> 
 	Louvre windows for natural airflow and light\n <br/> 	Modern internal ki
 tchen and private amenities\n <br/> 	Shared balcony access\n <br/> 	One (
 1) exclusive use basement car space\n <br/> 	Within the iconic Old Puddin
 g Factory conversion\n <br/> 	Surrounded by Balmain's best cafes\, retail
  and lifestyle amenity\n <br/> 	Easy access to Sydney CBD by road and fer
 ry\n <br/> \n <br/> For more information\, or to arrange an inspection\, 
 contact the exclusive selling agents from One Commercial.</P></body></htm
 l>
END:VEVENT
END:VCALENDAR
