BEGIN:VCALENDAR
PRODID:-//commercialrealestate.com.au//NONSGML ical.net 4.0//EN
VERSION:2.0
BEGIN:VEVENT
DESCRIPTION:"Brookfield"\nRaine & Horne Rural Roma proudly presents to auc
 tion\, "Brookfield"\, 540 Carrington Road Eumamurrin via Roma.\n\nAuction
  details:-\nDate: Thursday 18th June 2026\nTime: 10:00am\nLocation: Roma 
 Saleyards\nInspections:  By appointment\n\nDiscover the perfect blend of 
 breeder and fattening country right on the door step of the Roma Saleyard
 s.  "Brookfield"\, which is comprised of 3443.57 acres (1394 hectares) is
  a fodder factory\, with an expansive amount of development undertaken ov
 er the last 2 years to increase it's carrying capacity.  With a current r
 otational grazing operation in place\, the pastures and land are showing 
 impressive potential in the Maranoa area.   \n\nLocation:\nLocated approx
 imately 25 minutes from Roma in the tightly held Eumamurrin district\, "B
 rookfield" can be accessed by Carrington Road or Brookfield Road.  With e
 asy access  to the Carnarvon Highway\, this property is in close vicinity
  to the Roma Saleyards.\n\nTenure:\n"Brookfield" consists of approximatel
 y 3444.57 acres of freehold land\, located in the Maranoa Regional Counci
 l area.  \nRates:   $2644.98 per annum approx.\n\nFencing and Improvement
 s:-\nThe boundary fence consists of very good condition 1800mm high exclu
 sion fencing\, with internal netting\, barb and plain wire fencing.  Fenc
 ed into 6 main paddocks\, with 2 smaller holding paddocks\, the property 
 is currently being run under a rotational grazing operation.\n\nA set of 
 yards comprising of steel panels and timber\, complete with loading ramp\
 , race\, small drafting pound\, head bale to handle cattle\, with facilit
 ies to handle small stock.    The yards are able to handle 120 head of ca
 ttle.\n\nWater:\nWatered by 6 dams of varying sizes\, tanks and troughs. 
  \n\nCountry\n"Brookfield" is comprised of mainly lighter red loam soils\
 , running to heavier creek flats and is currently hosting exceptional sta
 nd of buffel\, supported by areas of urochloa and native pastures.  The p
 roperty is timbered with brigalow\, box\, ironbark\, pine\, gum with some
  areas of Bottletrees and belah.  Approximately 1500 acres has been pulle
 d in the last 2 years\, with an additional 950 acres currently timbered. 
  A PMAV has been locked in.  \n\nCarrying Capacity:-  Approx 350 backgrou
 nders or 200 breeders.\n\nRainfall:  Approx 24 inch average (600mm)\n\n"B
 rookfield" represents an excellent opportunity to expand your grazing cou
 ntry\, with room to continue to increase productivity.  For further infor
 mation\, or to arrange an inspection\, contact Seamus Filan on 0428 462 3
 12\n\nDisclaimer\nThis property is being sold by auction or without a pri
 ce and therefore a price guide can not be provided. The website may have 
 filtered the property into a price bracket for website functionality purp
 oses
DTEND:20260618T110000
DTSTAMP:20260423T024523Z
DTSTART:20260618T100000
LOCATION:Roma Saleyards
SEQUENCE:0
SUMMARY:Auction: 640 Carrington Road\, Roma QLD
UID:CRE-2020783172-Auction
X-ALT-DESC;FMTTYPE=text/html:<!DOCTYPE HTML PUBLIC "-//W3C//DTD HTML 3.2//EN"><html><head><
 title></title></head><body><P DIR=LTR>"Brookfield" <br/> Raine & Horne Ru
 ral Roma proudly presents to auction\, "Brookfield"\, 540 Carrington Road
  Eumamurrin via Roma.\n <br/> \n <br/> Auction details:-\n <br/> Date: Th
 ursday 18th June 2026\n <br/> Time: 10:00am\n <br/> Location: Roma Saleya
 rds\n <br/> Inspections:  By appointment\n <br/> \n <br/> Discover the pe
 rfect blend of breeder and fattening country right on the door step of th
 e Roma Saleyards.  "Brookfield"\, which is comprised of 3443.57 acres (13
 94 hectares) is a fodder factory\, with an expansive amount of developmen
 t undertaken over the last 2 years to increase it's carrying capacity.  W
 ith a current rotational grazing operation in place\, the pastures and la
 nd are showing impressive potential in the Maranoa area.   \n <br/> \n <b
 r/> Location:\n <br/> Located approximately 25 minutes from Roma in the t
 ightly held Eumamurrin district\, "Brookfield" can be accessed by Carring
 ton Road or Brookfield Road.  With easy access  to the Carnarvon Highway\
 , this property is in close vicinity to the Roma Saleyards.\n <br/> \n <b
 r/> Tenure:\n <br/> "Brookfield" consists of approximately 3444.57 acres 
 of freehold land\, located in the Maranoa Regional Council area.  \n <br/
 > Rates:   $2644.98 per annum approx.\n <br/> \n <br/> Fencing and Improv
 ements:-\n <br/> The boundary fence consists of very good condition 1800m
 m high exclusion fencing\, with internal netting\, barb and plain wire fe
 ncing.  Fenced into 6 main paddocks\, with 2 smaller holding paddocks\, t
 he property is currently being run under a rotational grazing operation.\
 n <br/> \n <br/> A set of yards comprising of steel panels and timber\, c
 omplete with loading ramp\, race\, small drafting pound\, head bale to ha
 ndle cattle\, with facilities to handle small stock.    The yards are abl
 e to handle 120 head of cattle.\n <br/> \n <br/> Water:\n <br/> Watered b
 y 6 dams of varying sizes\, tanks and troughs.  \n <br/> \n <br/> Country
 \n <br/> "Brookfield" is comprised of mainly lighter red loam soils\, run
 ning to heavier creek flats and is currently hosting exceptional stand of
  buffel\, supported by areas of urochloa and native pastures.  The proper
 ty is timbered with brigalow\, box\, ironbark\, pine\, gum with some area
 s of Bottletrees and belah.  Approximately 1500 acres has been pulled in 
 the last 2 years\, with an additional 950 acres currently timbered.  A PM
 AV has been locked in.  \n <br/> \n <br/> Carrying Capacity:-  Approx 350
  backgrounders or 200 breeders.\n <br/> \n <br/> Rainfall:  Approx 24 inc
 h average (600mm)\n <br/> \n <br/> "Brookfield" represents an excellent o
 pportunity to expand your grazing country\, with room to continue to incr
 ease productivity.  For further information\, or to arrange an inspection
 \, contact Seamus Filan on 0428 462 312 <br/>  <br/> Disclaimer <br/> Thi
 s property is being sold by auction or without a price and therefore a pr
 ice guide can not be provided. The website may have filtered the property
  into a price bracket for website functionality purposes</P></body></html
 >
END:VEVENT
END:VCALENDAR
