BEGIN:VCALENDAR
PRODID:-//commercialrealestate.com.au//NONSGML ical.net 4.0//EN
VERSION:2.0
BEGIN:VEVENT
DESCRIPTION:12.48 Acres With Ample Dual Living Potential\nPerfectly positi
 oned towards the end of a quiet cul de sac in the beautiful Guanaba Valle
 y\, is your unique opportunity to purchase this stand out property.\n\nBa
 cking onto a reserve\, your options for outdoor activities are in no shor
 t supply. You have a plethora of hiking and horse riding trails on your d
 oorstep as well as multiple equestrian centres just around the corner.\n\
 nJust 30 minutes* to the pristine beaches of the Gold Coast\, 15 minutes*
  to the M1 motoroway and the beautiful Tamborine Mountain or 10 minutes* 
 to the local schools\, shops and restaurants\, all amenities & facilities
  are within easy reach.\n\nOn 12.48 acres* and taking full advantage of i
 ts elevated positioning\, the award winning home encapsulates the beautif
 ul hinterland views that surround.\n\nThe home showcases beautiful brush 
 box flooring and high ceilings throughout and was designed to ensure spac
 e and comfort for the whole family. There are multiple living spaces acro
 ss the 2 levels and a wrapped balcony which provides the perfect setting 
 to enjoy the tranquil surrounds all year round. The expansive kitchen wit
 h granite benchtops and walk in pantry\, is finished with quality fixture
 s and fittings and has a servery that leads out to the aforementioned bal
 cony\, making entertaining a breeze. Keep the home temperate no matter th
 e season with the ducted air conditioning while keeping cozy in the colde
 r months by the combustion fireplace.\n\nThe solar heated pool is neighbo
 ured by the alfresco area\, complete with built in bar. The motorcross tr
 ack is perfect for the thrill seekers or provides a canvas for an additio
 nal shed or equine facilities. Cool off by sliding down the waterslide in
 to the large dam before tending to your hobby farm. Complete any project 
 in the expansive 2 bay powered shed.\n\nThere is ample dual living potent
 ial and space for even more infrastructure.\n\nDon't miss your opportunit
 y to secure this unique\, feature filled property\, in the beautiful Guan
 aba!\n\n(* = approx)\n\nDisclaimer\nThis property is being sold by auctio
 n or without a price and therefore a price guide can not be provided. The
  website may have filtered the property into a price bracket for website 
 functionality purposes
DTEND:20260528T120000
DTSTAMP:20260422T111536Z
DTSTART:20260528T110000
LOCATION:Level 2\, 50 Cavill Ave\, Surfers Paradise
SEQUENCE:0
SUMMARY:Auction: 110 Candy Creek Road\, Guanaba QLD
UID:CRE-2020782660-Auction
X-ALT-DESC;FMTTYPE=text/html:<!DOCTYPE HTML PUBLIC "-//W3C//DTD HTML 3.2//EN"><html><head><
 title></title></head><body><P DIR=LTR>12.48 Acres With Ample Dual Living 
 Potential <br/> Perfectly positioned towards the end of a quiet cul de sa
 c in the beautiful Guanaba Valley\, is your unique opportunity to purchas
 e this stand out property.\n <br/> \n <br/> Backing onto a reserve\, your
  options for outdoor activities are in no short supply. You have a pletho
 ra of hiking and horse riding trails on your doorstep as well as multiple
  equestrian centres just around the corner.\n <br/> \n <br/> Just 30 minu
 tes* to the pristine beaches of the Gold Coast\, 15 minutes* to the M1 mo
 toroway and the beautiful Tamborine Mountain or 10 minutes* to the local 
 schools\, shops and restaurants\, all amenities & facilities are within e
 asy reach.\n <br/> \n <br/> On 12.48 acres* and taking full advantage of 
 its elevated positioning\, the award winning home encapsulates the beauti
 ful hinterland views that surround.\n <br/> \n <br/> The home showcases b
 eautiful brush box flooring and high ceilings throughout and was designed
  to ensure space and comfort for the whole family. There are multiple liv
 ing spaces across the 2 levels and a wrapped balcony which provides the p
 erfect setting to enjoy the tranquil surrounds all year round. The expans
 ive kitchen with granite benchtops and walk in pantry\, is finished with 
 quality fixtures and fittings and has a servery that leads out to the afo
 rementioned balcony\, making entertaining a breeze. Keep the home tempera
 te no matter the season with the ducted air conditioning while keeping co
 zy in the colder months by the combustion fireplace.\n <br/> \n <br/> The
  solar heated pool is neighboured by the alfresco area\, complete with bu
 ilt in bar. The motorcross track is perfect for the thrill seekers or pro
 vides a canvas for an additional shed or equine facilities. Cool off by s
 liding down the waterslide into the large dam before tending to your hobb
 y farm. Complete any project in the expansive 2 bay powered shed.\n <br/>
  \n <br/> There is ample dual living potential and space for even more in
 frastructure.\n <br/> \n <br/> Don't miss your opportunity to secure this
  unique\, feature filled property\, in the beautiful Guanaba!\n <br/> \n 
 <br/> (* = approx) <br/>  <br/> Disclaimer <br/> This property is being s
 old by auction or without a price and therefore a price guide can not be 
 provided. The website may have filtered the property into a price bracket
  for website functionality purposes</P></body></html>
END:VEVENT
END:VCALENDAR
