BEGIN:VCALENDAR
PRODID:-//commercialrealestate.com.au//NONSGML ical.net 4.0//EN
VERSION:2.0
BEGIN:VEVENT
DESCRIPTION:Hunter River Irrigation Property\nFronting the Hunter River an
 d comprising of 59 acres of quality irrigated river flats\, this property
  offers the opportunity for cropping\, lucerne production or fattening ca
 ttle.\nThere is a fully equipped 22kw electric pump on the river feeding 
 the 150 mm mains and the 3 span pivot which covers 44 acres. The balance 
 can be watered via pipes or traveling irrigator. The pump also feeds a 10
 0\,000-litre header tank supplying water to the cattle troughs and taps a
 round the house. There is a set of steel cattle yards\, an iron hay shed 
 and machinery shed\, workshop and 2 bay carport. The home has 3 big bedro
 oms\, lounge with R/C air\, and a combustion fire. Laminex kitchen with a
 n attached dining area\, office and bathroom. \nThe home needs a major re
 novation or there are some lovely building sites to build a new home. Onl
 y 10 minutes to Denman and Muswellbrook and with the school bus stopping 
 at the front gate\, it is very well located. Hunter River properties are 
 tightly held and keenly sought so book your inspection now.\n\nAuction on
  site - 11:00AM\, Saturday 23rd March 2026
DTEND:20260523T120000
DTSTAMP:20260422T100923Z
DTSTART:20260523T110000
LOCATION:1568 Denman Road\, Denman NSW
SEQUENCE:0
SUMMARY:Auction: 1568 Denman Road\, Denman NSW
UID:CRE-2020782481-Auction
X-ALT-DESC;FMTTYPE=text/html:<!DOCTYPE HTML PUBLIC "-//W3C//DTD HTML 3.2//EN"><html><head><
 title></title></head><body><P DIR=LTR>Hunter River Irrigation Property <b
 r/> Fronting the Hunter River and comprising of 59 acres of quality irrig
 ated river flats\, this property offers the opportunity for cropping\, lu
 cerne production or fattening cattle. <br/> There is a fully equipped 22k
 w electric pump on the river feeding the 150 mm mains and the 3 span pivo
 t which covers 44 acres. The balance can be watered via pipes or travelin
 g irrigator. The pump also feeds a 100\,000-litre header tank supplying w
 ater to the cattle troughs and taps around the house. There is a set of s
 teel cattle yards\, an iron hay shed and machinery shed\, workshop and 2 
 bay carport. The home has 3 big bedrooms\, lounge with R/C air\, and a co
 mbustion fire. Laminex kitchen with an attached dining area\, office and 
 bathroom.  <br/> The home needs a major renovation or there are some love
 ly building sites to build a new home. Only 10 minutes to Denman and Musw
 ellbrook and with the school bus stopping at the front gate\, it is very 
 well located. Hunter River properties are tightly held and keenly sought 
 so book your inspection now. <br/>  <br/> Auction on site - 11:00AM\, Sat
 urday 23rd March 2026</P></body></html>
END:VEVENT
END:VCALENDAR
