BEGIN:VCALENDAR
PRODID:-//commercialrealestate.com.au//NONSGML ical.net 4.0//EN
VERSION:2.0
BEGIN:VEVENT
DESCRIPTION:High Profile Corner Retail\nArguably one of the most prominent
  and perfectly positioned retail properties in Mosman! Presenting an unmi
 ssable opportunity to secure a blue-chip trophy asset in the heart of one
  of Sydney's most prestigious retail corridor! Located on the high-exposu
 re intersection of Raglan Street and Military Road\, this premium strata 
 shop offers investors a rare entry point into a market defined by extreme
  scarcity and desirability. The premises benefits from a strong flow of p
 edestrian and vehicular traffic and is surrounded by well known and succe
 ssful businesses such as\;\n\n	ANZ\n	Chemist Warehouse\n	IGA\n	Di Jones\n
 	Gazman\n	Lululemon\n	Fishbowl\n	GYG\n	KX Pilates \n\nInspect by appointm
 ent\n\nDisclaimer: All information contained herewith\, including but not
  limited to the general property description\, price and the address\, is
  provided by third parties. We have obtained this information from source
 s we believe to be reliable\; however\, we cannot guarantee its accuracy.
  The information contained herewith should not be relied upon and you sho
 uld make your own enquiries and seek advice in respect of this property.
DTEND:20260519T113000
DTSTAMP:20260422T103006Z
DTSTART:20260519T103000
LOCATION:Auctionworks
SEQUENCE:0
SUMMARY:Auction: G04/190 Raglan Street\, Mosman NSW
UID:CRE-2020782424-Auction
X-ALT-DESC;FMTTYPE=text/html:<!DOCTYPE HTML PUBLIC "-//W3C//DTD HTML 3.2//EN"><html><head><
 title></title></head><body><P DIR=LTR>High Profile Corner Retail <br/> Ar
 guably one of the most prominent and perfectly positioned retail properti
 es in Mosman! Presenting an unmissable opportunity to secure a blue-chip 
 trophy asset in the heart of one of Sydney's most prestigious retail corr
 idor! Located on the high-exposure intersection of Raglan Street and Mili
 tary Road\, this premium strata shop offers investors a rare entry point 
 into a market defined by extreme scarcity and desirability. The premises 
 benefits from a strong flow of pedestrian and vehicular traffic and is su
 rrounded by well known and successful businesses such as\; <br/>  <br/> 	
 ANZ <br/> 	Chemist Warehouse <br/> 	IGA <br/> 	Di Jones <br/> 	Gazman <br
 /> 	Lululemon <br/> 	Fishbowl <br/> 	GYG <br/> 	KX Pilates  <br/>  <br/> 
 Inspect by appointment <br/>  <br/> Disclaimer: All information contained
  herewith\, including but not limited to the general property description
 \, price and the address\, is provided by third parties. We have obtained
  this information from sources we believe to be reliable\; however\, we c
 annot guarantee its accuracy. The information contained herewith should n
 ot be relied upon and you should make your own enquiries and seek advice 
 in respect of this property.</P></body></html>
END:VEVENT
END:VCALENDAR
