BEGIN:VCALENDAR
PRODID:-//commercialrealestate.com.au//NONSGML ical.net 4.0//EN
VERSION:2.0
BEGIN:VEVENT
DESCRIPTION:POSITIONED FOR GROWTH IN INNER WEST HOTSPOT\nGross Waddell ICR
  is pleased to offer to the market for sale 8 Highgate Street\, Yarravill
 e\, as part of the Fire Rescue Victoria Portfolio.\n\nLocated within one 
 of Melbourne's most tightly held inner-west pockets\, this property prese
 nts an outstanding opportunity for investors\, developers\, and owner-occ
 upiers alike. \n\nSurrounded by an abundance of cafés\, restaurants\, bou
 tique retail\, and lifestyle amenity\, including the renowned Yarraville 
 Village on Anderson Street\, the location delivers both immediate appeal 
 and long-term upside.\n\nKey features include:\n\n Land area of 1\,117 sq
 m* with great development potential\n\n Well configured station of 490 sq
 m* that is a great value add opportunity\n\n Located within a General Res
 idential Zone (GRZ) allowing redevelopment potential (STCA)\n\n Repositio
 ning ability for various operators (medical\, childcare etc) due to confi
 guration\n\n Easy access to West Gate Bridge and West Gate Tunnel for CBD
  access\n\n Close proximity to the very green and luscious Anderson Stree
 t offering bars\, pubs\, restaurants\, and elevated retail\n\n Ample park
 ing at rear of the property\n\n Positioned with an in-demand lifestyle pr
 ecinct\n\nThe property will be sold via on-site Public Auction\, to be he
 ld on Wednesday 27th May 2026 at 12pm.\n\nFor more information or to arra
 nge an inspection\, please contact the team at Gross Waddell ICR directly
 .\n\nNick Meadows 0430 530 088\nDanny Clark 0448 066 889\nGlenn Ye 0400 8
 80 388\n\n*approximate\nSTCA - Subject to Council Approval
DTEND:20260527T130000
DTSTAMP:20260422T102323Z
DTSTART:20260527T120000
LOCATION:8 Highgate Street\, Yarraville VIC
SEQUENCE:0
SUMMARY:Auction: 8 Highgate Street\, Yarraville VIC
UID:CRE-2020782401-Auction
X-ALT-DESC;FMTTYPE=text/html:<!DOCTYPE HTML PUBLIC "-//W3C//DTD HTML 3.2//EN"><html><head><
 title></title></head><body><P DIR=LTR>POSITIONED FOR GROWTH IN INNER WEST
  HOTSPOT <br/> Gross Waddell ICR is pleased to offer to the market for sa
 le 8 Highgate Street\, Yarraville\, as part of the Fire Rescue Victoria P
 ortfolio. <br/>  <br/> Located within one of Melbourne's most tightly hel
 d inner-west pockets\, this property presents an outstanding opportunity 
 for investors\, developers\, and owner-occupiers alike.  <br/>  <br/> Sur
 rounded by an abundance of cafés\, restaurants\, boutique retail\, and li
 festyle amenity\, including the renowned Yarraville Village on Anderson S
 treet\, the location delivers both immediate appeal and long-term upside.
  <br/>  <br/> Key features include: <br/>  <br/>  Land area of 1\,117 sqm
 * with great development potential <br/>  <br/>  Well configured station 
 of 490 sqm* that is a great value add opportunity <br/>  <br/>  Located w
 ithin a General Residential Zone (GRZ) allowing redevelopment potential (
 STCA) <br/>  <br/>  Repositioning ability for various operators (medical\
 , childcare etc) due to configuration <br/>  <br/>  Easy access to West G
 ate Bridge and West Gate Tunnel for CBD access <br/>  <br/>  Close proxim
 ity to the very green and luscious Anderson Street offering bars\, pubs\,
  restaurants\, and elevated retail <br/>  <br/>  Ample parking at rear of
  the property <br/>  <br/>  Positioned with an in-demand lifestyle precin
 ct <br/>  <br/> The property will be sold via on-site Public Auction\, to
  be held on Wednesday 27th May 2026 at 12pm. <br/>  <br/> For more inform
 ation or to arrange an inspection\, please contact the team at Gross Wadd
 ell ICR directly. <br/>  <br/> Nick Meadows 0430 530 088 <br/> Danny Clar
 k 0448 066 889 <br/> Glenn Ye 0400 880 388 <br/>  <br/> *approximate <br/
 > STCA - Subject to Council Approval</P></body></html>
END:VEVENT
END:VCALENDAR
