BEGIN:VCALENDAR
PRODID:-//commercialrealestate.com.au//NONSGML ical.net 4.0//EN
VERSION:2.0
BEGIN:VEVENT
DESCRIPTION:Versatile Double Storey Shop & Dwelling\nFavourably positioned
  close to Smith Street\, this amazing 2 level property will certainly com
 mand your attention.\nRetaining iconic period charm typical of the era\, 
 the abode has been tastefully updated\, with scope to renovate and add fu
 rther value.\n\nShowcasing a versatile ground floor retail/office or show
 room space\, tranquil living\, spacious kitchen with meals and a generous
  North facing courtyard\, perfect for the entertainer.\nThe first floor i
 s blessed with 3 bedroom accommodation\, along with a second kitchen/meal
 s and bathroom.\n\nFeaturing high ceilings\, captivating Victorian design
 \, exceptionally large rooms and great natural light.\n\nThe prime lifest
 yle position and superior proportions are perfect for creatives\, "work f
 rom home" professionals\, urban dwellers and gallery owners.\nThe locatio
 n is first class\, close to popular restaurants like Jim's Greek Tavern\,
  cafes\, cool bars\, pubs\, galleries\, boutique retailers\, public trans
 port options\, parkland and CBD. \n\nThis is the ideal retail/office and 
 residence you have been searching for.\n\n"Brought to you by Vendor Marke
 ting  Melbourne's most qualified vendor advocates  vendormarketing.com.au
 "
DTEND:20260516T140000
DTSTAMP:20260423T042653Z
DTSTART:20260516T130000
LOCATION:34 Johnston Street\, Collingwood VIC
SEQUENCE:0
SUMMARY:Auction: 34 Johnston Street\, Collingwood VIC
UID:CRE-2020782388-Auction
X-ALT-DESC;FMTTYPE=text/html:<!DOCTYPE HTML PUBLIC "-//W3C//DTD HTML 3.2//EN"><html><head><
 title></title></head><body><P DIR=LTR>Versatile Double Storey Shop & Dwel
 ling <br/> Favourably positioned close to Smith Street\, this amazing 2 l
 evel property will certainly command your attention. <br/> Retaining icon
 ic period charm typical of the era\, the abode has been tastefully update
 d\, with scope to renovate and add further value. <br/>  <br/> Showcasing
  a versatile ground floor retail/office or showroom space\, tranquil livi
 ng\, spacious kitchen with meals and a generous North facing courtyard\, 
 perfect for the entertainer. <br/> The first floor is blessed with 3 bedr
 oom accommodation\, along with a second kitchen/meals and bathroom. <br/>
   <br/> Featuring high ceilings\, captivating Victorian design\, exceptio
 nally large rooms and great natural light. <br/>  <br/> The prime lifesty
 le position and superior proportions are perfect for creatives\, "work fr
 om home" professionals\, urban dwellers and gallery owners. <br/> The loc
 ation is first class\, close to popular restaurants like Jim's Greek Tave
 rn\, cafes\, cool bars\, pubs\, galleries\, boutique retailers\, public t
 ransport options\, parkland and CBD.  <br/>  <br/> This is the ideal reta
 il/office and residence you have been searching for. <br/>  <br/> "Brough
 t to you by Vendor Marketing  Melbourne's most qualified vendor advocates
   vendormarketing.com.au"</P></body></html>
END:VEVENT
END:VCALENDAR
