BEGIN:VCALENDAR
PRODID:-//commercialrealestate.com.au//NONSGML ical.net 4.0//EN
VERSION:2.0
BEGIN:VEVENT
DESCRIPTION:VERSATILE MIXED FARMING WITH WATER\, SCALE & PRODUCTIVITY\nARE
 A: 646.9* hectares or 1\,563* acres\n\nSITUATION: Located in the tightly 
 held Bingara district\, 'Fairview' offers convenient access to key region
 al centres\, with Moree 90km* to the west\, Inverell 95km* to the east\, 
 and Brisbane approximately 487km* north. Bingara provides all essential a
 menities\, including groceries\, hotels and cafés\, along with K-12 schoo
 ling and medical services\, supported by a strong local community. 'Fairv
 iew' is well positioned for livestock marketing\, with nearby feedlots an
 d abattoirs\, and access to the Inverell Regional Livestock Exchange\, wh
 ich conducts weekly cattle sales and fortnightly sheep sales each Tuesday
 .\n\nCOUNTRY: Productive basalt country underpins the property\, featurin
 g a balanced mix of red and brown soils with approximately 70% arable lan
 d. The property has benefited from an ongoing pasture development program
 \, with established tropical pastures complemented by native grazing\, al
 ong with areas suited to cereal and fodder crop production. Well suited t
 o a mixed farming enterprise\, the landscape transitions from open arable
  country to lightly timbered areas\, rising into more densely timbered ra
 nges at the rear-providing natural shelter belts for livestock.\nWATER: W
 ater across the property is well established\, comprising of multiple ear
 th dams and a reliable bore supply. Water is pumped to header tanks and r
 eticulated throughout the property to a network of strategically position
 ed concrete troughs\, ensuring efficient stock management and consistent 
 supply. In addition\, several rainwater tanks collect rainwater from the 
 infrastructure supplying the homestead. \n\nHOME: The comfortable weather
 board homestead offers four bedrooms plus a dedicated office\, serviced b
 y a centrally located bathroom. The kitchen enjoys an outlook over the pr
 operty and connects to a formal dining and lounge room\, while enclosed v
 erandahs provide additional space for year-round entertaining. Comfort is
  assured with split system air-conditioning and a woodfire. Set amongst e
 stablished trees and gardens\, the home also features a swimming pool and
  enjoys excellent views across the surrounding landscape.\n\nIMPROVEMENTS
 : Improvements across the property are extensive and well maintained. A l
 arge concrete lock-up workshop with adjoining skillion is complemented by
  a separate tack room and an open-bay machinery shed. An additional three
 -bay shed\, with one bay concreted\, is currently utilised for fodder sto
 rage plus an additional two grain silos. The property is well fenced and 
 subdivided into four smaller paddocks surrounding the main infrastructure
 \, supported by a round yard and steel cattle yards with a covered workin
 g area. Boundary fencing is in sound condition\, with sections recently u
 pgraded to exclusion fencing. A second set of cattle yards is located at 
 the far end of the property\, enhancing overall functionality and stock h
 andling efficiency. \n\nREMARKS: 'Fairview' presents a well-balanced and 
 highly functional rural holding\, combining productive country\, reliable
  water\, quality infrastructure and a comfortable homestead in a tightly 
 held and well-regarded district. With scale\, versatility and strong acce
 ss to key service centres and livestock markets\, the property is ideally
  suited to a mixed farming or grazing enterprise. An outstanding opportun
 ity to secure a productive asset with proven capability and future potent
 ial. For more information contact Baden Chaffey 0488 697 416 or Riley Gib
 son on 0417 441 688.
DTEND:20260604T190000
DTSTAMP:20260422T091406Z
DTSTART:20260604T180000
LOCATION:The Passchendaele Room\, Tamworth Town Hall
SEQUENCE:0
SUMMARY:Auction: 823 Eulourie Road\, Bingara NSW
UID:CRE-2020781808-Auction
X-ALT-DESC;FMTTYPE=text/html:<!DOCTYPE HTML PUBLIC "-//W3C//DTD HTML 3.2//EN"><html><head><
 title></title></head><body><P DIR=LTR>VERSATILE MIXED FARMING WITH WATER\
 , SCALE & PRODUCTIVITY <br/> AREA: 646.9* hectares or 1\,563* acres\n <br
 /> \n <br/> SITUATION: Located in the tightly held Bingara district\, 'Fa
 irview' offers convenient access to key regional centres\, with Moree 90k
 m* to the west\, Inverell 95km* to the east\, and Brisbane approximately 
 487km* north. Bingara provides all essential amenities\, including grocer
 ies\, hotels and cafés\, along with K-12 schooling and medical services\,
  supported by a strong local community. 'Fairview' is well positioned for
  livestock marketing\, with nearby feedlots and abattoirs\, and access to
  the Inverell Regional Livestock Exchange\, which conducts weekly cattle 
 sales and fortnightly sheep sales each Tuesday.\n <br/> \n <br/> COUNTRY:
  Productive basalt country underpins the property\, featuring a balanced 
 mix of red and brown soils with approximately 70% arable land. The proper
 ty has benefited from an ongoing pasture development program\, with estab
 lished tropical pastures complemented by native grazing\, along with area
 s suited to cereal and fodder crop production. Well suited to a mixed far
 ming enterprise\, the landscape transitions from open arable country to l
 ightly timbered areas\, rising into more densely timbered ranges at the r
 ear-providing natural shelter belts for livestock.\n <br/> WATER: Water a
 cross the property is well established\, comprising of multiple earth dam
 s and a reliable bore supply. Water is pumped to header tanks and reticul
 ated throughout the property to a network of strategically positioned con
 crete troughs\, ensuring efficient stock management and consistent supply
 . In addition\, several rainwater tanks collect rainwater from the infras
 tructure supplying the homestead. \n <br/> \n <br/> HOME: The comfortable
  weatherboard homestead offers four bedrooms plus a dedicated office\, se
 rviced by a centrally located bathroom. The kitchen enjoys an outlook ove
 r the property and connects to a formal dining and lounge room\, while en
 closed verandahs provide additional space for year-round entertaining. Co
 mfort is assured with split system air-conditioning and a woodfire. Set a
 mongst established trees and gardens\, the home also features a swimming 
 pool and enjoys excellent views across the surrounding landscape.\n <br/>
  \n <br/> IMPROVEMENTS: Improvements across the property are extensive an
 d well maintained. A large concrete lock-up workshop with adjoining skill
 ion is complemented by a separate tack room and an open-bay machinery she
 d. An additional three-bay shed\, with one bay concreted\, is currently u
 tilised for fodder storage plus an additional two grain silos. The proper
 ty is well fenced and subdivided into four smaller paddocks surrounding t
 he main infrastructure\, supported by a round yard and steel cattle yards
  with a covered working area. Boundary fencing is in sound condition\, wi
 th sections recently upgraded to exclusion fencing. A second set of cattl
 e yards is located at the far end of the property\, enhancing overall fun
 ctionality and stock handling efficiency. \n <br/> \n <br/> REMARKS: 'Fai
 rview' presents a well-balanced and highly functional rural holding\, com
 bining productive country\, reliable water\, quality infrastructure and a
  comfortable homestead in a tightly held and well-regarded district. With
  scale\, versatility and strong access to key service centres and livesto
 ck markets\, the property is ideally suited to a mixed farming or grazing
  enterprise. An outstanding opportunity to secure a productive asset with
  proven capability and future potential. For more information contact Bad
 en Chaffey 0488 697 416 or Riley Gibson on 0417 441 688.</P></body></html
 >
END:VEVENT
END:VCALENDAR
