BEGIN:VCALENDAR
PRODID:-//commercialrealestate.com.au//NONSGML ical.net 4.0//EN
VERSION:2.0
BEGIN:VEVENT
DESCRIPTION:PRIVATE LIFESTYLE RETREAT WITH TIMELESS QUEENSLANDER CHARM\nEs
 cape to your own private lifestyle haven where space\, serenity\, and cha
 racter come together in perfect harmony! Set on just over 5 hectares\, th
 is charming acreage offers a rare opportunity to secure a peaceful retrea
 t with room to grow\, explore\, and truly unwind.\n\nTucked away from the
  road via a long private driveway\, the home sits proudly on an elevated 
 position\, capturing sweeping views across the property. This beautifully
  preserved Queenslander\, rich in history and craftsmanship\, showcases s
 oaring 12-foot ceilings and timeless timber features\, creating a warm an
 d inviting atmosphere throughout.\n\nWhether you're chasing a quieter pac
 e of life\, space for hobbies\, or a semi off-grid lifestyle\, this prope
 rty delivers outstanding value and versatility!\n\nProperty Highlights:\n
 \nExpansive 5.07-hectare block with a selection of established fruit tree
 s including mandarin\, orange\, mango\, and macadamia\nCharacter-filled Q
 ueenslander home\, over 100 years old and built from locally milled hoop 
 pine\nThree to four bedrooms plus office space\, with enclosed verandas a
 dding flexibility\nSpacious living area featuring a cosy fireplace for th
 e cooler months\nFunctional kitchen with an impressively large walk-in pa
 ntry\nHigh ceilings and classic timber finishes throughout\nLarge bathroo
 m with corner bath plus separate toilet\n\nOutdoor & Infrastructure:\n\nL
 ong private driveway offering peace\, privacy\, and seclusion\nAmple stor
 age space under the home for vehicles\, equipment\, or workshop use\nTwo-
 bay colorbond shed with one garage space and one powered workshop (concre
 te floor)\nThree rainwater tanks servicing the home\nSmall solar system s
 upporting 12-volt lighting\nConnected to mains power and broadband intern
 et\n\nLifestyle Features:\n\nBack boundary adjoins a local freshwater sup
 ply\nElevated front veranda capturing stunning rural views\nShort drive t
 o the Burnett River with access to a basic boat ramp\n\nThis much-loved p
 roperty is now ready for its next chapter. The motivation is clear\, and 
 opportunities like this are increasingly hard to find!\n\nIf you've been 
 dreaming of space\, privacy\, and a lifestyle change without sacrificing 
 convenience\, this is one you won't want to miss.\n\nDisclaimer: \nWhilst
  every endeavour has been made to verify the correct details in this mark
 eting neither the agent\, vendor or contracted illustrator take any respo
 nsibility for any omission\, wrongful inclusion\, misdescription or typog
 raphical error in this marketing material. Accordingly\, all interested p
 arties should make their own enquiries to verify the information provided
 .\n\nAny floor plan\, imagery or video included in this marketing materia
 l are for illustration purposes only\, all measurements are approximate a
 nd are intended as an artistic impression only. Any fixtures shown may no
 t necessarily be included in the sale contract and it is essential that a
 ny queries are directed to the agent.\n\nDisclaimer\nThis property is bei
 ng sold by auction or without a price and therefore a price guide can not
  be provided. The website may have filtered the property into a price bra
 cket for website functionality purposes
DTEND:20260530T120000
DTSTAMP:20260422T074130Z
DTSTART:20260530T110000
LOCATION:234 Bourbong Street Bundaberg West
SEQUENCE:0
SUMMARY:Auction: 29 East River Pines Drive\, Delan QLD
UID:CRE-2020781323-Auction
X-ALT-DESC;FMTTYPE=text/html:<!DOCTYPE HTML PUBLIC "-//W3C//DTD HTML 3.2//EN"><html><head><
 title></title></head><body><P DIR=LTR>PRIVATE LIFESTYLE RETREAT WITH TIME
 LESS QUEENSLANDER CHARM <br/> Escape to your own private lifestyle haven 
 where space\, serenity\, and character come together in perfect harmony! 
 Set on just over 5 hectares\, this charming acreage offers a rare opportu
 nity to secure a peaceful retreat with room to grow\, explore\, and truly
  unwind. <br/>  <br/> Tucked away from the road via a long private drivew
 ay\, the home sits proudly on an elevated position\, capturing sweeping v
 iews across the property. This beautifully preserved Queenslander\, rich 
 in history and craftsmanship\, showcases soaring 12-foot ceilings and tim
 eless timber features\, creating a warm and inviting atmosphere throughou
 t. <br/>  <br/> Whether you're chasing a quieter pace of life\, space for
  hobbies\, or a semi off-grid lifestyle\, this property delivers outstand
 ing value and versatility! <br/>  <br/> Property Highlights: <br/>  <br/>
  Expansive 5.07-hectare block with a selection of established fruit trees
  including mandarin\, orange\, mango\, and macadamia <br/> Character-fill
 ed Queenslander home\, over 100 years old and built from locally milled h
 oop pine <br/> Three to four bedrooms plus office space\, with enclosed v
 erandas adding flexibility <br/> Spacious living area featuring a cosy fi
 replace for the cooler months <br/> Functional kitchen with an impressive
 ly large walk-in pantry <br/> High ceilings and classic timber finishes t
 hroughout <br/> Large bathroom with corner bath plus separate toilet <br/
 >  <br/> Outdoor & Infrastructure: <br/>  <br/> Long private driveway off
 ering peace\, privacy\, and seclusion <br/> Ample storage space under the
  home for vehicles\, equipment\, or workshop use <br/> Two-bay colorbond 
 shed with one garage space and one powered workshop (concrete floor) <br/
 > Three rainwater tanks servicing the home <br/> Small solar system suppo
 rting 12-volt lighting <br/> Connected to mains power and broadband inter
 net <br/>  <br/> Lifestyle Features: <br/>  <br/> Back boundary adjoins a
  local freshwater supply <br/> Elevated front veranda capturing stunning 
 rural views <br/> Short drive to the Burnett River with access to a basic
  boat ramp <br/>  <br/> This much-loved property is now ready for its nex
 t chapter. The motivation is clear\, and opportunities like this are incr
 easingly hard to find! <br/>  <br/> If you've been dreaming of space\, pr
 ivacy\, and a lifestyle change without sacrificing convenience\, this is 
 one you won't want to miss. <br/>  <br/> Disclaimer:  <br/> Whilst every 
 endeavour has been made to verify the correct details in this marketing n
 either the agent\, vendor or contracted illustrator take any responsibili
 ty for any omission\, wrongful inclusion\, misdescription or typographica
 l error in this marketing material. Accordingly\, all interested parties 
 should make their own enquiries to verify the information provided. <br/>
   <br/> Any floor plan\, imagery or video included in this marketing mate
 rial are for illustration purposes only\, all measurements are approximat
 e and are intended as an artistic impression only. Any fixtures shown may
  not necessarily be included in the sale contract and it is essential tha
 t any queries are directed to the agent. <br/>  <br/> Disclaimer <br/> Th
 is property is being sold by auction or without a price and therefore a p
 rice guide can not be provided. The website may have filtered the propert
 y into a price bracket for website functionality purposes</P></body></htm
 l>
END:VEVENT
END:VCALENDAR
