BEGIN:VCALENDAR
PRODID:-//commercialrealestate.com.au//NONSGML ical.net 4.0//EN
VERSION:2.0
BEGIN:VEVENT
DESCRIPTION:Rare Opportunity on the Fabulous Parade\nLJ Hooker Commercial 
 Adelaide is pleased to present to the market 51 The Parade\, Norwood for 
 sale via public auction on-site 15th May 2026 at 12:00 p.m.\n\nLocated in
  the heart of Norwood's premier retail strip\, this high-profile asset re
 presents a rare opportunity to secure a tightly held commercial property 
 along The Parade.\n\nThe property sits within one of Adelaide's most vibr
 ant lifestyle precincts\, surrounded by quality cafés\, restaurants\, nat
 ional retailers and essential services\, and benefits from excellent prox
 imity to the Adelaide CBD.\n\nOffered to the market for the first time in
  over 40 years and home to the well-known "Outdoors on Parade"\, the prop
 erty is offered with vacant possession\, providing flexibility for owner 
 occupiers\, investors or future repositioning.\n\nKey Features\n	First ti
 me offered in over 40 years \n	Premium position along The Parade \n	Land 
 area of 436 sqm* \n	Lettable area of 350 sqm* \n	High exposure frontage \
 n	Strong pedestrian and vehicular traffic \n	Surrounded by established re
 tailers\, cafés and lifestyle amenity \n	Excellent access to public trans
 port and main arterial roads \n	Flexible use potential (STCC) \n	Offered 
 with vacant possession\n\nOpen inspection times:\n28/04/2026 between 11:0
 0 a.m. and 11:30 a.m.\n05/05/2026 between 11:00 a.m. and 11:30 a.m.\n15/0
 5/2026 between 11:30 a.m. and 12:00 p.m. (prior to the auction)\n\nFor Sa
 le via Public Auction on-site\, Friday 15/05/2026 at 12:00 p.m.\n\nFor fu
 rther information contact:\nRino Pancione 0417 822 987\nMark Tettis 0433 
 139 892\n\n*Approximate\n\n** All information provided has been obtained 
 from sources we believe to be accurate\, however\, we cannot guarantee th
 e information is accurate and we accept no liability for any errors or om
 issions (including but not limited to a property's land size\, floor plan
 s and size\, building age and condition). Interested parties should make 
 their own enquiries and obtain their own legal advice.\n\nShould this pro
 perty be scheduled for auction\, the Vendor's Statement (Form 1) will be 
 available at the LJ Hooker St Peters office for 3 consecutive business da
 ys immediately preceding the auction and at the auction for 30 minutes be
 fore it starts.\n\nRLA 231 015
DTEND:20260515T130000
DTSTAMP:20260422T070407Z
DTSTART:20260515T120000
LOCATION:51 The Parade\, Norwood SA
SEQUENCE:0
SUMMARY:Auction: 51 The Parade\, Norwood SA
UID:CRE-2020781165-Auction
X-ALT-DESC;FMTTYPE=text/html:<!DOCTYPE HTML PUBLIC "-//W3C//DTD HTML 3.2//EN"><html><head><
 title></title></head><body><P DIR=LTR>Rare Opportunity on the Fabulous Pa
 rade <br/> LJ Hooker Commercial Adelaide is pleased to present to the mar
 ket 51 The Parade\, Norwood for sale via public auction on-site 15th May 
 2026 at 12:00 p.m. <br/>  <br/> Located in the heart of Norwood's premier
  retail strip\, this high-profile asset represents a rare opportunity to 
 secure a tightly held commercial property along The Parade. <br/>  <br/> 
 The property sits within one of Adelaide's most vibrant lifestyle precinc
 ts\, surrounded by quality cafés\, restaurants\, national retailers and e
 ssential services\, and benefits from excellent proximity to the Adelaide
  CBD. <br/>  <br/> Offered to the market for the first time in over 40 ye
 ars and home to the well-known "Outdoors on Parade"\, the property is off
 ered with vacant possession\, providing flexibility for owner occupiers\,
  investors or future repositioning. <br/>  <br/> Key Features <br/> 	Firs
 t time offered in over 40 years  <br/> 	Premium position along The Parade
   <br/> 	Land area of 436 sqm*  <br/> 	Lettable area of 350 sqm*  <br/> 	
 High exposure frontage  <br/> 	Strong pedestrian and vehicular traffic  <
 br/> 	Surrounded by established retailers\, cafés and lifestyle amenity  
 <br/> 	Excellent access to public transport and main arterial roads  <br/
 > 	Flexible use potential (STCC)  <br/> 	Offered with vacant possession <
 br/>  <br/> Open inspection times: <br/> 28/04/2026 between 11:00 a.m. an
 d 11:30 a.m. <br/> 05/05/2026 between 11:00 a.m. and 11:30 a.m. <br/> 15/
 05/2026 between 11:30 a.m. and 12:00 p.m. (prior to the auction) <br/>  <
 br/> For Sale via Public Auction on-site\, Friday 15/05/2026 at 12:00 p.m
 . <br/>  <br/> For further information contact: <br/> Rino Pancione 0417 
 822 987 <br/> Mark Tettis 0433 139 892 <br/>  <br/> *Approximate <br/>  <
 br/> ** All information provided has been obtained from sources we believ
 e to be accurate\, however\, we cannot guarantee the information is accur
 ate and we accept no liability for any errors or omissions (including but
  not limited to a property's land size\, floor plans and size\, building 
 age and condition). Interested parties should make their own enquiries an
 d obtain their own legal advice. <br/>  <br/> Should this property be sch
 eduled for auction\, the Vendor's Statement (Form 1) will be available at
  the LJ Hooker St Peters office for 3 consecutive business days immediate
 ly preceding the auction and at the auction for 30 minutes before it star
 ts. <br/>  <br/> RLA 231 015</P></body></html>
END:VEVENT
END:VCALENDAR
