BEGIN:VCALENDAR
PRODID:-//commercialrealestate.com.au//NONSGML ical.net 4.0//EN
VERSION:2.0
BEGIN:VEVENT
DESCRIPTION:Outstanding Entry Level Investment with Two Secure Tenancies &
  Future Upside\nRomeo Commercial is pleased to present 483-485 Payneham R
 oad\, Felixstow\, offered for sale via Public Auction.\n\nPositioned with
 in Adelaide's prominent eastern corridor\, this property represents an ou
 tstanding opportunity to secure a high-exposure commercial asset at an en
 try level price.\n\nComprising two well-established and securely leased r
 etail tenancies\, the property delivers a reliable income stream with the
  added benefit of flexibility for future owner-occupiers or potential val
 ue-add upside.\n\nKey Features:\n> Two (2) adjoining shops with a combine
 d building area of approx. 217m2\n> Torrens Title site of approx. 500m2\n
 > Estimated net income $41\,966.40* per annum \n> Prime main road locatio
 n with high visibility to circa 45\,000 passing vehicles daily\n> Zoned S
 uburban Activity Centre in the City of Norwood Payneham and St Peters\n\n
 For Sale by Public Auction to be held on-site on Thursday 21 May 2026 at 
 12pm.\n\nFor further information or to arrange an inspection contact Dani
 el Romeo of Romeo Commercial \n\n*Approx.\nRLA 336999
DTEND:20260521T130000
DTSTAMP:20260422T053628Z
DTSTART:20260521T120000
LOCATION:483-485 Payneham Road\, Felixstow SA
SEQUENCE:0
SUMMARY:Auction: 483-485 Payneham Road\, Felixstow SA
UID:CRE-2020780502-Auction
X-ALT-DESC;FMTTYPE=text/html:<!DOCTYPE HTML PUBLIC "-//W3C//DTD HTML 3.2//EN"><html><head><
 title></title></head><body><P DIR=LTR>Outstanding Entry Level Investment 
 with Two Secure Tenancies & Future Upside <br/> Romeo Commercial is pleas
 ed to present 483-485 Payneham Road\, Felixstow\, offered for sale via Pu
 blic Auction.\n <br/> \n <br/> Positioned within Adelaide's prominent eas
 tern corridor\, this property represents an outstanding opportunity to se
 cure a high-exposure commercial asset at an entry level price.\n <br/> \n
  <br/> Comprising two well-established and securely leased retail tenanci
 es\, the property delivers a reliable income stream with the added benefi
 t of flexibility for future owner-occupiers or potential value-add upside
 .\n <br/> \n <br/> Key Features:\n <br/> > Two (2) adjoining shops with a
  combined building area of approx. 217m2\n <br/> > Torrens Title site of 
 approx. 500m2\n <br/> > Estimated net income $41\,966.40* per annum \n <b
 r/> > Prime main road location with high visibility to circa 45\,000 pass
 ing vehicles daily\n <br/> > Zoned Suburban Activity Centre in the City o
 f Norwood Payneham and St Peters\n <br/> \n <br/> For Sale by Public Auct
 ion to be held on-site on Thursday 21 May 2026 at 12pm.\n <br/> \n <br/> 
 For further information or to arrange an inspection contact Daniel Romeo 
 of Romeo Commercial \n <br/> \n <br/> *Approx.\n <br/> RLA 336999</P></bo
 dy></html>
END:VEVENT
END:VCALENDAR
