BEGIN:VCALENDAR
PRODID:-//commercialrealestate.com.au//NONSGML ical.net 4.0//EN
VERSION:2.0
BEGIN:VEVENT
DESCRIPTION:UNRIVALLED POSITION WITH EXCEPTIONAL UPSIDE\nTeska Carson is p
 leased to offer 117 Brunswick Street\, Fitzroy for sale by Public Auction
  on Thursday 28 May 2026 at 12pm on-site. \n\nRare corner block with endl
 ess potential\, situated in the highly sought after lifestyle and enterta
 inment precinct of Brunswick Street\, Fitzroy. \n\nProperty highlights:\n
 \n\nGenerous landholding of 372sqm*\nHighly sought-after corner site\nRar
 e triple street exposure\nExpansive 51m* total frontage plus rear lane ac
 cess\nVersatile two-level retail/office premises with significant growth 
 potential\nZoned: Commercial 1\n\nThe location is well-served by public t
 ransport and convenient to schools\, hospitals\, the Australian Catholic 
 University and Carlton Gardens.\n\nPlease call for further information or
  to arrange an inspection. \n\n*approx.\n
DTEND:20260528T130000
DTSTAMP:20260422T034416Z
DTSTART:20260528T120000
LOCATION:117 Brunswick Street\, Fitzroy VIC
SEQUENCE:0
SUMMARY:Auction: 117 Brunswick Street\, Fitzroy VIC
UID:CRE-2020780018-Auction
X-ALT-DESC;FMTTYPE=text/html:<!DOCTYPE HTML PUBLIC "-//W3C//DTD HTML 3.2//EN"><html><head><
 title></title></head><body><P DIR=LTR>UNRIVALLED POSITION WITH EXCEPTIONA
 L UPSIDE <br/> Teska Carson is pleased to offer 117 Brunswick Street\, Fi
 tzroy for sale by Public Auction on Thursday 28 May 2026 at 12pm on-site.
   <br/>  <br/> Rare corner block with endless potential\, situated in the
  highly sought after lifestyle and entertainment precinct of Brunswick St
 reet\, Fitzroy.  <br/>  <br/> Property highlights: <br/>  <br/>  <br/> Ge
 nerous landholding of 372sqm* <br/> Highly sought-after corner site <br/>
  Rare triple street exposure <br/> Expansive 51m* total frontage plus rea
 r lane access <br/> Versatile two-level retail/office premises with signi
 ficant growth potential <br/> Zoned: Commercial 1 <br/>  <br/> The locati
 on is well-served by public transport and convenient to schools\, hospita
 ls\, the Australian Catholic University and Carlton Gardens. <br/>  <br/>
  Please call for further information or to arrange an inspection.  <br/> 
  <br/> *approx. <br/> </P></body></html>
END:VEVENT
END:VCALENDAR
