BEGIN:VCALENDAR
PRODID:-//commercialrealestate.com.au//NONSGML ical.net 4.0//EN
VERSION:2.0
BEGIN:VEVENT
DESCRIPTION:Funky Retail/Showroom Investment in Bustling Location\nGorman 
 Commercial is pleased to offer 99 Greville Street\, Prahran for sale by w
 ay of public auction on Wednesday 27th May at 11am on-site.\n\nThis ultra
  cool and versatile retail/showroom investment provides buyers with a sec
 ure income stream and further development upside.\n\nThe key highlights a
 re:\n\n\nIncome: $68\,620 pa + GST + Outgoings\nExcellent landholding of 
 281sqm\nThe building comprises a versatile layout with showroom/retail an
 d back of house office and warehousing.\nTwo street frontages\nWide rear 
 access providing excellent access for deliveries or further development u
 pside (STCA)\nLeased to longstanding business which has been trading with
 in the Prahran precinct for 2 years\nAdjacent to Prahran train station\nL
 ocated within the iconic and high performing Greville Street strip surrou
 nded by high-calibre tenants and bustling nightlife venues.\n
DTEND:20260527T120000
DTSTAMP:20260422T034939Z
DTSTART:20260527T110000
LOCATION:99 Greville Street\, Prahran VIC
SEQUENCE:0
SUMMARY:Auction: 99 Greville Street\, Prahran VIC
UID:CRE-2020780002-Auction
X-ALT-DESC;FMTTYPE=text/html:<!DOCTYPE HTML PUBLIC "-//W3C//DTD HTML 3.2//EN"><html><head><
 title></title></head><body><P DIR=LTR>Funky Retail/Showroom Investment in
  Bustling Location <br/> Gorman Commercial is pleased to offer 99 Grevill
 e Street\, Prahran for sale by way of public auction on Wednesday 27th Ma
 y at 11am on-site. <br/> \n <br/> This ultra cool and versatile retail/sh
 owroom investment provides buyers with a secure income stream and further
  development upside. <br/> \n <br/> The key highlights are: <br/> \n <br/
 > \n <br/> Income: $68\,620 pa + GST + Outgoings\n <br/> Excellent landho
 lding of 281sqm\n <br/> The building comprises a versatile layout with sh
 owroom/retail and back of house office and warehousing.\n <br/> Two stree
 t frontages\n <br/> Wide rear access providing excellent access for deliv
 eries or further development upside (STCA)\n <br/> Leased to longstanding
  business which has been trading within the Prahran precinct for 2 years\
 n <br/> Adjacent to Prahran train station\n <br/> Located within the icon
 ic and high performing Greville Street strip surrounded by high-calibre t
 enants and bustling nightlife venues.\n <br/> </P></body></html>
END:VEVENT
END:VCALENDAR
