BEGIN:VCALENDAR
PRODID:-//commercialrealestate.com.au//NONSGML ical.net 4.0//EN
VERSION:2.0
BEGIN:VEVENT
DESCRIPTION:Secure Retail Investment  First time offered in 40 years\nGorm
 an Commercial is pleased to offer 233 Glenferrie Road\, Malvern for sale 
 by way of public auction on Friday 29th May at 12:30pm on-site.\n\nOffere
 d for the first time in 40 years\, the property presents an excellent opp
 ortunity for buyers to acquire this securely leased tenanted investment s
 ituated within one of Melbourne’s most sought after retail shopping strip
 s.\n\nThe key highlights are:\n\n\nIncome: $71\,260 pa + GST + Outgoings\
 nVersatile two-level freehold premises currently being utilised as a rest
 aurant.\nRear access and dry storage area plus secure on-site parking\nQu
 ality landholding of 225sqm\nProminent 6+ metre frontage providing flexib
 ility and future development upside (STCA)\nSituated within the heart of 
 the vibrant and highly affluent Glenferrie Road\, Malvern location.\nWith
 in 50 metres to 3 large council car parks providing substantial car parki
 ng for customers.\n\nLeased to established and well renowned local Thai r
 estaurant\, Nakorn Thai\, with an exceptionally high google review rating
  of 4.6 stars from 457 reviews.\n
DTEND:20260527T133000
DTSTAMP:20260422T032530Z
DTSTART:20260527T123000
LOCATION:233 Glenferrie Road\, Malvern VIC
SEQUENCE:0
SUMMARY:Auction: 233 Glenferrie Road\, Malvern VIC
UID:CRE-2020779994-Auction
X-ALT-DESC;FMTTYPE=text/html:<!DOCTYPE HTML PUBLIC "-//W3C//DTD HTML 3.2//EN"><html><head><
 title></title></head><body><P DIR=LTR>Secure Retail Investment  First tim
 e offered in 40 years <br/> Gorman Commercial is pleased to offer 233 Gle
 nferrie Road\, Malvern for sale by way of public auction on Friday 29th M
 ay at 12:30pm on-site. <br/> \n <br/> Offered for the first time in 40 ye
 ars\, the property presents an excellent opportunity for buyers to acquir
 e this securely leased tenanted investment situated within one of Melbour
 ne’s most sought after retail shopping strips. <br/> \n <br/> The key hig
 hlights are: <br/> \n <br/> \n <br/> Income: $71\,260 pa + GST + Outgoing
 s\n <br/> Versatile two-level freehold premises currently being utilised 
 as a restaurant.\n <br/> Rear access and dry storage area plus secure on-
 site parking\n <br/> Quality landholding of 225sqm\n <br/> Prominent 6+ m
 etre frontage providing flexibility and future development upside (STCA)\
 n <br/> Situated within the heart of the vibrant and highly affluent Glen
 ferrie Road\, Malvern location.\n <br/> Within 50 metres to 3 large counc
 il car parks providing substantial car parking for customers.\n <br/> \n 
 <br/> Leased to established and well renowned local Thai restaurant\, Nak
 orn Thai\, with an exceptionally high google review rating of 4.6 stars f
 rom 457 reviews. <br/> </P></body></html>
END:VEVENT
END:VCALENDAR
