BEGIN:VCALENDAR
PRODID:-//commercialrealestate.com.au//NONSGML ical.net 4.0//EN
VERSION:2.0
BEGIN:VEVENT
DESCRIPTION:Prime Macquarie River Lifestyle Holding - Scale\, Water & Priv
 acy\nComprising approximately 1142 acres (462 hectares)\, 'Warra Creek' a
  represents a rare opportunity to secure a substantial riverfront lifesty
 le holding of scale\, privacy\, and natural beauty.\n\nWith approximately
  3.6 kilometres of direct frontage to the Macquarie River\, the property 
 showcases an impressive and diverse landscape\, including fertile river f
 lats\, open country\, and natural bushland. This combination creates an e
 xceptional setting for recreation\, relaxation\, and a private rural esca
 pe.\n\nIdeally located just 45km from Orange\, 40km from Bathurst\, and a
 pproximately 240km from Sydney\, the property offers the perfect balance 
 of seclusion and accessibility to major regional centres.\n\nThe main res
 idence is a comfortable four-bedroom\, two-bathroom home set within estab
 lished surrounds. Designed for practical living\, it features multiple li
 ving areas\, a functional layout\, and a master bedroom with ensuite. The
  home enjoys a peaceful outlook across the property\, enhancing the sense
  of space and privacy. A second cottage is also located on the property\,
  offering significant potential for renovation. It presents an opportunit
 y for guest accommodation\, a weekend retreat\, or extended family use.\n
 \nThe property features undulating to steep basalt country\, offering exc
 ellent versatility for agricultural and recreational pursuits. Warra Cree
 k' would be ideal to run sheep\, cattle or goats. The Macquarie River fro
 ntage is a defining feature-offering direct water access\, stunning natur
 al scenery\, and a wide range of recreational pursuits including hunting\
 , fishing\, kayaking\, camping\, and riverside relaxation in complete pri
 vacy.\n\nKey Features\n\n• Approx. 1146 acres (464 hectares) private rive
 rfront holding\n• Approx. 3.6km direct frontage to the Macquarie River\n•
  Diverse landscape: river flats\, open country\, and bushland\n• Exceptio
 nal recreational lifestyle opportunity\n• Four-bedroom\, two-bathroom mai
 n residence\n• Second cottage with strong renovation potential\n• Multipl
 e private river access points\n• Highly private setting with significant 
 natural amenity\n• 45km to Orange\, 40km to Bathurst\, 240km to Sydney\n\
 nA rare offering of scale\, river frontage\, and lifestyle appeal-deliver
 ing space\, privacy\, and natural beauty in one of the region's tightly h
 eld rural corridors.\n\nAuction Date: 11th June 2026 \nIbis Hotel - 146 B
 athurst Road\, Orange NSW 2800\nCommencing 10:30am\n\n* Information and p
 roperty boundaries are an approximate and should be used as a guide only 
 *\n\nPlease ensure you have read the following articles: \n\nPrivacy Poli
 cy and Data Collection - www.raywhite.com/franchisee-privacy-policy\nDisc
 laimer -  www.raywhite.com/contact/legal-information\n\nPlease ask your a
 gent if you have any further questions
DTEND:20260611T113000
DTSTAMP:20260422T022821Z
DTSTART:20260611T103000
LOCATION:146 Bathurst Road\, Orange NSW 2800
SEQUENCE:0
SUMMARY:Auction: 'warra Creek' 652 Killongbutta Road\, Killongbutta Via\, 
 Bathurst NSW
UID:CRE-2020779257-Auction
X-ALT-DESC;FMTTYPE=text/html:<!DOCTYPE HTML PUBLIC "-//W3C//DTD HTML 3.2//EN"><html><head><
 title></title></head><body><P DIR=LTR>Prime Macquarie River Lifestyle Hol
 ding - Scale\, Water & Privacy <br/> Comprising approximately 1142 acres 
 (462 hectares)\, 'Warra Creek' a represents a rare opportunity to secure 
 a substantial riverfront lifestyle holding of scale\, privacy\, and natur
 al beauty.\n <br/> \n <br/> With approximately 3.6 kilometres of direct f
 rontage to the Macquarie River\, the property showcases an impressive and
  diverse landscape\, including fertile river flats\, open country\, and n
 atural bushland. This combination creates an exceptional setting for recr
 eation\, relaxation\, and a private rural escape.\n <br/> \n <br/> Ideall
 y located just 45km from Orange\, 40km from Bathurst\, and approximately 
 240km from Sydney\, the property offers the perfect balance of seclusion 
 and accessibility to major regional centres.\n <br/> \n <br/> The main re
 sidence is a comfortable four-bedroom\, two-bathroom home set within esta
 blished surrounds. Designed for practical living\, it features multiple l
 iving areas\, a functional layout\, and a master bedroom with ensuite. Th
 e home enjoys a peaceful outlook across the property\, enhancing the sens
 e of space and privacy. A second cottage is also located on the property\
 , offering significant potential for renovation. It presents an opportuni
 ty for guest accommodation\, a weekend retreat\, or extended family use.\
 n <br/> \n <br/> The property features undulating to steep basalt country
 \, offering excellent versatility for agricultural and recreational pursu
 its. Warra Creek' would be ideal to run sheep\, cattle or goats. The Macq
 uarie River frontage is a defining feature-offering direct water access\,
  stunning natural scenery\, and a wide range of recreational pursuits inc
 luding hunting\, fishing\, kayaking\, camping\, and riverside relaxation 
 in complete privacy.\n <br/> \n <br/> Key Features\n <br/> \n <br/> • App
 rox. 1146 acres (464 hectares) private riverfront holding\n <br/> • Appro
 x. 3.6km direct frontage to the Macquarie River\n <br/> • Diverse landsca
 pe: river flats\, open country\, and bushland\n <br/> • Exceptional recre
 ational lifestyle opportunity\n <br/> • Four-bedroom\, two-bathroom main 
 residence\n <br/> • Second cottage with strong renovation potential\n <br
 /> • Multiple private river access points\n <br/> • Highly private settin
 g with significant natural amenity\n <br/> • 45km to Orange\, 40km to Bat
 hurst\, 240km to Sydney\n <br/> \n <br/> A rare offering of scale\, river
  frontage\, and lifestyle appeal-delivering space\, privacy\, and natural
  beauty in one of the region's tightly held rural corridors.\n <br/> \n <
 br/> Auction Date: 11th June 2026 \n <br/> Ibis Hotel - 146 Bathurst Road
 \, Orange NSW 2800\n <br/> Commencing 10:30am\n <br/> \n <br/> * Informat
 ion and property boundaries are an approximate and should be used as a gu
 ide only *\n <br/> \n <br/> Please ensure you have read the following art
 icles: \n <br/> \n <br/> Privacy Policy and Data Collection - www.raywhit
 e.com/franchisee-privacy-policy\n <br/> Disclaimer -  www.raywhite.com/co
 ntact/legal-information\n <br/> \n <br/> Please ask your agent if you hav
 e any further questions</P></body></html>
END:VEVENT
END:VCALENDAR
