BEGIN:VCALENDAR
PRODID:-//commercialrealestate.com.au//NONSGML ical.net 4.0//EN
VERSION:2.0
BEGIN:VEVENT
DESCRIPTION:South Yarra Trophy Investment\nMorley is pleased to offer this
  rare blue-chip investment in the heart of South Yarra.\n\nGround Floor l
 eased to longstanding tenant "Evervet Veterinarian Hospital" \nTwo separa
 te first floor commercial tenants\nIncome: $181\,928 per annum approx.\nS
 ubstantial building area of 364m² approx.\nValuable front & rear access\n
 Future development potential / upper-level residential conversion opportu
 nity\nThriving location surrounded by premier businesses including Mecca 
 Cosmetica\, Bar Carolina\, France Soir\, Cosi and Gum Tree Good Food\nMul
 tiple large public car parks at rear and metres from South Yarra Train St
 ation\nSituated in the prestigious suburb of South Yarra\, Melbourne's ho
 me of luxury retail\, hospitality and some of Melbourne's finest resident
 ial homes\n\nAuction  Thursday 21st May at 1pm on site
DTEND:20260521T140000
DTSTAMP:20260423T100604Z
DTSTART:20260521T130000
LOCATION:66 Toorak Road\, South Yarra VIC
SEQUENCE:0
SUMMARY:Auction: 66 Toorak Road\, South Yarra VIC
UID:CRE-2020778921-Auction
X-ALT-DESC;FMTTYPE=text/html:<!DOCTYPE HTML PUBLIC "-//W3C//DTD HTML 3.2//EN"><html><head><
 title></title></head><body><P DIR=LTR>South Yarra Trophy Investment <br/>
  Morley is pleased to offer this rare blue-chip investment in the heart o
 f South Yarra. <br/>  <br/> Ground Floor leased to longstanding tenant "E
 vervet Veterinarian Hospital"  <br/> Two separate first floor commercial 
 tenants <br/> Income: $181\,928 per annum approx. <br/> Substantial build
 ing area of 364m² approx. <br/> Valuable front & rear access <br/> Future
  development potential / upper-level residential conversion opportunity <
 br/> Thriving location surrounded by premier businesses including Mecca C
 osmetica\, Bar Carolina\, France Soir\, Cosi and Gum Tree Good Food <br/>
  Multiple large public car parks at rear and metres from South Yarra Trai
 n Station <br/> Situated in the prestigious suburb of South Yarra\, Melbo
 urne's home of luxury retail\, hospitality and some of Melbourne's finest
  residential homes <br/>  <br/> Auction  Thursday 21st May at 1pm on site
 </P></body></html>
END:VEVENT
END:VCALENDAR
