BEGIN:VCALENDAR
PRODID:-//commercialrealestate.com.au//NONSGML ical.net 4.0//EN
VERSION:2.0
BEGIN:VEVENT
DESCRIPTION:Fully Leased Retail Investment in Prime Gordon CBD Location\nS
 head Property is pleased to present for sale 785 Pacific Highway\, Gordon
 \, a prime retail investment positioned in a highly visible and tightly h
 eld location directly opposite the Gordon Centre.\n \nPositioned prominen
 tly along the Pacific Highway\, this outstanding freehold asset offers a 
 rare opportunity to secure a fully leased investment in the heart of the 
 Gordon CBD.\n\nThe property is further enhanced by recent Ku-ring-gai Cou
 ncil Zoning upgrades\, offering potential long-term redevelopment uplift 
 within one of the Upper North Shore's most active commercial precincts.\n
  \nThis is a rare opportunity for investors seeking a strong income-produ
 cing asset with strategic long-term growth potential.\n \nKey Features:\n
 	Two-storey freehold retail property \n	Fully leased to two established t
 enants (including one holdover)\n	Prime Pacific Highway exposure\n	Direct
 ly opposite Gordon Centre\n	Rear lane access with 2 car spaces\n	Council 
 car park at rear\n	Recent zoning upgrade with future uplift potential \n	
 Walking distance to Gordon Railway Station (approx. 200m) \n \nFor furthe
 r information please contact:\n \nRick Sombroek\n0412 280 181 | rick@shea
 d.com.au\n\nBill Geroulis\n0413 100 200 | bill@shead.com.au\n\nIvor Zhou\
 n0430 248 867 | i.zhou@shead.com.au\n \n\nDisclaimer: All data is provide
 d for information purposes only and while all care is taken in its presen
 tation\, Shead Property does not guarantee or warrant the accuracy\, comp
 leteness or currency of the information.
DTEND:20260519T113000
DTSTAMP:20260423T100604Z
DTSTART:20260519T103000
LOCATION:AuctionWorks
SEQUENCE:0
SUMMARY:Auction: 785 Pacific Highway\, Gordon NSW
UID:CRE-2020778520-Auction
X-ALT-DESC;FMTTYPE=text/html:<!DOCTYPE HTML PUBLIC "-//W3C//DTD HTML 3.2//EN"><html><head><
 title></title></head><body><P DIR=LTR>Fully Leased Retail Investment in P
 rime Gordon CBD Location <br/> Shead Property is pleased to present for s
 ale 785 Pacific Highway\, Gordon\, a prime retail investment positioned i
 n a highly visible and tightly held location directly opposite the Gordon
  Centre. <br/>   <br/> Positioned prominently along the Pacific Highway\,
  this outstanding freehold asset offers a rare opportunity to secure a fu
 lly leased investment in the heart of the Gordon CBD. <br/>  <br/> The pr
 operty is further enhanced by recent Ku-ring-gai Council Zoning upgrades\
 , offering potential long-term redevelopment uplift within one of the Upp
 er North Shore's most active commercial precincts. <br/>   <br/> This is 
 a rare opportunity for investors seeking a strong income-producing asset 
 with strategic long-term growth potential. <br/>   <br/> Key Features: <b
 r/> 	Two-storey freehold retail property  <br/> 	Fully leased to two esta
 blished tenants (including one holdover) <br/> 	Prime Pacific Highway exp
 osure <br/> 	Directly opposite Gordon Centre <br/> 	Rear lane access with
  2 car spaces <br/> 	Council car park at rear <br/> 	Recent zoning upgrad
 e with future uplift potential  <br/> 	Walking distance to Gordon Railway
  Station (approx. 200m)  <br/>   <br/> For further information please con
 tact: <br/>   <br/> Rick Sombroek <br/> 0412 280 181 | rick@shead.com.au 
 <br/>  <br/> Bill Geroulis <br/> 0413 100 200 | bill@shead.com.au <br/>  
 <br/> Ivor Zhou <br/> 0430 248 867 | i.zhou@shead.com.au <br/>   <br/>  <
 br/> Disclaimer: All data is provided for information purposes only and w
 hile all care is taken in its presentation\, Shead Property does not guar
 antee or warrant the accuracy\, completeness or currency of the informati
 on.</P></body></html>
END:VEVENT
END:VCALENDAR
