BEGIN:VCALENDAR
PRODID:-//commercialrealestate.com.au//NONSGML ical.net 4.0//EN
VERSION:2.0
BEGIN:VEVENT
DESCRIPTION:Approved Quarry on 27.78Ha with Immediate Income Potential\nPo
 sitioned on an expansive 27.78 hectare parcel\, this unique offering pres
 ents a rare opportunity to secure an approved\, operating quarry with sig
 nificant potential for future use.\n\nThe site benefits from existing cou
 ncil consent for quarry development and operation\, providing buyers with
  confidence and a streamlined pathway to continue or expand current activ
 ities. The material on site consists of clay-based gravel\, suitable for 
 a range of construction and civil applications.\n\nKey Features:\n\n- 27.
 78 Ha\n- Approximately 500 tonnes of material ready for immediate cartage
 \n- Council consent to develop and operate as a quarry\n- Material is cla
 y based gravel\n- Operating hours are 7 am - 7 pm weekdays\, and 7 am - 1
 2 pm Saturdays\n- 10 metre buffer on the North West boundary\n\nDISCLAIME
 R\nAll information (including but not limited to the property areas\, flo
 or size\, price\, address and general property description\, opinions and
 /or articles) on the McGrath website is provided for general information 
 and/or educative purposes only. The content does not constitute professio
 nal advice (be it of a legal\, financial or taxation nature) and should n
 ot be relied upon as such.
DTEND:20260521T130000
DTSTAMP:20260421T071018Z
DTSTART:20260521T120000
LOCATION:Quest Apartments Orange
SEQUENCE:0
SUMMARY:Auction: 269 Spring Hill Road\, Spring Hill NSW
UID:CRE-2020777840-Auction
X-ALT-DESC;FMTTYPE=text/html:<!DOCTYPE HTML PUBLIC "-//W3C//DTD HTML 3.2//EN"><html><head><
 title></title></head><body><P DIR=LTR>Approved Quarry on 27.78Ha with Imm
 ediate Income Potential <br/> Positioned on an expansive 27.78 hectare pa
 rcel\, this unique offering presents a rare opportunity to secure an appr
 oved\, operating quarry with significant potential for future use. <br/> 
  <br/> The site benefits from existing council consent for quarry develop
 ment and operation\, providing buyers with confidence and a streamlined p
 athway to continue or expand current activities. The material on site con
 sists of clay-based gravel\, suitable for a range of construction and civ
 il applications. <br/>  <br/> Key Features: <br/>  <br/> - 27.78 Ha <br/>
  - Approximately 500 tonnes of material ready for immediate cartage <br/>
  - Council consent to develop and operate as a quarry <br/> - Material is
  clay based gravel <br/> - Operating hours are 7 am - 7 pm weekdays\, and
  7 am - 12 pm Saturdays <br/> - 10 metre buffer on the North West boundar
 y <br/>  <br/> DISCLAIMER <br/> All information (including but not limite
 d to the property areas\, floor size\, price\, address and general proper
 ty description\, opinions and/or articles) on the McGrath website is prov
 ided for general information and/or educative purposes only. The content 
 does not constitute professional advice (be it of a legal\, financial or 
 taxation nature) and should not be relied upon as such.</P></body></html>
END:VEVENT
END:VCALENDAR
