BEGIN:VCALENDAR
PRODID:-//commercialrealestate.com.au//NONSGML ical.net 4.0//EN
VERSION:2.0
BEGIN:VEVENT
DESCRIPTION:Tightly Held Moonee Ponds Gem  Rare Corner Site with Endless P
 otential\nOPEN FOR INSPECTION THIS THURSDAY1.00-1.30PM\nBelle Property Co
 mmercial Melbourne North is pleased to offer 5-7 Davies Street\, Moonee P
 onds for Auction.\n\nPositioned in one of Moonee Ponds' most tightly held
  and rapidly evolving pockets\, 57 Davies Street presents a rare corner o
 pportunity offering flexibility\, scale\, and significant upside.\n\nSet 
 on a substantial landholding of 816m² within the Activity Centre Zone (AC
 Z)\, this unique offering comprises a functional warehouse (currently ope
 rating as a very successful Panel Shop) alongside a separately titled 3-b
 edroom single fronted residential dwelling\, creating multiple income and
  usage pathways from day one. Whether you're an investor seeking dual-inc
 ome potential\, an owner-occupier looking to secure a strategic foothold\
 , or a developer ready to capitalise on the favourable zoning\, this prop
 erty delivers on all fronts.\n\nThe corner positioning enhances accessibi
 lity with over 57m of street frontage\, exposure\, and future design flex
 ibility\, making it ideally suited for a range of outcomes (STCA). With M
 oonee Ponds continuing to experience strong growth\, the ACZ zoning furth
 er underpins the long-term development potential\, allowing for higher de
 nsity outcomes in line with the area's strategic vision.\n\nKey highlight
 s:\n Land area: 816m² (approx.)\n Activity Centre Zone (ACZ)\n Corner all
 otment with dual street frontage and ROW\n Existing warehouse and residen
 tial dwelling opportunity\n Multiple income streams or future repositioni
 ng options\n Strong development potential (STCA)\n Ideal for investors\, 
 developers\, or owner-occupiers\nOpportunities of this scale and flexibil
 ity are increasingly rare.
DTEND:20260430T130000
DTSTAMP:20260421T062732Z
DTSTART:20260430T120000
LOCATION:5-7 Davies Street\, Moonee Ponds VIC
SEQUENCE:0
SUMMARY:Auction: 5-7 Davies Street\, Moonee Ponds VIC
UID:CRE-2020777403-Auction
X-ALT-DESC;FMTTYPE=text/html:<!DOCTYPE HTML PUBLIC "-//W3C//DTD HTML 3.2//EN"><html><head><
 title></title></head><body><P DIR=LTR>Tightly Held Moonee Ponds Gem  Rare
  Corner Site with Endless Potential <br/> OPEN FOR INSPECTION THIS THURSD
 AY1.00-1.30PM\n <br/> Belle Property Commercial Melbourne North is please
 d to offer 5-7 Davies Street\, Moonee Ponds for Auction.\n <br/> \n <br/>
  Positioned in one of Moonee Ponds' most tightly held and rapidly evolvin
 g pockets\, 57 Davies Street presents a rare corner opportunity offering 
 flexibility\, scale\, and significant upside.\n <br/> \n <br/> Set on a s
 ubstantial landholding of 816m² within the Activity Centre Zone (ACZ)\, t
 his unique offering comprises a functional warehouse (currently operating
  as a very successful Panel Shop) alongside a separately titled 3-bedroom
  single fronted residential dwelling\, creating multiple income and usage
  pathways from day one. Whether you're an investor seeking dual-income po
 tential\, an owner-occupier looking to secure a strategic foothold\, or a
  developer ready to capitalise on the favourable zoning\, this property d
 elivers on all fronts.\n <br/> \n <br/> The corner positioning enhances a
 ccessibility with over 57m of street frontage\, exposure\, and future des
 ign flexibility\, making it ideally suited for a range of outcomes (STCA)
 . With Moonee Ponds continuing to experience strong growth\, the ACZ zoni
 ng further underpins the long-term development potential\, allowing for h
 igher density outcomes in line with the area's strategic vision.\n <br/> 
 \n <br/> Key highlights:\n <br/>  Land area: 816m² (approx.)\n <br/>  Act
 ivity Centre Zone (ACZ)\n <br/>  Corner allotment with dual street fronta
 ge and ROW\n <br/>  Existing warehouse and residential dwelling opportuni
 ty\n <br/>  Multiple income streams or future repositioning options\n <br
 />  Strong development potential (STCA)\n <br/>  Ideal for investors\, de
 velopers\, or owner-occupiers\n <br/> Opportunities of this scale and fle
 xibility are increasingly rare.</P></body></html>
END:VEVENT
END:VCALENDAR
