BEGIN:VCALENDAR
PRODID:-//commercialrealestate.com.au//NONSGML ical.net 4.0//EN
VERSION:2.0
BEGIN:VEVENT
DESCRIPTION:RARE RIPPONLEA OPPORTUNITY  INVEST/OCCUPY/DEVELOP (STCA)\nGros
 s Waddell ICR is pleased to present to the market 80 Glen Eira Road\, Rip
 ponlea for auction. This is a truly rare opportunity to secure a versatil
 e commercial asset in one of Melbourne's most tightly held boutique retai
 l precincts. Perfectly positioned for owner occupiers\, investors\, or de
 velopers (STCA)\, the property offers immediate income and exceptional po
 tential to unlock future value. Set within the heart of Ripponlea Village
 \, it benefits from a vibrant streetscape of cafes\, restaurants\, and sp
 ecialty retailers\, including the internationally acclaimed Attica\, offe
 ring the perfect blend of lifestyle and commercial opportunity.\n\nKey In
 vestment Highlights:\n\n Suited to owner-occupiers\, investors\, or devel
 opers (STCA) \n\n Offered with short-term income  \n\n Land size of 307sq
 m*\, ideal for redevelopment or expansion (STCA) \n\n Commercial 1 zoning
 \, enabling diverse commercial and mixed-use potential \n\n Dual street f
 rontages enhancing exposure and access \n\n Located in the heart of bouti
 que Ripponlea Village\, surrounded by thriving retailers\, cafes\, and in
 ternationally renowned dining \n\n First time offered in 40+ years\n\n80 
 Glen Eira Road\, Ripponlea is offered for sale via onsite Public Auction 
 on Thursday 21st May 2026 at 12pm. \n\nFor more information\, please cont
 act Gross Waddell ICR directly. \n\n*approx.
DTEND:20260521T130000
DTSTAMP:20260421T042531Z
DTSTART:20260521T120000
LOCATION:80 Glen Eira Road\, Ripponlea VIC
SEQUENCE:0
SUMMARY:Auction: 80 Glen Eira Road\, Ripponlea VIC
UID:CRE-2020777056-Auction
X-ALT-DESC;FMTTYPE=text/html:<!DOCTYPE HTML PUBLIC "-//W3C//DTD HTML 3.2//EN"><html><head><
 title></title></head><body><P DIR=LTR>RARE RIPPONLEA OPPORTUNITY  INVEST/
 OCCUPY/DEVELOP (STCA) <br/> Gross Waddell ICR is pleased to present to th
 e market 80 Glen Eira Road\, Ripponlea for auction. This is a truly rare 
 opportunity to secure a versatile commercial asset in one of Melbourne's 
 most tightly held boutique retail precincts. Perfectly positioned for own
 er occupiers\, investors\, or developers (STCA)\, the property offers imm
 ediate income and exceptional potential to unlock future value. Set withi
 n the heart of Ripponlea Village\, it benefits from a vibrant streetscape
  of cafes\, restaurants\, and specialty retailers\, including the interna
 tionally acclaimed Attica\, offering the perfect blend of lifestyle and c
 ommercial opportunity. <br/>  <br/> Key Investment Highlights: <br/>  <br
 />  Suited to owner-occupiers\, investors\, or developers (STCA)  <br/>  
 <br/>  Offered with short-term income   <br/>  <br/>  Land size of 307sqm
 *\, ideal for redevelopment or expansion (STCA)  <br/>  <br/>  Commercial
  1 zoning\, enabling diverse commercial and mixed-use potential  <br/>  <
 br/>  Dual street frontages enhancing exposure and access  <br/>  <br/>  
 Located in the heart of boutique Ripponlea Village\, surrounded by thrivi
 ng retailers\, cafes\, and internationally renowned dining  <br/>  <br/> 
  First time offered in 40+ years <br/>  <br/> 80 Glen Eira Road\, Ripponl
 ea is offered for sale via onsite Public Auction on Thursday 21st May 202
 6 at 12pm.  <br/>  <br/> For more information\, please contact Gross Wadd
 ell ICR directly.  <br/>  <br/> *approx.</P></body></html>
END:VEVENT
END:VCALENDAR
