BEGIN:VCALENDAR
PRODID:-//commercialrealestate.com.au//NONSGML ical.net 4.0//EN
VERSION:2.0
BEGIN:VEVENT
DESCRIPTION:PROMINENT MEDICAL FREEHOLD IN MAJOR RETAIL HUB\nVision Real Es
 tate is delighted to present this ideally located property offering outst
 anding upside and multiple potential uses (s.t.c.a).\n\nOn site Auction: 
 20th May at 12:30pm\n\nKey Features:\n\n+Prominent corner site of approxi
 mately 664 sqm*\n+Medical Clinic opportunity in a high traffic location\n
 +Surrounded by established national tenants\n+Situated within a valuable 
 Residential Growth Zone\n+Adjacent to ample public car parking + on site 
 parking\n+Significant development potential (s.t.c.a)\n\nThe corner posit
 ion enhances visibility and strengthens both business presence and future
  development prospects.\n\nThe area is strongly supported by major retail
 ers and services including Coles\, Chemist Warehouse\, multiple allied he
 alth providers\, and the Lalor Library.\n\nFor further information please
  contact Frank Romeo  0405 703 470\n\n*approximate
DTEND:20260520T133000
DTSTAMP:20260421T025537Z
DTSTART:20260520T123000
LOCATION:2 Cyprus Street\, Lalor VIC
SEQUENCE:0
SUMMARY:Auction: 2 Cyprus Street\, Lalor VIC
UID:CRE-2020776540-Auction
X-ALT-DESC;FMTTYPE=text/html:<!DOCTYPE HTML PUBLIC "-//W3C//DTD HTML 3.2//EN"><html><head><
 title></title></head><body><P DIR=LTR>PROMINENT MEDICAL FREEHOLD IN MAJOR
  RETAIL HUB <br/> Vision Real Estate is delighted to present this ideally
  located property offering outstanding upside and multiple potential uses
  (s.t.c.a). <br/>  <br/> On site Auction: 20th May at 12:30pm <br/>  <br/
 > Key Features: <br/>  <br/> +Prominent corner site of approximately 664 
 sqm* <br/> +Medical Clinic opportunity in a high traffic location <br/> +
 Surrounded by established national tenants <br/> +Situated within a valua
 ble Residential Growth Zone <br/> +Adjacent to ample public car parking +
  on site parking <br/> +Significant development potential (s.t.c.a) <br/>
   <br/> The corner position enhances visibility and strengthens both busi
 ness presence and future development prospects. <br/>  <br/> The area is 
 strongly supported by major retailers and services including Coles\, Chem
 ist Warehouse\, multiple allied health providers\, and the Lalor Library.
  <br/>  <br/> For further information please contact Frank Romeo  0405 70
 3 470 <br/>  <br/> *approximate</P></body></html>
END:VEVENT
END:VCALENDAR
