BEGIN:VCALENDAR
PRODID:-//commercialrealestate.com.au//NONSGML ical.net 4.0//EN
VERSION:2.0
BEGIN:VEVENT
DESCRIPTION:A Smart Industrial Investment or Owner-Occupier Opportunity\nS
 uperbly located in an established industrial pocket with neighbouring bus
 inesses including 99 Bikes\, Tint a Car\, Bunnings Warehouse\, Super Chea
 p Auto\, Total Tools and close to Northland Shopping Centre this small wa
 rehouse with first floor mezzanine offices is perfect for owner occupiers
  and investors alike.  The warehouse features:\n- Total building area 200
  sqm (approx)\n- ground floor warehouse with high clearance\n- First floo
 r airconditioned offices\n- Bathroom facilities on both levels\n- Industr
 ial 3 Zoning\n- 3 Off-street car spaces\n- Tilt door loading\n- Short ter
 m tenancy\n\nInspect by Appointment.
DTEND:20260520T140000
DTSTAMP:20260422T100923Z
DTSTART:20260520T130000
LOCATION:13/1 Bell Street\, Preston VIC
SEQUENCE:0
SUMMARY:Auction: 13/1 Bell Street\, Preston VIC
UID:CRE-2020776022-Auction
X-ALT-DESC;FMTTYPE=text/html:<!DOCTYPE HTML PUBLIC "-//W3C//DTD HTML 3.2//EN"><html><head><
 title></title></head><body><P DIR=LTR>A Smart Industrial Investment or Ow
 ner-Occupier Opportunity <br/> Superbly located in an established industr
 ial pocket with neighbouring businesses including 99 Bikes\, Tint a Car\,
  Bunnings Warehouse\, Super Cheap Auto\, Total Tools and close to Northla
 nd Shopping Centre this small warehouse with first floor mezzanine office
 s is perfect for owner occupiers and investors alike.  The warehouse feat
 ures: <br/> - Total building area 200 sqm (approx) <br/> - ground floor w
 arehouse with high clearance <br/> - First floor airconditioned offices <
 br/> - Bathroom facilities on both levels <br/> - Industrial 3 Zoning <br
 /> - 3 Off-street car spaces <br/> - Tilt door loading <br/> - Short term
  tenancy <br/>  <br/> Inspect by Appointment.</P></body></html>
END:VEVENT
END:VCALENDAR
