BEGIN:VCALENDAR
PRODID:-//commercialrealestate.com.au//NONSGML ical.net 4.0//EN
VERSION:2.0
BEGIN:VEVENT
DESCRIPTION:Opportunity Awaits with Fresh Feed & Strong Markets\nRay White
  Rural South Australia is proud to present 'Ferguson' to the market via p
 ublic auction\, an outstanding opportunity to secure a versatile grazing 
 property that combines healthy grazing land with strong lifestyle appeal.
 \n\nIdeally situated just North of Peterborough\, the property enjoys a c
 onvenient and accessible location on the fringe of reliable cropping coun
 try. Its proximity makes it well suited to operate in conjunction with a 
 broader agricultural enterprise\, particularly as a winter breeding block
  to support and complement existing livestock operations.\n\n• Total area
  of 371ha (916.74*acres)\n• Conveniently located 11*km North of Peterboro
 ugh\n• Healthy pastures comprising native clovers\, grasses and bush\n• S
 ecure water supply via an equipped solar bore\n• Fencing is considered to
  be in stock-proof condition\n• Ideally suited to complement an 'inside' 
 cropping enterprise\n• Vendor estimates long-term average annual rainfall
  of 332*mm\n\nFor a copy of the Information Memorandum please contact the
  Ray White Rural SA office.\n\nAUCTION\n2pm\, Friday 22nd May 2026\nJames
 town Football Clubrooms\n\nSam Krieg \n0484 288 698\n\nDaniel Schell \n04
 15 436 379\n\nGeoff Schell\n0418 842 421\n\n*approximately
DTEND:20260522T150000
DTSTAMP:20260420T130506Z
DTSTART:20260522T140000
LOCATION:Jamestown Football Clubrooms
SEQUENCE:0
SUMMARY:Auction: 'ferguson' Philps Road\, Minvalara SA
UID:CRE-2020775701-Auction
X-ALT-DESC;FMTTYPE=text/html:<!DOCTYPE HTML PUBLIC "-//W3C//DTD HTML 3.2//EN"><html><head><
 title></title></head><body><P DIR=LTR>Opportunity Awaits with Fresh Feed 
 & Strong Markets <br/> Ray White Rural South Australia is proud to presen
 t 'Ferguson' to the market via public auction\, an outstanding opportunit
 y to secure a versatile grazing property that combines healthy grazing la
 nd with strong lifestyle appeal.\n <br/> \n <br/> Ideally situated just N
 orth of Peterborough\, the property enjoys a convenient and accessible lo
 cation on the fringe of reliable cropping country. Its proximity makes it
  well suited to operate in conjunction with a broader agricultural enterp
 rise\, particularly as a winter breeding block to support and complement 
 existing livestock operations.\n <br/> \n <br/> • Total area of 371ha (91
 6.74*acres)\n <br/> • Conveniently located 11*km North of Peterborough\n 
 <br/> • Healthy pastures comprising native clovers\, grasses and bush\n <
 br/> • Secure water supply via an equipped solar bore\n <br/> • Fencing i
 s considered to be in stock-proof condition\n <br/> • Ideally suited to c
 omplement an 'inside' cropping enterprise\n <br/> • Vendor estimates long
 -term average annual rainfall of 332*mm\n <br/> \n <br/> For a copy of th
 e Information Memorandum please contact the Ray White Rural SA office.\n 
 <br/> \n <br/> AUCTION\n <br/> 2pm\, Friday 22nd May 2026\n <br/> Jamesto
 wn Football Clubrooms\n <br/> \n <br/> Sam Krieg \n <br/> 0484 288 698\n 
 <br/> \n <br/> Daniel Schell \n <br/> 0415 436 379\n <br/> \n <br/> Geoff
  Schell\n <br/> 0418 842 421\n <br/> \n <br/> *approximately</P></body></
 html>
END:VEVENT
END:VCALENDAR
