BEGIN:VCALENDAR
PRODID:-//commercialrealestate.com.au//NONSGML ical.net 4.0//EN
VERSION:2.0
BEGIN:VEVENT
DESCRIPTION:Set-and-Forget Metropolitan Childcare | 12-Year Net Lease + Op
 tions to 2064\nCBRE is pleased to offer to the market Journey Early Learn
 ing located at 271 Thompsons Road\, Templestowe Lower (Melbourne) VIC for
  sale via Investment Portfolio Auction 184.\n\nThis opportunity has the f
 ollowing key investment highlights:\n\n+ Twelve (12) year net lease to Ju
 ly 2034\n+ Three (3) further ten (10) year options to July 2064\n+ Journe
 y Early Learning: leading early education provider\, with a network of 42
  centres across the eastern seaboard and growing\n+ Landlord-favourable f
 ixed 3.25% annual rent increases\n+ Tenant pays all usual outgoings as pe
 r the lease\n+ Established 45 LDC place\, purpose-built childcare facilit
 y\, including 5 on-title car spaces with a history of consistent strong o
 ccupancy\n+ Prominent corner site situated within a significant schooling
  precinct with six schools within a 1.5-kilometre radius\n+ Strategically
  positioned on Thompsons Road with 30\,000+ vehicles passing daily* and d
 irect access to the Eastern Freeway\, offering seamless access to Melbour
 ne's + CBD and surrounding suburbs^\n+ Conveniently located within close 
 proximity to Macedon Square and Westfield Doncaster\, anchored by nationa
 l retailers\, including ALDI\, Coles\, Woolworths and over 350 specialty 
 retailers\n+ Templestowe Lower: only 13km* from Melbourne CBD\, affluent 
 inner metro suburb home to 14\,574 residents and a median house price of 
 $1.35 million^^\n+ Childcare/Early Education is an essential service asse
 t class with both Federal & State Government's allocating over $16 billio
 n in funding for FY25\, including $3.6 billion supporting wages and $1 bi
 llion to expand access in underserved areas.\n+ Net Income: $187\,173 pa*
  + GST\n\nFor Sale by Investment Portfolio Auction\n10:30am AEST Wednesda
 y 13 May 2026\nGarden Room\, Melbourne Crown Casino VIC\n\nPlease contact
  the exclusively appointed team for more information.\n\n* Approx\n^ Gapm
 aps\n^^ Forecast.id
DTEND:20260513T113000
DTSTAMP:20260420T082456Z
DTSTART:20260513T103000
LOCATION:Crown Casino - Garden Room - Melbourne
SEQUENCE:0
SUMMARY:Auction: 271 Thompsons Road\, Templestowe Lower VIC
UID:CRE-2020775001-Auction
X-ALT-DESC;FMTTYPE=text/html:<!DOCTYPE HTML PUBLIC "-//W3C//DTD HTML 3.2//EN"><html><head><
 title></title></head><body><P DIR=LTR>Set-and-Forget Metropolitan Childca
 re | 12-Year Net Lease + Options to 2064 <br/> CBRE is pleased to offer t
 o the market Journey Early Learning located at 271 Thompsons Road\, Templ
 estowe Lower (Melbourne) VIC for sale via Investment Portfolio Auction 18
 4. <br/>  <br/> This opportunity has the following key investment highlig
 hts: <br/>  <br/> + Twelve (12) year net lease to July 2034 <br/> + Three
  (3) further ten (10) year options to July 2064 <br/> + Journey Early Lea
 rning: leading early education provider\, with a network of 42 centres ac
 ross the eastern seaboard and growing <br/> + Landlord-favourable fixed 3
 .25% annual rent increases <br/> + Tenant pays all usual outgoings as per
  the lease <br/> + Established 45 LDC place\, purpose-built childcare fac
 ility\, including 5 on-title car spaces with a history of consistent stro
 ng occupancy <br/> + Prominent corner site situated within a significant 
 schooling precinct with six schools within a 1.5-kilometre radius <br/> +
  Strategically positioned on Thompsons Road with 30\,000+ vehicles passin
 g daily* and direct access to the Eastern Freeway\, offering seamless acc
 ess to Melbourne's + CBD and surrounding suburbs^ <br/> + Conveniently lo
 cated within close proximity to Macedon Square and Westfield Doncaster\, 
 anchored by national retailers\, including ALDI\, Coles\, Woolworths and 
 over 350 specialty retailers <br/> + Templestowe Lower: only 13km* from M
 elbourne CBD\, affluent inner metro suburb home to 14\,574 residents and 
 a median house price of $1.35 million^^ <br/> + Childcare/Early Education
  is an essential service asset class with both Federal & State Government
 's allocating over $16 billion in funding for FY25\, including $3.6 billi
 on supporting wages and $1 billion to expand access in underserved areas.
  <br/> + Net Income: $187\,173 pa* + GST <br/>  <br/> For Sale by Investm
 ent Portfolio Auction <br/> 10:30am AEST Wednesday 13 May 2026 <br/> Gard
 en Room\, Melbourne Crown Casino VIC <br/>  <br/> Please contact the excl
 usively appointed team for more information. <br/>  <br/> * Approx <br/> 
 ^ Gapmaps <br/> ^^ Forecast.id</P></body></html>
END:VEVENT
END:VCALENDAR
