BEGIN:VCALENDAR
PRODID:-//commercialrealestate.com.au//NONSGML ical.net 4.0//EN
VERSION:2.0
BEGIN:VEVENT
DESCRIPTION:First time offered in over a century.\n5074 Alpha-Tambo Road\,
  Alpha\nFOR SALE BY AUCTION\n\n"Durrandella"\n25\,700*  **Hectare Leaseho
 ld Grazing Holding\nAlpha / Tambo District\n\nOffered to the market for t
 he first time in over 100 years\, Durrandella is a substantial Central We
 st grazing property with scale\, history and proven production. Located o
 ff the western side of the AlphaTambo Road\, the property sits 51* kilome
 tres south of Alpha and 90* kilometres north of Tambo.\n\nDurrandella com
 prises 25\,700 * ** hectares held under a single term lease. A 263.046 he
 ctare camping and water reserve (Lot 2 on DM10)\, currently utilized by t
 he lessee\, is excluded from the sale. The property is naturally split by
  a section of the Great Dividing Range\, forming two distinct areas known
  as the Back Country and the Front Country. The Back Country is the stron
 ger part of the holding\, with established buffel grass and a mix of brig
 alow\, ironbark and box country. The Front Country sits closer to the hom
 estead and includes areas of buffel grass supported by lighter country.\n
 \nThe property is watered by a combination of bores and dams and is adequ
 ately fenced. There are three sets of cattle yards in place\, along with 
 a laneway system that assists with the movement of stock across the prope
 rty. Improvements include a homestead\, second dwelling\, quarters\, work
 shop and shedding.\n\nThe property is set up and has been run as a cattle
  grazing operation\, with a layout that allows it to be worked in a strai
 ghtforward and practical manner.\nProperty is being sold bare of livestoc
 k. \n\n\nTo Be Auctioned\nTuesday\, 26th  May 2026 at 10:00am\nWestern Ga
 teway Motel\, Emerald\n\n\nInformation Memorandum available on request -\
 n\nRobert Murolo 0418 799 934  \n\nMark Barber 0427 603 433 | Elders Rura
 l Services\n\n* Approximately\n**Excludes 263.046 hectare camping and wat
 er reserve\n\nDisclaimer\nThis property is being sold by auction or witho
 ut a price and therefore a price guide can not be provided. The website m
 ay have filtered the property into a price bracket for website functional
 ity purposes
DTEND:20260526T110000
DTSTAMP:20260420T072540Z
DTSTART:20260526T100000
LOCATION:Western Gateway Motel Emerald
SEQUENCE:0
SUMMARY:Auction: 5074 Alpha Tambo Road\, Alpha QLD
UID:CRE-2020774846-Auction
X-ALT-DESC;FMTTYPE=text/html:<!DOCTYPE HTML PUBLIC "-//W3C//DTD HTML 3.2//EN"><html><head><
 title></title></head><body><P DIR=LTR>First time offered in over a centur
 y. <br/> 5074 Alpha-Tambo Road\, Alpha <br/> FOR SALE BY AUCTION <br/>  <
 br/> "Durrandella" <br/> 25\,700*  **Hectare Leasehold Grazing Holding <b
 r/> Alpha / Tambo District <br/>  <br/> Offered to the market for the fir
 st time in over 100 years\, Durrandella is a substantial Central West gra
 zing property with scale\, history and proven production. Located off the
  western side of the AlphaTambo Road\, the property sits 51* kilometres s
 outh of Alpha and 90* kilometres north of Tambo. <br/>  <br/> Durrandella
  comprises 25\,700 * ** hectares held under a single term lease. A 263.04
 6 hectare camping and water reserve (Lot 2 on DM10)\, currently utilized 
 by the lessee\, is excluded from the sale. The property is naturally spli
 t by a section of the Great Dividing Range\, forming two distinct areas k
 nown as the Back Country and the Front Country. The Back Country is the s
 tronger part of the holding\, with established buffel grass and a mix of 
 brigalow\, ironbark and box country. The Front Country sits closer to the
  homestead and includes areas of buffel grass supported by lighter countr
 y. <br/>  <br/> The property is watered by a combination of bores and dam
 s and is adequately fenced. There are three sets of cattle yards in place
 \, along with a laneway system that assists with the movement of stock ac
 ross the property. Improvements include a homestead\, second dwelling\, q
 uarters\, workshop and shedding. <br/>  <br/> The property is set up and 
 has been run as a cattle grazing operation\, with a layout that allows it
  to be worked in a straightforward and practical manner. <br/> Property i
 s being sold bare of livestock.  <br/>  <br/>  <br/> To Be Auctioned <br/
 > Tuesday\, 26th  May 2026 at 10:00am <br/> Western Gateway Motel\, Emera
 ld <br/>  <br/>  <br/> Information Memorandum available on request - <br/
 >  <br/> Robert Murolo 0418 799 934   <br/>  <br/> Mark Barber 0427 603 4
 33 | Elders Rural Services <br/>  <br/> * Approximately <br/> **Excludes 
 263.046 hectare camping and water reserve <br/>  <br/> Disclaimer <br/> T
 his property is being sold by auction or without a price and therefore a 
 price guide can not be provided. The website may have filtered the proper
 ty into a price bracket for website functionality purposes</P></body></ht
 ml>
END:VEVENT
END:VCALENDAR
