BEGIN:VCALENDAR
PRODID:-//commercialrealestate.com.au//NONSGML ical.net 4.0//EN
VERSION:2.0
BEGIN:VEVENT
DESCRIPTION:Prime Ground Floor Commercial Opportunity in Chatswood\nShead 
 Property is delighted to present for sale by way of Public Auction\, Grou
 nd Floor Commercial\, 781 Pacific Highway\, Chatswood.\n\nPositioned alon
 g the highly visible Pacific Highway\, this exceptional ground floor comm
 ercial property presents a rare opportunity to secure a prominent investm
 ent or owner-occupier premises in the heart of Chatswood.\n\nThe property
  offers a substantial 269sqm internal area together with four (4) secure 
 car spaces\, benefiting from outstanding exposure to Pacific Highway and 
 strong passing vehicle traffic.\n\nFeaturing a wide double shopfront\, th
 e premises provide excellent signage opportunities and strong street pres
 ence. Located directly opposite Chatswood Public School\, the property en
 joys excellent visibility and a strategic position within one of the Nort
 h Shore's most active commercial corridors.\n\nOffered with vacant posses
 sion\, this is an outstanding opportunity for both owner-occupiers and in
 vestors seeking a high-profile commercial asset in a tightly held locatio
 n.\n\nKey Features:\n	Ground floor commercial premises of 269sqm\n	Four (
 4) secure car spaces\n	Self-contained with bathroom and kitchen amenities
 \n	Prime Pacific Highway exposure with strong passing traffic\n	Wide doub
 le shopfront providing excellent signage and visibility\n	Positioned dire
 ctly opposite Chatswood Public School\n	Offered with vacant possession\n\
 nAuction commencing 10.30am\, Tuesday 26th May 2026\nMezzanine Level\, 50
  Margaret Street\, Sydney\n\nFor further information please contact:\n\nB
 ill Geroulis\n0413 100 200 | bill@shead.com.au\n\nIvor Zhou\n0430 248 867
  | i.zhou@shead.com.au\n\nRick Sombroek\n0412 280 181 | rick@shead.com.au
 \n\nDisclaimer: All data is provided for information purposes only and wh
 ile all care is taken in its presentation\, Shead Property does not guara
 ntee or warrant the accuracy\, completeness or currency of the informatio
 n.
DTEND:20260526T113000
DTSTAMP:20260420T053726Z
DTSTART:20260526T103000
LOCATION:AuctionWorks
SEQUENCE:0
SUMMARY:Auction: Gf Comm/781 Pacific Highway\, Chatswood NSW
UID:CRE-2020774382-Auction
X-ALT-DESC;FMTTYPE=text/html:<!DOCTYPE HTML PUBLIC "-//W3C//DTD HTML 3.2//EN"><html><head><
 title></title></head><body><P DIR=LTR>Prime Ground Floor Commercial Oppor
 tunity in Chatswood <br/> Shead Property is delighted to present for sale
  by way of Public Auction\, Ground Floor Commercial\, 781 Pacific Highway
 \, Chatswood. <br/>  <br/> Positioned along the highly visible Pacific Hi
 ghway\, this exceptional ground floor commercial property presents a rare
  opportunity to secure a prominent investment or owner-occupier premises 
 in the heart of Chatswood. <br/>  <br/> The property offers a substantial
  269sqm internal area together with four (4) secure car spaces\, benefiti
 ng from outstanding exposure to Pacific Highway and strong passing vehicl
 e traffic. <br/>  <br/> Featuring a wide double shopfront\, the premises 
 provide excellent signage opportunities and strong street presence. Locat
 ed directly opposite Chatswood Public School\, the property enjoys excell
 ent visibility and a strategic position within one of the North Shore's m
 ost active commercial corridors. <br/>  <br/> Offered with vacant possess
 ion\, this is an outstanding opportunity for both owner-occupiers and inv
 estors seeking a high-profile commercial asset in a tightly held location
 . <br/>  <br/> Key Features: <br/> 	Ground floor commercial premises of 2
 69sqm <br/> 	Four (4) secure car spaces <br/> 	Self-contained with bathro
 om and kitchen amenities <br/> 	Prime Pacific Highway exposure with stron
 g passing traffic <br/> 	Wide double shopfront providing excellent signag
 e and visibility <br/> 	Positioned directly opposite Chatswood Public Sch
 ool <br/> 	Offered with vacant possession <br/>  <br/> Auction commencing
  10.30am\, Tuesday 26th May 2026 <br/> Mezzanine Level\, 50 Margaret Stre
 et\, Sydney <br/>  <br/> For further information please contact: <br/>  <
 br/> Bill Geroulis <br/> 0413 100 200 | bill@shead.com.au <br/>  <br/> Iv
 or Zhou <br/> 0430 248 867 | i.zhou@shead.com.au <br/>  <br/> Rick Sombro
 ek <br/> 0412 280 181 | rick@shead.com.au <br/>  <br/> Disclaimer: All da
 ta is provided for information purposes only and while all care is taken 
 in its presentation\, Shead Property does not guarantee or warrant the ac
 curacy\, completeness or currency of the information.</P></body></html>
END:VEVENT
END:VCALENDAR
