BEGIN:VCALENDAR
PRODID:-//commercialrealestate.com.au//NONSGML ical.net 4.0//EN
VERSION:2.0
BEGIN:VEVENT
DESCRIPTION:Double Shop with Unbeatable Exposure on Victoria Road\nIB Prop
 erty proudly presents 112 Victoria Road\, Drummoyne\, a traditional two-l
 evel brick terrace offering a rare blend of commercial and residential fl
 exibility in a highly sought-after location.\n\nPositioned just moments f
 rom Sydney's CBD\, this unique property boasts exceptional exposure along
  one of Sydney's busiest arterial roads. The site is also located within 
 the emerging Low to Mid-Rise Housing Policy zone\, presenting exciting fu
 ture development potential (STCA). With separate access\, this property o
 ffers investors\, owner-occupiers\, and value-add buyers exceptional flex
 ibility to configure the space to suit their needs. The ground floor feat
 ures a double shopfront and a spacious open-plan layout\, ideal for retai
 l\, showroom\, or professional use. Upstairs\, the property offers four w
 ell-proportioned rooms\, a living and dining area and separate amenities 
 on both levels\, providing versatility for continued commercial use or re
 sidential conversion.\n\nSituated in a well established neighbourhood\, t
 he property is surrounded by a vibrant mix of retailers\, cafés\, and ess
 ential services\, ensuring strong foot traffic and lifestyle appeal. Mome
 nts from Birkenhead Point Brand Outlet near Iron Cove Bridge\, it also be
 nefits from a major retail destination and nearby recreational amenities\
 , enhancing its convenience and long-term appeal.\n\nKey Features:\n- 294
 SQM of Land Area\n- Double Shopfront \n- Separate Access for Dual Occupan
 cy\n- Mixed-Use Zoning\n- Floor Space Ratio: 2:1\n- Excellent Public Tran
 sport along Victoria Road\n- Highly Populated & High-Exposure Location\n\
 nThis is a rare opportunity to secure a high-exposure asset with flexible
  usage and strong future upside in a tightly held precinct.\n\n112 Victor
 ia Road\, Drummoyne is for sale via Public Auction at Cooley Auction Room
 s\, Level 1/29-33 Bay St\, Double Bay NSW 2028 on Thursday 21st of May 20
 26\, 10:30am.\n\nFor more information\, contact the exclusive selling age
 nts:\n\nDaniel Cipolla: 0450 633 644\nJosh Fornito: 0478 058 868
DTEND:20260521T113000
DTSTAMP:20260420T042113Z
DTSTART:20260521T103000
LOCATION:112 Victoria Road\, Drummoyne NSW
SEQUENCE:0
SUMMARY:Auction: 112 Victoria Road\, Drummoyne NSW
UID:CRE-2020774025-Auction
X-ALT-DESC;FMTTYPE=text/html:<!DOCTYPE HTML PUBLIC "-//W3C//DTD HTML 3.2//EN"><html><head><
 title></title></head><body><P DIR=LTR>Double Shop with Unbeatable Exposur
 e on Victoria Road <br/> IB Property proudly presents 112 Victoria Road\,
  Drummoyne\, a traditional two-level brick terrace offering a rare blend 
 of commercial and residential flexibility in a highly sought-after locati
 on. <br/>  <br/> Positioned just moments from Sydney's CBD\, this unique 
 property boasts exceptional exposure along one of Sydney's busiest arteri
 al roads. The site is also located within the emerging Low to Mid-Rise Ho
 using Policy zone\, presenting exciting future development potential (STC
 A). With separate access\, this property offers investors\, owner-occupie
 rs\, and value-add buyers exceptional flexibility to configure the space 
 to suit their needs. The ground floor features a double shopfront and a s
 pacious open-plan layout\, ideal for retail\, showroom\, or professional 
 use. Upstairs\, the property offers four well-proportioned rooms\, a livi
 ng and dining area and separate amenities on both levels\, providing vers
 atility for continued commercial use or residential conversion. <br/>  <b
 r/> Situated in a well established neighbourhood\, the property is surrou
 nded by a vibrant mix of retailers\, cafés\, and essential services\, ens
 uring strong foot traffic and lifestyle appeal. Moments from Birkenhead P
 oint Brand Outlet near Iron Cove Bridge\, it also benefits from a major r
 etail destination and nearby recreational amenities\, enhancing its conve
 nience and long-term appeal. <br/>  <br/> Key Features: <br/> - 294SQM of
  Land Area <br/> - Double Shopfront  <br/> - Separate Access for Dual Occ
 upancy <br/> - Mixed-Use Zoning <br/> - Floor Space Ratio: 2:1 <br/> - Ex
 cellent Public Transport along Victoria Road <br/> - Highly Populated & H
 igh-Exposure Location <br/>  <br/> This is a rare opportunity to secure a
  high-exposure asset with flexible usage and strong future upside in a ti
 ghtly held precinct. <br/>  <br/> 112 Victoria Road\, Drummoyne is for sa
 le via Public Auction at Cooley Auction Rooms\, Level 1/29-33 Bay St\, Do
 uble Bay NSW 2028 on Thursday 21st of May 2026\, 10:30am. <br/>  <br/> Fo
 r more information\, contact the exclusive selling agents: <br/>  <br/> D
 aniel Cipolla: 0450 633 644 <br/> Josh Fornito: 0478 058 868</P></body></
 html>
END:VEVENT
END:VCALENDAR
