BEGIN:VCALENDAR
PRODID:-//commercialrealestate.com.au//NONSGML ical.net 4.0//EN
VERSION:2.0
BEGIN:VEVENT
DESCRIPTION:Secure Medical Freehold Investment\nCRS Property is pleased to
  offer 163 Wheatsheaf Road\, Glenroy by way of public auction on Friday 2
 2nd May at 1.00pm onsite.\n\nAn excellent opportunity to secure a highly 
 sought asset with two street frontages\, securely leased to an establishe
 d medical tenant and situated within a major strip shopping centre in the
  heart of Glenroys shopping precinct. \n\nThe Key attributes of this outs
 tanding opportunity include:\n\n•	Medical grade fitout for specialised ra
 diology reservices with consultants & treatments rooms and waiting area.\
 n•	The specialist building spans 186 sqm* and benefits from 6.7m* frontag
 e\n•	Land area: 186 sqm.*\n•	3 + 3 years lease from October 2024\n•	Curre
 ntly returning $45\,034 per annum plus statutory outgoings and GST.\n•	Le
 ased to Matrix Medical Imaging well established and reputable medical rad
 iology business delivering CT scans X rays and Ultrasounds with 6 locatio
 ns throughout Victoria \n•	Commercial 1 zoned landholding with a second f
 rontage to a Right of Way at the rear\n•	Large Council car parking at rea
 r.\n•	First time offered in 44 years \n•	Located in a high exposure and h
 ighly convenient position with direct proximity to the Glenroy train stat
 ion and 13km's from the Melbourne CBD.\n•	An affordable opportunity to se
 cure a property within an established neighbourhood precinct.\n\nThis pro
 perty offers peace of mind for any investor being securely leased to medi
 cal tenant\, Matrix Medical Imaging\, an exclusive retail shop ticking al
 l the boxes when assessing the investment opportunity at hand.\n\nFOR SAL
 E BY PUBLIC AUCTION FRIDAY 22ND MAY AT 1.00PM ON SITE\n\nTo obtain furthe
 r information or to arrange an inspection\, please contact CRS Property s
 elling agents.
DTEND:20260522T140000
DTSTAMP:20260420T025920Z
DTSTART:20260522T130000
LOCATION:163 Wheatsheaf Road\, Glenroy VIC
SEQUENCE:0
SUMMARY:Auction: 163 Wheatsheaf Road\, Glenroy VIC
UID:CRE-2020773914-Auction
X-ALT-DESC;FMTTYPE=text/html:<!DOCTYPE HTML PUBLIC "-//W3C//DTD HTML 3.2//EN"><html><head><
 title></title></head><body><P DIR=LTR>Secure Medical Freehold Investment 
 <br/> CRS Property is pleased to offer 163 Wheatsheaf Road\, Glenroy by w
 ay of public auction on Friday 22nd May at 1.00pm onsite.\n <br/> \n <br/
 > An excellent opportunity to secure a highly sought asset with two stree
 t frontages\, securely leased to an established medical tenant and situat
 ed within a major strip shopping centre in the heart of Glenroys shopping
  precinct. \n <br/> \n <br/> The Key attributes of this outstanding oppor
 tunity include:\n <br/> \n <br/> •	Medical grade fitout for specialised r
 adiology reservices with consultants & treatments rooms and waiting area.
 \n <br/> •	The specialist building spans 186 sqm* and benefits from 6.7m*
  frontage\n <br/> •	Land area: 186 sqm.*\n <br/> •	3 + 3 years lease from
  October 2024\n <br/> •	Currently returning $45\,034 per annum plus statu
 tory outgoings and GST.\n <br/> •	Leased to Matrix Medical Imaging well e
 stablished and reputable medical radiology business delivering CT scans X
  rays and Ultrasounds with 6 locations throughout Victoria \n <br/> •	Com
 mercial 1 zoned landholding with a second frontage to a Right of Way at t
 he rear\n <br/> •	Large Council car parking at rear.\n <br/> •	First time
  offered in 44 years \n <br/> •	Located in a high exposure and highly con
 venient position with direct proximity to the Glenroy train station and 1
 3km's from the Melbourne CBD.\n <br/> •	An affordable opportunity to secu
 re a property within an established neighbourhood precinct.\n <br/> \n <b
 r/> This property offers peace of mind for any investor being securely le
 ased to medical tenant\, Matrix Medical Imaging\, an exclusive retail sho
 p ticking all the boxes when assessing the investment opportunity at hand
 .\n <br/> \n <br/> FOR SALE BY PUBLIC AUCTION FRIDAY 22ND MAY AT 1.00PM O
 N SITE\n <br/> \n <br/> To obtain further information or to arrange an in
 spection\, please contact CRS Property selling agents.</P></body></html>
END:VEVENT
END:VCALENDAR
