BEGIN:VCALENDAR
PRODID:-//commercialrealestate.com.au//NONSGML ical.net 4.0//EN
VERSION:2.0
BEGIN:VEVENT
DESCRIPTION:"The Stockade" on Bennys Creek\n• Over 130 acres of prime red 
 soil country on the edge of the spectacular Eureka Plateau\n• The private
 ly positioned\, tastefully renovated residence overlooks the big beautifu
 l dam for family recreation\n• The home features cathedral ceilings\, new
  kitchen and bathrooms and bright and airy open plan living spaces\n• You
 r choice of several alternate homesites offering panoramic mountain outlo
 ok to the north\n• Huge list of farm infrastructure includes an enormous 
 8 bay machine shed\, workers amenities and spacious self contained studio
 \n• Producing orchard provides handy cash flow+ tax advantages PLUS acres
  of pasture improved paddocks for grazing livestock\n\nSet on the edge of
  the breathtaking Eureka Plateau\, this exceptional 130+ acre holding sho
 wcases the very best of rich red soil country\, combining lifestyle\, pro
 ductivity\, and stunning natural beauty in one outstanding package.\n\nPr
 ivately positioned to capture peaceful surrounds\, the tastefully renovat
 ed residence enjoys a picturesque outlook over a large\, sparkling dam-pe
 rfect for family recreation and relaxed rural living. Inside\, the home i
 mpresses with soaring cathedral ceilings\, a brand-new kitchen and bathro
 oms\, and light-filled open plan living spaces designed for comfort and c
 onnection.\n\nBeyond the existing home\, the property offers a selection 
 of elevated alternate homesites\, each taking full advantage of sweeping 
 northern mountain panoramas-ideal for those looking to expand or create a
  dream retreat.\n\nWell-equipped for both lifestyle and agricultural purs
 uits\, the property boasts extensive infrastructure including an enormous
  8-bay machine shed\, workers amenities\, and a spacious self-contained s
 tudio-perfect for guests\, staff\, or additional income potential.\n\nAdd
 ing to its appeal\, the established producing orchard delivers reliable c
 ash flow along with valuable primary producer tax benefits\, while acres 
 of pasture-improved paddocks provide excellent grazing for livestock.\n\n
 A rare opportunity to secure a versatile and highly productive rural prop
 erty in a tightly held and scenic location-this is country living at its 
 finest.\n\nTruly\, "The Stockade" is a quality farm in a handy location\,
  with gentle slopes and plenty of irrigation water (plus town water avail
 able)- a great start to your new rural lifestyle
DTEND:20260509T103000
DTSTAMP:20260424T082838Z
DTSTART:20260509T093000
LOCATION:323 Eureka Road\, Eureka NSW
SEQUENCE:0
SUMMARY:Auction: 323 Eureka Road\, Eureka NSW
UID:CRE-2020665967-Auction
X-ALT-DESC;FMTTYPE=text/html:<!DOCTYPE HTML PUBLIC "-//W3C//DTD HTML 3.2//EN"><html><head><
 title></title></head><body><P DIR=LTR>"The Stockade" on Bennys Creek <br/
 > • Over 130 acres of prime red soil country on the edge of the spectacul
 ar Eureka Plateau\n <br/> • The privately positioned\, tastefully renovat
 ed residence overlooks the big beautiful dam for family recreation\n <br/
 > • The home features cathedral ceilings\, new kitchen and bathrooms and 
 bright and airy open plan living spaces\n <br/> • Your choice of several 
 alternate homesites offering panoramic mountain outlook to the north\n <b
 r/> • Huge list of farm infrastructure includes an enormous 8 bay machine
  shed\, workers amenities and spacious self contained studio\n <br/> • Pr
 oducing orchard provides handy cash flow+ tax advantages PLUS acres of pa
 sture improved paddocks for grazing livestock\n <br/> \n <br/> Set on the
  edge of the breathtaking Eureka Plateau\, this exceptional 130+ acre hol
 ding showcases the very best of rich red soil country\, combining lifesty
 le\, productivity\, and stunning natural beauty in one outstanding packag
 e.\n <br/> \n <br/> Privately positioned to capture peaceful surrounds\, 
 the tastefully renovated residence enjoys a picturesque outlook over a la
 rge\, sparkling dam-perfect for family recreation and relaxed rural livin
 g. Inside\, the home impresses with soaring cathedral ceilings\, a brand-
 new kitchen and bathrooms\, and light-filled open plan living spaces desi
 gned for comfort and connection.\n <br/> \n <br/> Beyond the existing hom
 e\, the property offers a selection of elevated alternate homesites\, eac
 h taking full advantage of sweeping northern mountain panoramas-ideal for
  those looking to expand or create a dream retreat.\n <br/> \n <br/> Well
 -equipped for both lifestyle and agricultural pursuits\, the property boa
 sts extensive infrastructure including an enormous 8-bay machine shed\, w
 orkers amenities\, and a spacious self-contained studio-perfect for guest
 s\, staff\, or additional income potential.\n <br/> \n <br/> Adding to it
 s appeal\, the established producing orchard delivers reliable cash flow 
 along with valuable primary producer tax benefits\, while acres of pastur
 e-improved paddocks provide excellent grazing for livestock.\n <br/> \n <
 br/> A rare opportunity to secure a versatile and highly productive rural
  property in a tightly held and scenic location-this is country living at
  its finest.\n <br/> \n <br/> Truly\, "The Stockade" is a quality farm in
  a handy location\, with gentle slopes and plenty of irrigation water (pl
 us town water available)- a great start to your new rural lifestyle</P></
 body></html>
END:VEVENT
END:VCALENDAR
